BEGIN:VCALENDAR
VERSION:2.0
PRODID:-//faroshelp.gr - ECPv6.15.20//NONSGML v1.0//EN
CALSCALE:GREGORIAN
METHOD:PUBLISH
X-ORIGINAL-URL:https://www.faroshelp.gr
X-WR-CALDESC:Events for faroshelp.gr
REFRESH-INTERVAL;VALUE=DURATION:PT1H
X-Robots-Tag:noindex
X-PUBLISHED-TTL:PT1H
BEGIN:VTIMEZONE
TZID:Europe/Athens
BEGIN:DAYLIGHT
TZOFFSETFROM:+0200
TZOFFSETTO:+0300
TZNAME:EEST
DTSTART:20250330T010000
END:DAYLIGHT
BEGIN:STANDARD
TZOFFSETFROM:+0300
TZOFFSETTO:+0200
TZNAME:EET
DTSTART:20251026T010000
END:STANDARD
BEGIN:DAYLIGHT
TZOFFSETFROM:+0200
TZOFFSETTO:+0300
TZNAME:EEST
DTSTART:20260329T010000
END:DAYLIGHT
BEGIN:STANDARD
TZOFFSETFROM:+0300
TZOFFSETTO:+0200
TZNAME:EET
DTSTART:20261025T010000
END:STANDARD
BEGIN:DAYLIGHT
TZOFFSETFROM:+0200
TZOFFSETTO:+0300
TZNAME:EEST
DTSTART:20270328T010000
END:DAYLIGHT
BEGIN:STANDARD
TZOFFSETFROM:+0300
TZOFFSETTO:+0200
TZNAME:EET
DTSTART:20271031T010000
END:STANDARD
END:VTIMEZONE
BEGIN:VEVENT
DTSTART;TZID=Europe/Athens:20260215T190000
DTEND;TZID=Europe/Athens:20260215T210000
DTSTAMP:20260424T180201
CREATED:20260209T150749Z
LAST-MODIFIED:20260209T150749Z
UID:11342-1771182000-1771189200@www.faroshelp.gr
SUMMARY:"Σχέσεις ζευγών"\,  δίωρο σεμινάριο με την Π. Χριστοφή
DESCRIPTION:«…Ἡ Συνειδητή\, ἡ Πλήρης Ἐρωτική Συνεύρεση διευρύνει τήν Ἀντίληψη καί διευκολύνει τήν Διαίσθηση\, ὀξύνοντας τά ὄργανα πρόσληψης καί ἐπεξεργασίας ἐρεθισμάτων σέ ὅλα τά λειτουργοῦντα σώματα καί ἕνα βῆμα πάνω ἀπ’ αὐτά…» \n\nΟΙΚΟΝΟΜΙΚΗ ΕΝΗΜΕΡΩΣΗ: \nΣυμμετοχή 25 ευρω \nΕΝΗΜΕΡΩΣΗ ΑΠΟ ΤΗΝ ΓΡΑΜΜΑΤΕΙΑ: \nΓια να λαμβάνετε τις σχετικές ενημερώσεις\, για την εκάστοτε δράση παρακαλούμε να εγγραφείτε στο σημείο “ΕΠΙΚΟΙΝΩΝΙΑ” \nΚάτω δεξιά στο “Εγγραφείτε τώρα” (Ελέγχετε όλες τις κατηγορίες του ηλεκτρονικού σας ταχυδρομείο.). \nΤέλος\, μπορείτε να ενημερώνεστε ανα πάσα στιγμή για το μηνιαίο πρόγραμμα στην ιστοσελίδα. \nΓια περισσότερες πληροφορίες μπορείτε να στέλνετε μήνυμα στο faros.mko@gmail.com ή τηλεφωνικώς στο 6989648727 (Μελίνα)
URL:https://www.faroshelp.gr/event/%cf%83%cf%87%ce%ad%cf%83%ce%b5%ce%b9%cf%82-%ce%b6%ce%b5%cf%85%ce%b3%cf%8e%ce%bd-%ce%b4%ce%af%cf%89%cf%81%ce%bf-%cf%83%ce%b5%ce%bc%ce%b9%ce%bd%ce%ac%cf%81%ce%b9%ce%bf-%ce%bc%ce%b5-%cf%84%ce%b7/
LOCATION:Διαδικτυακώς
END:VEVENT
BEGIN:VEVENT
DTSTART;TZID=Europe/Athens:20260217T203000
DTEND;TZID=Europe/Athens:20260217T213000
DTSTAMP:20260424T180201
CREATED:20251018T112630Z
LAST-MODIFIED:20251018T112630Z
UID:11194-1771360200-1771363800@www.faroshelp.gr
SUMMARY:ΕΛΕΥΘΕΡΗ ΣΥΜΜΕΤΟΧΗ - ΝΕΑ ΣΕΛΗΝΗ: ΔΙΑΛΟΓΙΣΤΙΚΗ ΠΡΑΞΗ ΑΦΙΕΡΩΜΕΝΗ ΣΤΑ ΠΑΙΔΙΑ ΤΟΥ ΑΝΘΡΩΠΟΥ
DESCRIPTION:ΓΙΑ ΝΑ ΛΑΒΕΤΕ ΤΑ ΣΤΟΙΧΕΙΑ ΣΥΝΔΕΣΕΩΣ\, ΜΕΣΩ ΖΟΟΜ:  ΣΤΕΙΛΕΤΕ mail στο ηλ. ταχυδρομείο faros.mko@gmail.com ή εγγραφείτε στο παρόν \nἈνταποκρινόμενοι στήν Ἀνάγκη\, κατά μέτρον καί δυνατότητα\, ἐνισχύουμε τόν  κύκλο Ὑπηρεσίας μας. Λειτουργοῦμε γιά τήν Ἑλλάδα\, γιά τόν λαό μας\, γιά τόν Ἄνθρωπο καί τήν Γαία\, στά Ἡλιοστάσια\, στίς Ἰσημερίες καί  στήν πανσέληνο. \nἈπό τόν Ὀκτώβριο 2024 καί κάθε μῆνα\, στήν Νέα Σελήνη\, καθιερώνουμε\nΔιαλογιστική πράξη ἀφιερωμένη στά παιδιά τοῦ λαοῦ μας\, στά παιδιά τοῦ Ἀνθρώπου. \nΓια περισσότερες πληροφορίες μπορείτε να στέλνετε μήνυμα στο faros.mko@gmail.com ή τηλεφωνικώς 6989648727 (Μελίνα)
URL:https://www.faroshelp.gr/event/%ce%b5%ce%bb%ce%b5%cf%85%ce%b8%ce%b5%cf%81%ce%b7-%cf%83%cf%85%ce%bc%ce%bc%ce%b5%cf%84%ce%bf%cf%87%ce%b7-%ce%bd%ce%b5%ce%b1-%cf%83%ce%b5%ce%bb%ce%b7%ce%bd%ce%b7-%ce%b4%ce%b9%ce%b1%ce%bb%ce%bf%ce%b3-9/
LOCATION:Διαδικτυακώς
END:VEVENT
BEGIN:VEVENT
DTSTART;TZID=Europe/Athens:20260222T190000
DTEND;TZID=Europe/Athens:20260222T210000
DTSTAMP:20260424T180201
CREATED:20251018T121222Z
LAST-MODIFIED:20251018T121535Z
UID:11228-1771786800-1771794000@www.faroshelp.gr
SUMMARY:5Η ΠΑΡΑΔΟΣΗ ΣΤΗΝ ΣΕΙΡΑ "ΑΠΟΤΥΠΩΜΑΤΑ\, Ο ΝΟΜΟΣ ΤΗΣ ΕΝΑΡΜΟΝΙΣΗΣ"\, με την συγγραφέα Πέγκυ Χριστοφή
DESCRIPTION:ΓΕΝΙΚΩΣ: \nΗ συμμετοχή σε μία μεμονωμένη παράδοση ΔΕΝ καθίσταται δυνατή\, ΑΝ ΠΡΟΗΓΟΥΜΕΝΩΣ ΔΕΝ έχετε παρακολουθήσει τις προηγηθείσες. \nΗ συμμετοχή σε μία μεμονωμένη παράδοση ΠΕΡΑΝ ΤΗΣ ΠΡΩΤΗΣ ΕΙΝΑΙ δυνατή\, ΜΟΝΟ ΓΙΑ ΕΚΕΙΝΟΥΣ ΠΟΥ ΕΧΟΥΝ ΗΔΗ ΠΑΡΑΚΟΛΟΥΘΗΣΕΙ το σεμινάριο Αποτυπωμάτων\, σε προηγούμενο χρόνο. \nΆν θέλετε να καλύψετε τυχόν κενά\, μπορείτε να προμηθευτείτε το βιβλίο της διδάσκουσας “Ο Νόμος της Εναρμόνισης: Αποτυπώματα”\, με κόστος 15€. \nΕπικοινωνία με την Μελίνα στο τηλέφωνο 6989648727 \n  \nΠέμπτη συνάντηση: \nΚΥΡΙΑΚΗ 22 ΦΕΒΡΟΥΑΡΙΟΥ 2026  \nΕΝΑΡΞΗ: 19:00 ( διάρκεια 120’) \n  \nΈκτη συνάντηση: \nΚΥΡΙΑΚΗ 22 ΦΕΒΡΟΥΑΡΙΟΥ 2026  \nΕΝΑΡΞΗ: 19:00 ( διάρκεια 120’) \n  \nΟΙΚΟΝΟΜΙΚΗ ΕΝΗΜΕΡΩΣΗ: \nΗ συμμετοχή σε μία μεμονωμένη παράδοση οριζεται στο ποσό των 25 ευρώ. \nΕΝΗΜΕΡΩΣΗ ΑΠΟ ΤΗΝ ΓΡΑΜΜΑΤΕΙΑ: \nΓια να λαμβάνετε τις σχετικές ενημερώσεις\, για την εκάστοτε δράση παρακαλούμε να εγγραφείτε στο σημείο “ΕΠΙΚΟΙΝΩΝΙΑ” \nΚάτω δεξιά στο “Εγγραφείτε τώρα” (Ελέγχετε όλες τις κατηγορίες του ηλεκτρονικού σας ταχυδρομείο.). \nΤέλος\, μπορείτε να ενημερώνεστε ανα πάσα στιγμή για το μηνιαίο πρόγραμμα στην ιστοσελίδα. \nΓια περισσότερες πληροφορίες μπορείτε να στέλνετε μήνυμα στο faros.mko@gmail.com ή τηλεφωνικώς στο 6989648727 (Μελίνα)
URL:https://www.faroshelp.gr/event/5%ce%b7-%cf%80%ce%b1%cf%81%ce%b1%ce%b4%ce%bf%cf%83%ce%b7-%cf%83%cf%84%ce%b7%ce%bd-%cf%83%ce%b5%ce%b9%cf%81%ce%b1-%ce%b1%cf%80%ce%bf%cf%84%cf%85%cf%80%cf%89%ce%bc%ce%b1%cf%84%ce%b1-%ce%bf-%ce%bd/
LOCATION:Διαδικτυακώς
END:VEVENT
BEGIN:VEVENT
DTSTART;TZID=Europe/Athens:20260303T203000
DTEND;TZID=Europe/Athens:20260303T220000
DTSTAMP:20260424T180201
CREATED:20251018T111903Z
LAST-MODIFIED:20251018T111903Z
UID:11183-1772569800-1772575200@www.faroshelp.gr
SUMMARY:Ομιλία & Διαλογισμός Πανσελήνου Ισορροπίας
DESCRIPTION:Zoom \nΕΝΑΡΞΗ 20:30 \nΔηλώνετε εγκαίρως την συμμετοχή σας. \nΓια περισσότερες πληροφορίες μπορείτε να στέλνετε μήνυμα στο faros.mko@gmail.com ή τηλεφωνικώς στο 6989648727 (Μελίνα)
URL:https://www.faroshelp.gr/event/%ce%bf%ce%bc%ce%b9%ce%bb%ce%af%ce%b1-%ce%b4%ce%b9%ce%b1%ce%bb%ce%bf%ce%b3%ce%b9%cf%83%ce%bc%cf%8c%cf%82-%cf%80%ce%b1%ce%bd%cf%83%ce%b5%ce%bb%ce%ae%ce%bd%ce%bf%cf%85-%ce%b9%cf%83%ce%bf%cf%81%cf%81/
LOCATION:Διαδικτυακώς
END:VEVENT
BEGIN:VEVENT
DTSTART;TZID=Europe/Athens:20260319T203000
DTEND;TZID=Europe/Athens:20260319T213000
DTSTAMP:20260424T180201
CREATED:20251018T112659Z
LAST-MODIFIED:20251018T112659Z
UID:11195-1773952200-1773955800@www.faroshelp.gr
SUMMARY:ΕΛΕΥΘΕΡΗ ΣΥΜΜΕΤΟΧΗ - ΝΕΑ ΣΕΛΗΝΗ: ΔΙΑΛΟΓΙΣΤΙΚΗ ΠΡΑΞΗ ΑΦΙΕΡΩΜΕΝΗ ΣΤΑ ΠΑΙΔΙΑ ΤΟΥ ΑΝΘΡΩΠΟΥ
DESCRIPTION:ΓΙΑ ΝΑ ΛΑΒΕΤΕ ΤΑ ΣΤΟΙΧΕΙΑ ΣΥΝΔΕΣΕΩΣ\, ΜΕΣΩ ΖΟΟΜ:  ΣΤΕΙΛΕΤΕ mail στο ηλ. ταχυδρομείο faros.mko@gmail.com ή εγγραφείτε στο παρόν \nἈνταποκρινόμενοι στήν Ἀνάγκη\, κατά μέτρον καί δυνατότητα\, ἐνισχύουμε τόν  κύκλο Ὑπηρεσίας μας. Λειτουργοῦμε γιά τήν Ἑλλάδα\, γιά τόν λαό μας\, γιά τόν Ἄνθρωπο καί τήν Γαία\, στά Ἡλιοστάσια\, στίς Ἰσημερίες καί  στήν πανσέληνο. \nἈπό τόν Ὀκτώβριο 2024 καί κάθε μῆνα\, στήν Νέα Σελήνη\, καθιερώνουμε\nΔιαλογιστική πράξη ἀφιερωμένη στά παιδιά τοῦ λαοῦ μας\, στά παιδιά τοῦ Ἀνθρώπου. \nΓια περισσότερες πληροφορίες μπορείτε να στέλνετε μήνυμα στο faros.mko@gmail.com ή τηλεφωνικώς 6989648727 (Μελίνα)
URL:https://www.faroshelp.gr/event/%ce%b5%ce%bb%ce%b5%cf%85%ce%b8%ce%b5%cf%81%ce%b7-%cf%83%cf%85%ce%bc%ce%bc%ce%b5%cf%84%ce%bf%cf%87%ce%b7-%ce%bd%ce%b5%ce%b1-%cf%83%ce%b5%ce%bb%ce%b7%ce%bd%ce%b7-%ce%b4%ce%b9%ce%b1%ce%bb%ce%bf%ce%b3-10/
LOCATION:Διαδικτυακώς
END:VEVENT
BEGIN:VEVENT
DTSTART;TZID=Europe/Athens:20260320T203000
DTEND;TZID=Europe/Athens:20260320T220000
DTSTAMP:20260424T180201
CREATED:20251018T113111Z
LAST-MODIFIED:20251018T113111Z
UID:11204-1774038600-1774044000@www.faroshelp.gr
SUMMARY:ΕΑΡΙΝΗ ΙΣΗΜΕΡΙΑ 2026
DESCRIPTION:ΠΕΡΙΣΣΟΤΕΡΕΣ ΠΛΗΡΟΦΟΡΙΕΣ ΣΥΝΤΟΜΑ
URL:https://www.faroshelp.gr/event/%ce%b5%ce%b1%cf%81%ce%b9%ce%bd%ce%b7-%ce%b9%cf%83%ce%b7%ce%bc%ce%b5%cf%81%ce%b9%ce%b1-2026/
LOCATION:Διαδικτυακώς
END:VEVENT
BEGIN:VEVENT
DTSTART;TZID=Europe/Athens:20260322T190000
DTEND;TZID=Europe/Athens:20260322T210000
DTSTAMP:20260424T180201
CREATED:20251018T121305Z
LAST-MODIFIED:20251018T121537Z
UID:11229-1774206000-1774213200@www.faroshelp.gr
SUMMARY:6Η ΠΑΡΑΔΟΣΗ ΣΤΗΝ ΣΕΙΡΑ "ΑΠΟΤΥΠΩΜΑΤΑ\, Ο ΝΟΜΟΣ ΤΗΣ ΕΝΑΡΜΟΝΙΣΗΣ"\, με την συγγραφέα Πέγκυ Χριστοφή
DESCRIPTION:ΓΕΝΙΚΩΣ: \nΗ συμμετοχή σε μία μεμονωμένη παράδοση ΔΕΝ καθίσταται δυνατή\, ΑΝ ΠΡΟΗΓΟΥΜΕΝΩΣ ΔΕΝ έχετε παρακολουθήσει τις προηγηθείσες. \nΗ συμμετοχή σε μία μεμονωμένη παράδοση ΠΕΡΑΝ ΤΗΣ ΠΡΩΤΗΣ ΕΙΝΑΙ δυνατή\, ΜΟΝΟ ΓΙΑ ΕΚΕΙΝΟΥΣ ΠΟΥ ΕΧΟΥΝ ΗΔΗ ΠΑΡΑΚΟΛΟΥΘΗΣΕΙ το σεμινάριο Αποτυπωμάτων\, σε προηγούμενο χρόνο. \nΆν θέλετε να καλύψετε τυχόν κενά\, μπορείτε να προμηθευτείτε το βιβλίο της διδάσκουσας “Ο Νόμος της Εναρμόνισης: Αποτυπώματα”\, με κόστος 15€. \nΕπικοινωνία με την Μελίνα στο τηλέφωνο 6989648727 \n  \nΤρίτη συνάντηση: \nΚΥΡΙΑΚΗ 14 ΔΕΚΕΜΒΡΙΟΥ 2025  \nΕΝΑΡΞΗ: 19:00 ( διάρκεια 120’) \n  \nΈκτη συνάντηση: \nΚΥΡΙΑΚΗ 22 ΦΕΒΡΟΥΑΡΙΟΥ 2026  \nΕΝΑΡΞΗ: 19:00 ( διάρκεια 120’) \n  \nΟΙΚΟΝΟΜΙΚΗ ΕΝΗΜΕΡΩΣΗ: \nΗ συμμετοχή σε μία μεμονωμένη παράδοση οριζεται στο ποσό των 25 ευρώ. \nΕΝΗΜΕΡΩΣΗ ΑΠΟ ΤΗΝ ΓΡΑΜΜΑΤΕΙΑ: \nΓια να λαμβάνετε τις σχετικές ενημερώσεις\, για την εκάστοτε δράση παρακαλούμε να εγγραφείτε στο σημείο “ΕΠΙΚΟΙΝΩΝΙΑ” \nΚάτω δεξιά στο “Εγγραφείτε τώρα” (Ελέγχετε όλες τις κατηγορίες του ηλεκτρονικού σας ταχυδρομείο.). \nΤέλος\, μπορείτε να ενημερώνεστε ανα πάσα στιγμή για το μηνιαίο πρόγραμμα στην ιστοσελίδα. \nΓια περισσότερες πληροφορίες μπορείτε να στέλνετε μήνυμα στο faros.mko@gmail.com ή τηλεφωνικώς στο 6989648727 (Μελίνα)
URL:https://www.faroshelp.gr/event/6%ce%b7-%cf%80%ce%b1%cf%81%ce%b1%ce%b4%ce%bf%cf%83%ce%b7-%cf%83%cf%84%ce%b7%ce%bd-%cf%83%ce%b5%ce%b9%cf%81%ce%b1-%ce%b1%cf%80%ce%bf%cf%84%cf%85%cf%80%cf%89%ce%bc%ce%b1%cf%84%ce%b1-%ce%bf-%ce%bd/
LOCATION:Διαδικτυακώς
END:VEVENT
BEGIN:VEVENT
DTSTART;TZID=Europe/Athens:20260402T203000
DTEND;TZID=Europe/Athens:20260403T220000
DTSTAMP:20260424T180201
CREATED:20260401T094804Z
LAST-MODIFIED:20260401T094804Z
UID:11346-1775161800-1775253600@www.faroshelp.gr
SUMMARY:Ομιλία & Διαλογισμός Πανσελήνου Αναστάσεως
DESCRIPTION:Zoom \nΕΝΑΡΞΗ 20:30 \nΔηλώνετε εγκαίρως την συμμετοχή σας. \nΓια περισσότερες πληροφορίες μπορείτε να στέλνετε μήνυμα στο faros.mko@gmail.com ή τηλεφωνικώς στο 6989648727 (Μελίνα)
URL:https://www.faroshelp.gr/event/%ce%bf%ce%bc%ce%b9%ce%bb%ce%af%ce%b1-%ce%b4%ce%b9%ce%b1%ce%bb%ce%bf%ce%b3%ce%b9%cf%83%ce%bc%cf%8c%cf%82-%cf%80%ce%b1%ce%bd%cf%83%ce%b5%ce%bb%ce%ae%ce%bd%ce%bf%cf%85-%ce%b1%ce%bd%ce%b1%cf%83%cf%84/
END:VEVENT
BEGIN:VEVENT
DTSTART;TZID=Europe/Athens:20260417T203000
DTEND;TZID=Europe/Athens:20260417T213000
DTSTAMP:20260424T180201
CREATED:20260401T100333Z
LAST-MODIFIED:20260404T123204Z
UID:11371-1776457800-1776461400@www.faroshelp.gr
SUMMARY:ΕΛΕΥΘΕΡΗ ΣΥΜΜΕΤΟΧΗ - ΝΕΑ ΣΕΛΗΝΗ: ΔΙΑΛΟΓΙΣΤΙΚΗ ΠΡΑΞΗ ΑΦΙΕΡΩΜΕΝΗ ΣΤΑ ΠΑΙΔΙΑ ΤΟΥ ΑΝΘΡΩΠΟΥ
DESCRIPTION:ΓΙΑ ΝΑ ΛΑΒΕΤΕ ΤΑ ΣΤΟΙΧΕΙΑ ΣΥΝΔΕΣΕΩΣ ΣΤΕΛΝΕΤΕ ΜΗΝΥΜΑ στο ηλ.ταχυδρομείο faros.mko@gmail.com  \nἈνταποκρινόμενοι στήν Ἀνάγκη\, κατά μέτρον καί δυνατότητα\, ἐνισχύουμε τόν  κύκλο Ὑπηρεσίας μας. Λειτουργοῦμε γιά τήν Ἑλλάδα\, γιά τόν λαό μας\, γιά τόν Ἄνθρωπο καί τήν Γαία\, στά Ἡλιοστάσια\, στίς Ἰσημερίες καί  στήν πανσέληνο. \nἈπό τόν Ὀκτώβριο 2024 καί κάθε μῆνα\, στήν Νέα Σελήνη\, καθιερώνουμε\nΔιαλογιστική πράξη ἀφιερωμένη στά παιδιά τοῦ λαοῦ μας\, στά παιδιά τοῦ Ἀνθρώπου. \nΓια περισσότερες πληροφορίες μπορείτε να στέλνετε μήνυμα στο faros.mko@gmail.com ή τηλεφωνικώς 6989648727 (Μελίνα)
URL:https://www.faroshelp.gr/event/%ce%b5%ce%bb%ce%b5%cf%85%ce%b8%ce%b5%cf%81%ce%b7-%cf%83%cf%85%ce%bc%ce%bc%ce%b5%cf%84%ce%bf%cf%87%ce%b7-%ce%bd%ce%b5%ce%b1-%cf%83%ce%b5%ce%bb%ce%b7%ce%bd%ce%b7-%ce%b4%ce%b9%ce%b1%ce%bb%ce%bf%ce%b3-11/
END:VEVENT
BEGIN:VEVENT
DTSTART;TZID=Europe/Athens:20260419T183000
DTEND;TZID=Europe/Athens:20260419T213000
DTSTAMP:20260424T180201
CREATED:20260404T123048Z
LAST-MODIFIED:20260404T123048Z
UID:11395-1776623400-1776634200@www.faroshelp.gr
SUMMARY:Εργαστήριο (παλαιός κύκλος) - Μέσω Zoom!
DESCRIPTION:ΕΝΑΡΞΗ 18:30 \nΠαρακαλούμε συνδέεστε εγκαίρως!
URL:https://www.faroshelp.gr/event/%ce%b5%cf%81%ce%b3%ce%b1%cf%83%cf%84%ce%ae%cf%81%ce%b9%ce%bf-%cf%80%ce%b1%ce%bb%ce%b1%ce%b9%cf%8c%cf%82-%ce%ba%cf%8d%ce%ba%ce%bb%ce%bf%cf%82-%ce%bc%ce%ad%cf%83%cf%89-zoom-40/
END:VEVENT
BEGIN:VEVENT
DTSTART;TZID=Europe/Athens:20260427T190000
DTEND;TZID=Europe/Athens:20260427T210000
DTSTAMP:20260424T180201
CREATED:20260404T124210Z
LAST-MODIFIED:20260404T131419Z
UID:11397-1777316400-1777323600@www.faroshelp.gr
SUMMARY:Σεμινάριο Εσωτερικής Φιλοσοφίας\, με την συγγραφέα Πέγκυ Χριστοφή [ο τίτλος θα ανακοινωθεί σύντομα
DESCRIPTION:(Σύντομα περισσότερες πληροφορίες) \nΟΙΚΟΝΟΜΙΚΗ ΕΝΗΜΕΡΩΣΗ: \nΗ συμμετοχή σε μία μεμονωμένη παράδοση οριζεται στο ποσό των 25 ευρώ. \nΕΝΗΜΕΡΩΣΗ ΑΠΟ ΤΗΝ ΓΡΑΜΜΑΤΕΙΑ: \nΓια να λαμβάνετε τις σχετικές ενημερώσεις\, για την εκάστοτε δράση παρακαλούμε να εγγραφείτε στο σημείο “ΕΠΙΚΟΙΝΩΝΙΑ” \nΚάτω δεξιά στο “Εγγραφείτε τώρα” (Ελέγχετε όλες τις κατηγορίες του ηλεκτρονικού σας ταχυδρομείο.). \nΤέλος\, μπορείτε να ενημερώνεστε ανα πάσα στιγμή για το μηνιαίο πρόγραμμα στην ιστοσελίδα. \nΓια περισσότερες πληροφορίες μπορείτε να στέλνετε μήνυμα στο faros.mko@gmail.com ή τηλεφωνικώς στο 6989648727 (Μελίνα)
URL:https://www.faroshelp.gr/event/%cf%83%ce%b5%ce%bc%ce%b9%ce%bd%ce%ac%cf%81%ce%b9%ce%bf-%ce%b5%cf%83%cf%89%cf%84%ce%b5%cf%81%ce%b9%ce%ba%ce%ae%cf%82-%cf%86%ce%b9%ce%bb%ce%bf%cf%83%ce%bf%cf%86%ce%af%ce%b1%cf%82-%ce%bc%ce%b5-%cf%84/
END:VEVENT
BEGIN:VEVENT
DTSTART;TZID=Europe/Athens:20260501T203000
DTEND;TZID=Europe/Athens:20260501T220000
DTSTAMP:20260424T180201
CREATED:20260401T094910Z
LAST-MODIFIED:20260401T094910Z
UID:11348-1777667400-1777672800@www.faroshelp.gr
SUMMARY:Ομιλία & Διαλογισμός Πανσελήνου Ζωής
DESCRIPTION:Zoom \nΕΝΑΡΞΗ 20:30 \nΔηλώνετε εγκαίρως την συμμετοχή σας. \nΓια περισσότερες πληροφορίες μπορείτε να στέλνετε μήνυμα στο faros.mko@gmail.com ή τηλεφωνικώς στο 6989648727 (Μελίνα)
URL:https://www.faroshelp.gr/event/%ce%bf%ce%bc%ce%b9%ce%bb%ce%af%ce%b1-%ce%b4%ce%b9%ce%b1%ce%bb%ce%bf%ce%b3%ce%b9%cf%83%ce%bc%cf%8c%cf%82-%cf%80%ce%b1%ce%bd%cf%83%ce%b5%ce%bb%ce%ae%ce%bd%ce%bf%cf%85-%ce%b6%cf%89%ce%ae%cf%82/
END:VEVENT
BEGIN:VEVENT
DTSTART;TZID=Europe/Athens:20260510T183000
DTEND;TZID=Europe/Athens:20260510T210000
DTSTAMP:20260424T180201
CREATED:20260404T124438Z
LAST-MODIFIED:20260404T124438Z
UID:11400-1778437800-1778446800@www.faroshelp.gr
SUMMARY:Εργαστήριο (παλαιός κύκλος) - Μέσω Zoom!
DESCRIPTION:ΕΝΑΡΞΗ 18:30 \nΠαρακαλούμε συνδέεστε εγκαίρως!
URL:https://www.faroshelp.gr/event/%ce%b5%cf%81%ce%b3%ce%b1%cf%83%cf%84%ce%ae%cf%81%ce%b9%ce%bf-%cf%80%ce%b1%ce%bb%ce%b1%ce%b9%cf%8c%cf%82-%ce%ba%cf%8d%ce%ba%ce%bb%ce%bf%cf%82-%ce%bc%ce%ad%cf%83%cf%89-zoom-41/
END:VEVENT
BEGIN:VEVENT
DTSTART;TZID=Europe/Athens:20260516T203000
DTEND;TZID=Europe/Athens:20260516T213000
DTSTAMP:20260424T180201
CREATED:20260401T100938Z
LAST-MODIFIED:20260401T101133Z
UID:11363-1778963400-1778967000@www.faroshelp.gr
SUMMARY:ΕΛΕΥΘΕΡΗ ΣΥΜΜΕΤΟΧΗ - ΝΕΑ ΣΕΛΗΝΗ: ΔΙΑΛΟΓΙΣΤΙΚΗ ΠΡΑΞΗ ΑΦΙΕΡΩΜΕΝΗ ΣΤΑ ΠΑΙΔΙΑ ΤΟΥ ΑΝΘΡΩΠΟΥ
DESCRIPTION:ΓΙΑ ΝΑ ΛΑΒΕΤΕ ΤΑ ΣΤΟΙΧΕΙΑ ΣΥΝΔΕΣΕΩΣ ΣΤΕΛΝΕΤΕ ΜΗΝΥΜΑ στο ηλ.ταχυδρομείο faros.mko@gmail.com  \nἈνταποκρινόμενοι στήν Ἀνάγκη\, κατά μέτρον καί δυνατότητα\, ἐνισχύουμε τόν  κύκλο Ὑπηρεσίας μας. Λειτουργοῦμε γιά τήν Ἑλλάδα\, γιά τόν λαό μας\, γιά τόν Ἄνθρωπο καί τήν Γαία\, στά Ἡλιοστάσια\, στίς Ἰσημερίες καί  στήν πανσέληνο. \nἈπό τόν Ὀκτώβριο 2024 καί κάθε μῆνα\, στήν Νέα Σελήνη\, καθιερώνουμε\nΔιαλογιστική πράξη ἀφιερωμένη στά παιδιά τοῦ λαοῦ μας\, στά παιδιά τοῦ Ἀνθρώπου. \nΓια περισσότερες πληροφορίες μπορείτε να στέλνετε μήνυμα στο faros.mko@gmail.com ή τηλεφωνικώς 6989648727 (Μελίνα)
URL:https://www.faroshelp.gr/event/%ce%b5%ce%bb%ce%b5%cf%85%ce%b8%ce%b5%cf%81%ce%b7-%cf%83%cf%85%ce%bc%ce%bc%ce%b5%cf%84%ce%bf%cf%87%ce%b7-%ce%bd%ce%b5%ce%b1-%cf%83%ce%b5%ce%bb%ce%b7%ce%bd%ce%b7-%ce%b4%ce%b9%ce%b1%ce%bb%ce%bf%ce%b3-12/
END:VEVENT
BEGIN:VEVENT
DTSTART;TZID=Europe/Athens:20260525T190000
DTEND;TZID=Europe/Athens:20260525T210000
DTSTAMP:20260424T180201
CREATED:20260404T124617Z
LAST-MODIFIED:20260404T124617Z
UID:11402-1779735600-1779742800@www.faroshelp.gr
SUMMARY:Σεμινάριο Εσωτερικής Φιλοσοφίας\, με την συγγραφέα Πέγκυ Χριστοφή [ο τίτλος θα ανακοινωθεί σύντομα
DESCRIPTION:(Σύντομα περισσότερες πληροφορίες) \nΟΙΚΟΝΟΜΙΚΗ ΕΝΗΜΕΡΩΣΗ: \nΗ συμμετοχή σε μία μεμονωμένη παράδοση οριζεται στο ποσό των 25 ευρώ. \nΕΝΗΜΕΡΩΣΗ ΑΠΟ ΤΗΝ ΓΡΑΜΜΑΤΕΙΑ: \nΓια να λαμβάνετε τις σχετικές ενημερώσεις\, για την εκάστοτε δράση παρακαλούμε να εγγραφείτε στο σημείο “ΕΠΙΚΟΙΝΩΝΙΑ” \nΚάτω δεξιά στο “Εγγραφείτε τώρα” (Ελέγχετε όλες τις κατηγορίες του ηλεκτρονικού σας ταχυδρομείο.). \nΤέλος\, μπορείτε να ενημερώνεστε ανα πάσα στιγμή για το μηνιαίο πρόγραμμα στην ιστοσελίδα. \nΓια περισσότερες πληροφορίες μπορείτε να στέλνετε μήνυμα στο faros.mko@gmail.com ή τηλεφωνικώς στο 6989648727 (Μελίνα)
URL:https://www.faroshelp.gr/event/%cf%83%ce%b5%ce%bc%ce%b9%ce%bd%ce%ac%cf%81%ce%b9%ce%bf-%ce%b5%cf%83%cf%89%cf%84%ce%b5%cf%81%ce%b9%ce%ba%ce%ae%cf%82-%cf%86%ce%b9%ce%bb%ce%bf%cf%83%ce%bf%cf%86%ce%af%ce%b1%cf%82-%ce%bc%ce%b5-%cf%84-2/
END:VEVENT
BEGIN:VEVENT
DTSTART;TZID=Europe/Athens:20260531T203000
DTEND;TZID=Europe/Athens:20260531T220000
DTSTAMP:20260424T180201
CREATED:20260401T095157Z
LAST-MODIFIED:20260401T095157Z
UID:11353-1780259400-1780264800@www.faroshelp.gr
SUMMARY:2η Πανσέληνος Μαϊου! "Ζωή"
DESCRIPTION:Zoom \nΕΝΑΡΞΗ 20:30 \nΔηλώνετε εγκαίρως την συμμετοχή σας. \nΓια περισσότερες πληροφορίες μπορείτε να στέλνετε μήνυμα στο faros.mko@gmail.com ή τηλεφωνικώς στο 6989648727 (Μελίνα)
URL:https://www.faroshelp.gr/event/2%ce%b7-%cf%80%ce%b1%ce%bd%cf%83%ce%ad%ce%bb%ce%b7%ce%bd%ce%bf%cf%82-%ce%bc%ce%b1%cf%8a%ce%bf%cf%85-%ce%b6%cf%89%ce%ae/
END:VEVENT
BEGIN:VEVENT
DTSTART;TZID=Europe/Athens:20260615T203000
DTEND;TZID=Europe/Athens:20260615T213000
DTSTAMP:20260424T180201
CREATED:20260404T125522Z
LAST-MODIFIED:20260404T125522Z
UID:11404-1781555400-1781559000@www.faroshelp.gr
SUMMARY:ΕΛΕΥΘΕΡΗ ΣΥΜΜΕΤΟΧΗ - ΝΕΑ ΣΕΛΗΝΗ: ΔΙΑΛΟΓΙΣΤΙΚΗ ΠΡΑΞΗ ΑΦΙΕΡΩΜΕΝΗ ΣΤΑ ΠΑΙΔΙΑ ΤΟΥ ΑΝΘΡΩΠΟΥ
DESCRIPTION:ΓΙΑ ΝΑ ΛΑΒΕΤΕ ΤΑ ΣΤΟΙΧΕΙΑ ΣΥΝΔΕΣΕΩΣ ΣΤΕΛΝΕΤΕ ΜΗΝΥΜΑ στο ηλ.ταχυδρομείο faros.mko@gmail.com  \nἈνταποκρινόμενοι στήν Ἀνάγκη\, κατά μέτρον καί δυνατότητα\, ἐνισχύουμε τόν  κύκλο Ὑπηρεσίας μας. Λειτουργοῦμε γιά τήν Ἑλλάδα\, γιά τόν λαό μας\, γιά τόν Ἄνθρωπο καί τήν Γαία\, στά Ἡλιοστάσια\, στίς Ἰσημερίες καί  στήν πανσέληνο. \nἈπό τόν Ὀκτώβριο 2024 καί κάθε μῆνα\, στήν Νέα Σελήνη\, καθιερώνουμε\nΔιαλογιστική πράξη ἀφιερωμένη στά παιδιά τοῦ λαοῦ μας\, στά παιδιά τοῦ Ἀνθρώπου. \nΓια περισσότερες πληροφορίες μπορείτε να στέλνετε μήνυμα στο faros.mko@gmail.com ή τηλεφωνικώς 6989648727 (Μελίνα)
URL:https://www.faroshelp.gr/event/%ce%b5%ce%bb%ce%b5%cf%85%ce%b8%ce%b5%cf%81%ce%b7-%cf%83%cf%85%ce%bc%ce%bc%ce%b5%cf%84%ce%bf%cf%87%ce%b7-%ce%bd%ce%b5%ce%b1-%cf%83%ce%b5%ce%bb%ce%b7%ce%bd%ce%b7-%ce%b4%ce%b9%ce%b1%ce%bb%ce%bf%ce%b3-13/
END:VEVENT
BEGIN:VEVENT
DTSTART;TZID=Europe/Athens:20260621T203000
DTEND;TZID=Europe/Athens:20260621T213000
DTSTAMP:20260424T180201
CREATED:20260404T125647Z
LAST-MODIFIED:20260404T125647Z
UID:11406-1782073800-1782077400@www.faroshelp.gr
SUMMARY:Συγκέντρωση-Διαλογισμός Θερινού Ηλιοστασίου
DESCRIPTION:διαδικτυακώς\nΕΝΑΡΞΗ 20:30\nΔηλώνετε εγκαίρως την συμμετοχή σας. \nΕΛΕΥΘΕΡΗ ΣΥΜΜΕΤΟΧΗ
URL:https://www.faroshelp.gr/event/%cf%83%cf%85%ce%b3%ce%ba%ce%ad%ce%bd%cf%84%cf%81%cf%89%cf%83%ce%b7-%ce%b4%ce%b9%ce%b1%ce%bb%ce%bf%ce%b3%ce%b9%cf%83%ce%bc%cf%8c%cf%82-%ce%b8%ce%b5%cf%81%ce%b9%ce%bd%ce%bf%cf%8d-%ce%b7%ce%bb%ce%b9-2/
END:VEVENT
BEGIN:VEVENT
DTSTART;TZID=Europe/Athens:20260630T203000
DTEND;TZID=Europe/Athens:20260630T220000
DTSTAMP:20260424T180201
CREATED:20260401T095026Z
LAST-MODIFIED:20260401T095026Z
UID:11350-1782851400-1782856800@www.faroshelp.gr
SUMMARY:Ομιλία & Διαλογισμός Πανσελήνου Φωτίσεως
DESCRIPTION:Zoom \nΕΝΑΡΞΗ 20:30 \nΔηλώνετε εγκαίρως την συμμετοχή σας. \nΓια περισσότερες πληροφορίες μπορείτε να στέλνετε μήνυμα στο faros.mko@gmail.com ή τηλεφωνικώς στο 6989648727 (Μελίνα)
URL:https://www.faroshelp.gr/event/%ce%bf%ce%bc%ce%b9%ce%bb%ce%af%ce%b1-%ce%b4%ce%b9%ce%b1%ce%bb%ce%bf%ce%b3%ce%b9%cf%83%ce%bc%cf%8c%cf%82-%cf%80%ce%b1%ce%bd%cf%83%ce%b5%ce%bb%ce%ae%ce%bd%ce%bf%cf%85-%cf%86%cf%89%cf%84%ce%af%cf%83/
END:VEVENT
BEGIN:VEVENT
DTSTART;TZID=Europe/Athens:20260714T203000
DTEND;TZID=Europe/Athens:20260714T213000
DTSTAMP:20260424T180201
CREATED:20260404T125806Z
LAST-MODIFIED:20260404T125908Z
UID:11408-1784061000-1784064600@www.faroshelp.gr
SUMMARY:ΕΛΕΥΘΕΡΗ ΣΥΜΜΕΤΟΧΗ - ΝΕΑ ΣΕΛΗΝΗ: ΔΙΑΛΟΓΙΣΤΙΚΗ ΠΡΑΞΗ ΑΦΙΕΡΩΜΕΝΗ ΣΤΑ ΠΑΙΔΙΑ ΤΟΥ ΑΝΘΡΩΠΟΥ
DESCRIPTION:ΓΙΑ ΝΑ ΛΑΒΕΤΕ ΤΑ ΣΤΟΙΧΕΙΑ ΣΥΝΔΕΣΕΩΣ ΣΤΕΛΝΕΤΕ ΜΗΝΥΜΑ στο ηλ.ταχυδρομείο faros.mko@gmail.com  \nἈνταποκρινόμενοι στήν Ἀνάγκη\, κατά μέτρον καί δυνατότητα\, ἐνισχύουμε τόν  κύκλο Ὑπηρεσίας μας. Λειτουργοῦμε γιά τήν Ἑλλάδα\, γιά τόν λαό μας\, γιά τόν Ἄνθρωπο καί τήν Γαία\, στά Ἡλιοστάσια\, στίς Ἰσημερίες καί  στήν πανσέληνο. \nἈπό τόν Ὀκτώβριο 2024 καί κάθε μῆνα\, στήν Νέα Σελήνη\, καθιερώνουμε\nΔιαλογιστική πράξη ἀφιερωμένη στά παιδιά τοῦ λαοῦ μας\, στά παιδιά τοῦ Ἀνθρώπου. \nΓια περισσότερες πληροφορίες μπορείτε να στέλνετε μήνυμα στο faros.mko@gmail.com ή τηλεφωνικώς 6989648727 (Μελίνα)
URL:https://www.faroshelp.gr/event/%ce%b5%ce%bb%ce%b5%cf%85%ce%b8%ce%b5%cf%81%ce%b7-%cf%83%cf%85%ce%bc%ce%bc%ce%b5%cf%84%ce%bf%cf%87%ce%b7-%ce%bd%ce%b5%ce%b1-%cf%83%ce%b5%ce%bb%ce%b7%ce%bd%ce%b7-%ce%b4%ce%b9%ce%b1%ce%bb%ce%bf%ce%b3-14/
END:VEVENT
BEGIN:VEVENT
DTSTART;TZID=Europe/Athens:20260729T203000
DTEND;TZID=Europe/Athens:20260729T220000
DTSTAMP:20260424T180201
CREATED:20260401T095312Z
LAST-MODIFIED:20260401T095312Z
UID:11356-1785357000-1785362400@www.faroshelp.gr
SUMMARY:Ομιλία & Διαλογισμός Πανσελήνου Ελέους
DESCRIPTION:Zoom \nΕΝΑΡΞΗ 20:30 \nΔηλώνετε εγκαίρως την συμμετοχή σας. \nΓια περισσότερες πληροφορίες μπορείτε να στέλνετε μήνυμα στο faros.mko@gmail.com ή τηλεφωνικώς στο 6989648727 (Μελίνα)
URL:https://www.faroshelp.gr/event/%ce%bf%ce%bc%ce%b9%ce%bb%ce%af%ce%b1-%ce%b4%ce%b9%ce%b1%ce%bb%ce%bf%ce%b3%ce%b9%cf%83%ce%bc%cf%8c%cf%82-%cf%80%ce%b1%ce%bd%cf%83%ce%b5%ce%bb%ce%ae%ce%bd%ce%bf%cf%85-%ce%b5%ce%bb%ce%ad%ce%bf%cf%85/
END:VEVENT
BEGIN:VEVENT
DTSTART;TZID=Europe/Athens:20260812T203000
DTEND;TZID=Europe/Athens:20260812T220000
DTSTAMP:20260424T180201
CREATED:20260404T130151Z
LAST-MODIFIED:20260404T130151Z
UID:11410-1786566600-1786572000@www.faroshelp.gr
SUMMARY:ΕΛΕΥΘΕΡΗ ΣΥΜΜΕΤΟΧΗ - ΝΕΑ ΣΕΛΗΝΗ: ΔΙΑΛΟΓΙΣΤΙΚΗ ΠΡΑΞΗ ΑΦΙΕΡΩΜΕΝΗ ΣΤΑ ΠΑΙΔΙΑ ΤΟΥ ΑΝΘΡΩΠΟΥ
DESCRIPTION:ΓΙΑ ΝΑ ΛΑΒΕΤΕ ΤΑ ΣΤΟΙΧΕΙΑ ΣΥΝΔΕΣΕΩΣ ΣΤΕΛΝΕΤΕ ΜΗΝΥΜΑ στο ηλ.ταχυδρομείο faros.mko@gmail.com  \nἈνταποκρινόμενοι στήν Ἀνάγκη\, κατά μέτρον καί δυνατότητα\, ἐνισχύουμε τόν  κύκλο Ὑπηρεσίας μας. Λειτουργοῦμε γιά τήν Ἑλλάδα\, γιά τόν λαό μας\, γιά τόν Ἄνθρωπο καί τήν Γαία\, στά Ἡλιοστάσια\, στίς Ἰσημερίες καί  στήν πανσέληνο. \nἈπό τόν Ὀκτώβριο 2024 καί κάθε μῆνα\, στήν Νέα Σελήνη\, καθιερώνουμε\nΔιαλογιστική πράξη ἀφιερωμένη στά παιδιά τοῦ λαοῦ μας\, στά παιδιά τοῦ Ἀνθρώπου. \nΓια περισσότερες πληροφορίες μπορείτε να στέλνετε μήνυμα στο faros.mko@gmail.com ή τηλεφωνικώς 6989648727 (Μελίνα)
URL:https://www.faroshelp.gr/event/%ce%b5%ce%bb%ce%b5%cf%85%ce%b8%ce%b5%cf%81%ce%b7-%cf%83%cf%85%ce%bc%ce%bc%ce%b5%cf%84%ce%bf%cf%87%ce%b7-%ce%bd%ce%b5%ce%b1-%cf%83%ce%b5%ce%bb%ce%b7%ce%bd%ce%b7-%ce%b4%ce%b9%ce%b1%ce%bb%ce%bf%ce%b3-15/
END:VEVENT
BEGIN:VEVENT
DTSTART;TZID=Europe/Athens:20260828T203000
DTEND;TZID=Europe/Athens:20260828T220000
DTSTAMP:20260424T180201
CREATED:20260401T095403Z
LAST-MODIFIED:20260404T123453Z
UID:11359-1787949000-1787954400@www.faroshelp.gr
SUMMARY:Ομιλία & Διαλογισμός Πανσελήνου Χάριτος
DESCRIPTION:Zoom \nΕΝΑΡΞΗ 20:30 \nΔηλώνετε εγκαίρως την συμμετοχή σας. \nΓια περισσότερες πληροφορίες μπορείτε να στέλνετε μήνυμα στο faros.mko@gmail.com ή τηλεφωνικώς στο 6989648727 (Μελίνα)
URL:https://www.faroshelp.gr/event/%ce%bf%ce%bc%ce%b9%ce%bb%ce%af%ce%b1-%ce%b4%ce%b9%ce%b1%ce%bb%ce%bf%ce%b3%ce%b9%cf%83%ce%bc%cf%8c%cf%82-%cf%80%ce%b1%ce%bd%cf%83%ce%b5%ce%bb%ce%ae%ce%bd%ce%bf%cf%85-%cf%87%ce%ac%cf%81%ce%b9%cf%84/
END:VEVENT
BEGIN:VEVENT
DTSTART;TZID=Europe/Athens:20260911T203000
DTEND;TZID=Europe/Athens:20260911T220000
DTSTAMP:20260424T180201
CREATED:20260404T130231Z
LAST-MODIFIED:20260404T130231Z
UID:11411-1789158600-1789164000@www.faroshelp.gr
SUMMARY:ΕΛΕΥΘΕΡΗ ΣΥΜΜΕΤΟΧΗ - ΝΕΑ ΣΕΛΗΝΗ: ΔΙΑΛΟΓΙΣΤΙΚΗ ΠΡΑΞΗ ΑΦΙΕΡΩΜΕΝΗ ΣΤΑ ΠΑΙΔΙΑ ΤΟΥ ΑΝΘΡΩΠΟΥ
DESCRIPTION:ΓΙΑ ΝΑ ΛΑΒΕΤΕ ΤΑ ΣΤΟΙΧΕΙΑ ΣΥΝΔΕΣΕΩΣ ΣΤΕΛΝΕΤΕ ΜΗΝΥΜΑ στο ηλ.ταχυδρομείο faros.mko@gmail.com  \nἈνταποκρινόμενοι στήν Ἀνάγκη\, κατά μέτρον καί δυνατότητα\, ἐνισχύουμε τόν  κύκλο Ὑπηρεσίας μας. Λειτουργοῦμε γιά τήν Ἑλλάδα\, γιά τόν λαό μας\, γιά τόν Ἄνθρωπο καί τήν Γαία\, στά Ἡλιοστάσια\, στίς Ἰσημερίες καί  στήν πανσέληνο. \nἈπό τόν Ὀκτώβριο 2024 καί κάθε μῆνα\, στήν Νέα Σελήνη\, καθιερώνουμε\nΔιαλογιστική πράξη ἀφιερωμένη στά παιδιά τοῦ λαοῦ μας\, στά παιδιά τοῦ Ἀνθρώπου. \nΓια περισσότερες πληροφορίες μπορείτε να στέλνετε μήνυμα στο faros.mko@gmail.com ή τηλεφωνικώς 6989648727 (Μελίνα)
URL:https://www.faroshelp.gr/event/%ce%b5%ce%bb%ce%b5%cf%85%ce%b8%ce%b5%cf%81%ce%b7-%cf%83%cf%85%ce%bc%ce%bc%ce%b5%cf%84%ce%bf%cf%87%ce%b7-%ce%bd%ce%b5%ce%b1-%cf%83%ce%b5%ce%bb%ce%b7%ce%bd%ce%b7-%ce%b4%ce%b9%ce%b1%ce%bb%ce%bf%ce%b3-16/
END:VEVENT
BEGIN:VEVENT
DTSTART;TZID=Europe/Athens:20260922T203000
DTEND;TZID=Europe/Athens:20260922T213000
DTSTAMP:20260424T180201
CREATED:20260404T130407Z
LAST-MODIFIED:20260404T130407Z
UID:11414-1790109000-1790112600@www.faroshelp.gr
SUMMARY:Συγκέντρωση-Διαλογισμός Φθινοπωρινής Ισημερίας
DESCRIPTION:ΕΝΑΡΞΗ 20:30\nΔηλώνετε εγκαίρως την συμμετοχή σας. \nΕΛΕΥΘΕΡΗ ΣΥΜΜΕΤΟΧΗ
URL:https://www.faroshelp.gr/event/%cf%83%cf%85%ce%b3%ce%ba%ce%ad%ce%bd%cf%84%cf%81%cf%89%cf%83%ce%b7-%ce%b4%ce%b9%ce%b1%ce%bb%ce%bf%ce%b3%ce%b9%cf%83%ce%bc%cf%8c%cf%82-%cf%86%ce%b8%ce%b9%ce%bd%ce%bf%cf%80%cf%89%cf%81%ce%b9%ce%bd-2/
END:VEVENT
BEGIN:VEVENT
DTSTART;TZID=Europe/Athens:20260926T203000
DTEND;TZID=Europe/Athens:20260926T220000
DTSTAMP:20260424T180201
CREATED:20260401T095637Z
LAST-MODIFIED:20260401T095637Z
UID:11361-1790454600-1790460000@www.faroshelp.gr
SUMMARY:Ομιλία & Διαλογισμός Πανσελήνου Αληθείας
DESCRIPTION:Zoom \nΕΝΑΡΞΗ 20:30 \nΔηλώνετε εγκαίρως την συμμετοχή σας. \nΓια περισσότερες πληροφορίες μπορείτε να στέλνετε μήνυμα στο faros.mko@gmail.com ή τηλεφωνικώς στο 6989648727 (Μελίνα)
URL:https://www.faroshelp.gr/event/%ce%bf%ce%bc%ce%b9%ce%bb%ce%af%ce%b1-%ce%b4%ce%b9%ce%b1%ce%bb%ce%bf%ce%b3%ce%b9%cf%83%ce%bc%cf%8c%cf%82-%cf%80%ce%b1%ce%bd%cf%83%ce%b5%ce%bb%ce%ae%ce%bd%ce%bf%cf%85-%ce%b1%ce%bb%ce%b7%ce%b8%ce%b5-2/
END:VEVENT
END:VCALENDAR