BEGIN:VCALENDAR
VERSION:2.0
PRODID:-//faroshelp.gr - ECPv6.15.20//NONSGML v1.0//EN
CALSCALE:GREGORIAN
METHOD:PUBLISH
X-WR-CALNAME:faroshelp.gr
X-ORIGINAL-URL:https://www.faroshelp.gr
X-WR-CALDESC:Events for faroshelp.gr
REFRESH-INTERVAL;VALUE=DURATION:PT1H
X-Robots-Tag:noindex
X-PUBLISHED-TTL:PT1H
BEGIN:VTIMEZONE
TZID:Europe/Athens
BEGIN:DAYLIGHT
TZOFFSETFROM:+0200
TZOFFSETTO:+0300
TZNAME:EEST
DTSTART:20220327T010000
END:DAYLIGHT
BEGIN:STANDARD
TZOFFSETFROM:+0300
TZOFFSETTO:+0200
TZNAME:EET
DTSTART:20221030T010000
END:STANDARD
BEGIN:DAYLIGHT
TZOFFSETFROM:+0200
TZOFFSETTO:+0300
TZNAME:EEST
DTSTART:20230326T010000
END:DAYLIGHT
BEGIN:STANDARD
TZOFFSETFROM:+0300
TZOFFSETTO:+0200
TZNAME:EET
DTSTART:20231029T010000
END:STANDARD
BEGIN:DAYLIGHT
TZOFFSETFROM:+0200
TZOFFSETTO:+0300
TZNAME:EEST
DTSTART:20240331T010000
END:DAYLIGHT
BEGIN:STANDARD
TZOFFSETFROM:+0300
TZOFFSETTO:+0200
TZNAME:EET
DTSTART:20241027T010000
END:STANDARD
END:VTIMEZONE
BEGIN:VEVENT
DTSTART;TZID=Europe/Athens:20231029T183000
DTEND;TZID=Europe/Athens:20231029T210000
DTSTAMP:20260425T161852
CREATED:20231006T152602Z
LAST-MODIFIED:20231006T152602Z
UID:10591-1698604200-1698613200@www.faroshelp.gr
SUMMARY:Εργαστήριο (παλαιός κύκλος) - Μόνο δια ζώσης!
DESCRIPTION:Ώρα προσέλευσης 18:00 \nΝΕΑ ΔΙΕΥΘΥΝΣΗ: Παράσχου Αχ.59-61
URL:https://www.faroshelp.gr/event/%ce%b5%cf%81%ce%b3%ce%b1%cf%83%cf%84%ce%ae%cf%81%ce%b9%ce%bf-%cf%80%ce%b1%ce%bb%ce%b1%ce%b9%cf%8c%cf%82-%ce%ba%cf%8d%ce%ba%ce%bb%ce%bf%cf%82-%ce%bc%cf%8c%ce%bd%ce%bf-%ce%b4%ce%b9%ce%b1-%ce%b6-16/
LOCATION:Παράσχου Αχ. 59-61\, Παράσχου Αχ.\, Αθήνα\, Αττικής\, 11474\, Ελλάδα
END:VEVENT
BEGIN:VEVENT
DTSTART;TZID=Europe/Athens:20231028T203000
DTEND;TZID=Europe/Athens:20231028T220000
DTSTAMP:20260425T161852
CREATED:20231006T153308Z
LAST-MODIFIED:20231006T153308Z
UID:10595-1698525000-1698530400@www.faroshelp.gr
SUMMARY:πανσέληνος της Ελευθερίας με την Π. Χριστοφή
DESCRIPTION:Για περισσότερες πληροφορίες επικοινωνείστε με την γραμματεία \n2103216803 \nΏρα ενάρξεως: 20:30 \nΠαρακαλούμε να συνδέεστε εγκαίρως
URL:https://www.faroshelp.gr/event/%cf%80%ce%b1%ce%bd%cf%83%ce%ad%ce%bb%ce%b7%ce%bd%ce%bf%cf%82-%cf%84%ce%b7%cf%82-%ce%b5%ce%bb%ce%b5%cf%85%ce%b8%ce%b5%cf%81%ce%af%ce%b1%cf%82-%ce%bc%ce%b5-%cf%84%ce%b7%ce%bd-%cf%80-%cf%87%cf%81%ce%b9/
LOCATION:Διαδικτυακώς
END:VEVENT
BEGIN:VEVENT
DTSTART;TZID=Europe/Athens:20231025T183000
DTEND;TZID=Europe/Athens:20231025T210000
DTSTAMP:20260425T161852
CREATED:20231006T153347Z
LAST-MODIFIED:20231006T153347Z
UID:10599-1698258600-1698267600@www.faroshelp.gr
SUMMARY:Εργαστήριο (παλαιός κύκλος) - Μέσω Zoom!
DESCRIPTION:
URL:https://www.faroshelp.gr/event/%ce%b5%cf%81%ce%b3%ce%b1%cf%83%cf%84%ce%ae%cf%81%ce%b9%ce%bf-%cf%80%ce%b1%ce%bb%ce%b1%ce%b9%cf%8c%cf%82-%ce%ba%cf%8d%ce%ba%ce%bb%ce%bf%cf%82-%ce%bc%ce%ad%cf%83%cf%89-zoom-16/
LOCATION:Διαδικτυακώς
END:VEVENT
BEGIN:VEVENT
DTSTART;TZID=Europe/Athens:20231023T110000
DTEND;TZID=Europe/Athens:20231023T130000
DTSTAMP:20260425T161852
CREATED:20231006T153528Z
LAST-MODIFIED:20231006T153528Z
UID:10601-1698058800-1698066000@www.faroshelp.gr
SUMMARY:Aρχαία Ελληνική Φιλοσοφία με την Αγγελική Κομποχόλη
DESCRIPTION:Δεν χρειάζεται προηγούμενη γνώση Αρχαίων Ελληνικών\, γιατί πέραν απο τον χαρακτήρα  “μαθήματος ελληνικών”\, πρόκειται για ένα ταξείδι σε άλλους χρόνους και τόπους\, καθώς με την μεταδοτικότητα της και την αγάπη της γι΄αυτό που λειτουργεί\, η διδάσκουσα προσφέρει γνώση πολύτιμη ως να ΄χεις παρακολουθήσει την πιο ευχάριστη ταινία.
URL:https://www.faroshelp.gr/event/a%cf%81%cf%87%ce%b1%ce%af%ce%b1-%ce%b5%ce%bb%ce%bb%ce%b7%ce%bd%ce%b9%ce%ba%ce%ae-%cf%86%ce%b9%ce%bb%ce%bf%cf%83%ce%bf%cf%86%ce%af%ce%b1-%ce%bc%ce%b5-%cf%84%ce%b7%ce%bd-%ce%b1%ce%b3%ce%b3%ce%b5-13/
LOCATION:Διαδικτυακώς
END:VEVENT
BEGIN:VEVENT
DTSTART;TZID=Europe/Athens:20231015T183000
DTEND;TZID=Europe/Athens:20231015T210000
DTSTAMP:20260425T161852
CREATED:20231006T153642Z
LAST-MODIFIED:20231006T153642Z
UID:10605-1697394600-1697403600@www.faroshelp.gr
SUMMARY:Εργαστήριο Συνειδητής Επικοινωνίας (2021)
DESCRIPTION:
URL:https://www.faroshelp.gr/event/%ce%b5%cf%81%ce%b3%ce%b1%cf%83%cf%84%ce%ae%cf%81%ce%b9%ce%bf-%cf%83%cf%85%ce%bd%ce%b5%ce%b9%ce%b4%ce%b7%cf%84%ce%ae%cf%82-%ce%b5%cf%80%ce%b9%ce%ba%ce%bf%ce%b9%ce%bd%cf%89%ce%bd%ce%af%ce%b1%cf%82-20-18/
LOCATION:Διαδικτυακώς
END:VEVENT
BEGIN:VEVENT
DTSTART;TZID=Europe/Athens:20231009T110000
DTEND;TZID=Europe/Athens:20231009T130000
DTSTAMP:20260425T161852
CREATED:20231006T153539Z
LAST-MODIFIED:20231006T153539Z
UID:10602-1696849200-1696856400@www.faroshelp.gr
SUMMARY:Aρχαία Ελληνική Φιλοσοφία με την Αγγελική Κομποχόλη
DESCRIPTION:Δεν χρειάζεται προηγούμενη γνώση Αρχαίων Ελληνικών\, γιατί πέραν απο τον χαρακτήρα  “μαθήματος ελληνικών”\, πρόκειται για ένα ταξείδι σε άλλους χρόνους και τόπους\, καθώς με την μεταδοτικότητα της και την αγάπη της γι΄αυτό που λειτουργεί\, η διδάσκουσα προσφέρει γνώση πολύτιμη ως να ΄χεις παρακολουθήσει την πιο ευχάριστη ταινία.
URL:https://www.faroshelp.gr/event/a%cf%81%cf%87%ce%b1%ce%af%ce%b1-%ce%b5%ce%bb%ce%bb%ce%b7%ce%bd%ce%b9%ce%ba%ce%ae-%cf%86%ce%b9%ce%bb%ce%bf%cf%83%ce%bf%cf%86%ce%af%ce%b1-%ce%bc%ce%b5-%cf%84%ce%b7%ce%bd-%ce%b1%ce%b3%ce%b3%ce%b5-14/
LOCATION:Διαδικτυακώς
END:VEVENT
BEGIN:VEVENT
DTSTART;TZID=Europe/Athens:20231001T183000
DTEND;TZID=Europe/Athens:20231001T210000
DTSTAMP:20260425T161852
CREATED:20230906T151029Z
LAST-MODIFIED:20230906T151029Z
UID:10558-1696185000-1696194000@www.faroshelp.gr
SUMMARY:Εργαστήριο (παλαιός κύκλος) - Μόνο δια ζώσης!
DESCRIPTION:Ώρα προσέλευσης 18:00 \nΝΕΑ ΔΙΕΥΘΥΝΣΗ: Παράσχου Αχ.59-61
URL:https://www.faroshelp.gr/event/%ce%b5%cf%81%ce%b3%ce%b1%cf%83%cf%84%ce%ae%cf%81%ce%b9%ce%bf-%cf%80%ce%b1%ce%bb%ce%b1%ce%b9%cf%8c%cf%82-%ce%ba%cf%8d%ce%ba%ce%bb%ce%bf%cf%82-%ce%bc%cf%8c%ce%bd%ce%bf-%ce%b4%ce%b9%ce%b1-%ce%b6-15/
LOCATION:Παράσχου Αχ. 59-61\, Παράσχου Αχ.\, Αθήνα\, Αττικής\, 11474\, Ελλάδα
END:VEVENT
BEGIN:VEVENT
DTSTART;TZID=Europe/Athens:20231001T113000
DTEND;TZID=Europe/Athens:20231001T113000
DTSTAMP:20260425T161852
CREATED:20230928T190157Z
LAST-MODIFIED:20230928T190157Z
UID:10582-1696159800-1696159800@www.faroshelp.gr
SUMMARY:Ο Γύρος την Ακροπόλεως εν Σιωπή με την Παρέας μας
DESCRIPTION:Αγαπητοί\, Ξεκινάμε πάλι τον Γύρο του Ιερού Βράχου επανεγράφοντας και ενισχύοντας την προηγούμενη αντίστοιχη εγγραφή μας. \nΣτόχος μας είναι η Εργασία αυτή να επαναλαμβάνεται την πρώτη Κυριακή κάθε μήνα\, ξεκινώντας από αυτήν την Κυριακή 1/10\, με την συμμετοχή όσων μελών και φίλων ανταποκριθούν στο συγκεκριμένο κάλεσμα. \nΆν σας φαίνεται ενδιαφέρον επικοινωνείστε μαζί μας για να σας δοθεί και να διαβαστεί με ιδιαίτερη προσοχή\, το πρώτο κείμενο που είχε δοθεί το 2011 από τον Δάσκαλο Alba\, το οποίο περιέχει τις αναλυτικές οδηγίες για την προετοιμασία και τον τρόπο εργασίας μας. \n\nΣυναντιόμαστε στα εκδοτήρια των εισιτηρίων. \nΏρα συνάντησης: 11:30 \nΗ Εργασία θα ξεκινήσει δέκα λεπτά μετά από την καθορισμένη ώρα συνάντησης. \n  \nΕάν θέλετε\, μπορείτε να ενημερώσετε φίλους και γνωστούς σας που πιστεύετε ότι μπορούν να συμμετάσχουν και να ενισχύσουν την εκπομπή μας. \nΕπικοινωνείστε με την γραμματεία στο 2103216803 για περισσότερες πληροφορίες \n  \n 
URL:https://www.faroshelp.gr/event/%ce%bf-%ce%b3%cf%8d%cf%81%ce%bf%cf%82-%cf%84%ce%b7%ce%bd-%ce%b1%ce%ba%cf%81%ce%bf%cf%80%cf%8c%ce%bb%ce%b5%cf%89%cf%82-%ce%b5%ce%bd-%cf%83%ce%b9%cf%89%cf%80%ce%ae-%ce%bc%ce%b5-%cf%84%ce%b7%ce%bd-%cf%80/
END:VEVENT
BEGIN:VEVENT
DTSTART;TZID=Europe/Athens:20230929T203000
DTEND;TZID=Europe/Athens:20230929T220000
DTSTAMP:20260425T161852
CREATED:20230906T150504Z
LAST-MODIFIED:20230906T155008Z
UID:10554-1696019400-1696024800@www.faroshelp.gr
SUMMARY:πανσέληνος της Αληθείας με την Π. Χριστοφή
DESCRIPTION:Για περισσότερες πληροφορίες επικοινωνείστε με την γραμματεία \n2103216803 \nΏρα ενάρξεως: 20:30 \nΠαρακαλούμε να συνδέεστε εγκαίρως
URL:https://www.faroshelp.gr/event/%cf%80%ce%b1%ce%bd%cf%83%ce%ad%ce%bb%ce%b7%ce%bd%ce%bf%cf%82-%ce%b1%ce%bb%ce%b7%ce%b8%ce%b5%ce%af%ce%b1%cf%82-%ce%bc%ce%b5-%cf%84%ce%b7%ce%bd-%cf%80-%cf%87%cf%81%ce%b9%cf%83%cf%84%ce%bf%cf%86%ce%ae/
LOCATION:Zoom
END:VEVENT
BEGIN:VEVENT
DTSTART;TZID=Europe/Athens:20230927T183000
DTEND;TZID=Europe/Athens:20230927T210000
DTSTAMP:20260425T161852
CREATED:20230906T150839Z
LAST-MODIFIED:20230906T151535Z
UID:10559-1695839400-1695848400@www.faroshelp.gr
SUMMARY:Εργαστήριο (παλαιός κύκλος) - Μέσω Zoom!
DESCRIPTION:
URL:https://www.faroshelp.gr/event/%ce%b5%cf%81%ce%b3%ce%b1%cf%83%cf%84%ce%ae%cf%81%ce%b9%ce%bf-%cf%80%ce%b1%ce%bb%ce%b1%ce%b9%cf%8c%cf%82-%ce%ba%cf%8d%ce%ba%ce%bb%ce%bf%cf%82-%ce%bc%ce%ad%cf%83%cf%89-zoom-15/
LOCATION:Zoom
END:VEVENT
BEGIN:VEVENT
DTSTART;TZID=Europe/Athens:20230926T193000
DTEND;TZID=Europe/Athens:20230926T210000
DTSTAMP:20260425T161852
CREATED:20230906T150214Z
LAST-MODIFIED:20230906T150214Z
UID:10551-1695756600-1695762000@www.faroshelp.gr
SUMMARY:Aρχαία Ελληνική Φιλοσοφία με την Αγγελική Κομποχόλη
DESCRIPTION:Δεν χρειάζεται προηγούμενη γνώση Αρχαίων Ελληνικών\, γιατί πέραν απο τον χαρακτήρα  “μαθήματος ελληνικών”\, πρόκειται για ένα ταξείδι σε άλλους χρόνους και τόπους\, καθώς με την μεταδοτικότητα της και την αγάπη της γι΄αυτό που λειτουργεί\, η διδάσκουσα προσφέρει γνώση πολύτιμη ως να ΄χεις παρακολουθήσει την πιο ευχάριστη ταινία.
URL:https://www.faroshelp.gr/event/a%cf%81%cf%87%ce%b1%ce%af%ce%b1-%ce%b5%ce%bb%ce%bb%ce%b7%ce%bd%ce%b9%ce%ba%ce%ae-%cf%86%ce%b9%ce%bb%ce%bf%cf%83%ce%bf%cf%86%ce%af%ce%b1-%ce%bc%ce%b5-%cf%84%ce%b7%ce%bd-%ce%b1%ce%b3%ce%b3%ce%b5-12/
LOCATION:Zoom
END:VEVENT
BEGIN:VEVENT
DTSTART;TZID=Europe/Athens:20230923T203000
DTEND;TZID=Europe/Athens:20230923T213000
DTSTAMP:20260425T161852
CREATED:20230906T151227Z
LAST-MODIFIED:20230906T151227Z
UID:10562-1695501000-1695504600@www.faroshelp.gr
SUMMARY:Φθινοπωρινή Ισημερία 2023
DESCRIPTION:Συντονισμός 20:30 \nΘα σταλεί ενημέρωση σύντομα
URL:https://www.faroshelp.gr/event/%cf%86%ce%b8%ce%b9%ce%bd%ce%bf%cf%80%cf%89%cf%81%ce%b9%ce%bd%ce%ae-%ce%b9%cf%83%ce%b7%ce%bc%ce%b5%cf%81%ce%af%ce%b1-2023/
END:VEVENT
BEGIN:VEVENT
DTSTART;TZID=Europe/Athens:20230912T193000
DTEND;TZID=Europe/Athens:20230912T210000
DTSTAMP:20260425T161852
CREATED:20230906T150001Z
LAST-MODIFIED:20230906T150225Z
UID:10550-1694547000-1694552400@www.faroshelp.gr
SUMMARY:Aρχαία Ελληνική Φιλοσοφία με την Αγγελική Κομποχόλη
DESCRIPTION:Δεν χρειάζεται προηγούμενη γνώση Αρχαίων Ελληνικών\, γιατί πέραν απο τον χαρακτήρα  “μαθήματος ελληνικών”\, πρόκειται για ένα ταξείδι σε άλλους χρόνους και τόπους\, καθώς με την μεταδοτικότητα της και την αγάπη της γι΄αυτό που λειτουργεί\, η διδάσκουσα προσφέρει γνώση πολύτιμη ως να ΄χεις παρακολουθήσει την πιο ευχάριστη ταινία.
URL:https://www.faroshelp.gr/event/a%cf%81%cf%87%ce%b1%ce%af%ce%b1-%ce%b5%ce%bb%ce%bb%ce%b7%ce%bd%ce%b9%ce%ba%ce%ae-%cf%86%ce%b9%ce%bb%ce%bf%cf%83%ce%bf%cf%86%ce%af%ce%b1-%ce%bc%ce%b5-%cf%84%ce%b7%ce%bd-%ce%b1%ce%b3%ce%b3%ce%b5-11/
LOCATION:Zoom
END:VEVENT
BEGIN:VEVENT
DTSTART;TZID=Europe/Athens:20230909T190000
DTEND;TZID=Europe/Athens:20230909T210000
DTSTAMP:20260425T161852
CREATED:20230906T152455Z
LAST-MODIFIED:20230906T160025Z
UID:10564-1694286000-1694293200@www.faroshelp.gr
SUMMARY:Έκτακτο Εργαστήριο Χάριτος - Κάθαρση βαρών υποσυνειδήτου
DESCRIPTION:περισσότερες πληρφορίες στην γραμματεία 2103216803 \n  \nΤο «εργαστήριο Χάριτος» είναι μία εξαιρετικά δυναμική διαδικασία \nκατά την οποία ευρίσκουμε και τοποθετούμαστε \n σ’έναν ιερό τόπο εντός μας\,  \nόπου και έχουμε την δυνατότητα να εργασθοῦμε Συνειδητῶς\, ἀπ’ευθείας στον υποσυνείδητο νου\,  …… https://www.faroshelp.gr/erg-xar-iv_9-9-23/
URL:https://www.faroshelp.gr/event/%ce%ad%ce%ba%cf%84%ce%b1%ce%ba%cf%84%ce%bf-%ce%b5%cf%81%ce%b3%ce%b1%cf%83%cf%84%ce%ae%cf%81%ce%b9%ce%bf-%cf%87%ce%ac%cf%81%ce%b9%cf%84%ce%bf%cf%82-%ce%ba%ce%ac%ce%b8%ce%b1%cf%81%cf%83%ce%b7-%ce%b2/
LOCATION:Zoom
END:VEVENT
BEGIN:VEVENT
DTSTART;TZID=Europe/Athens:20230903T190000
DTEND;TZID=Europe/Athens:20230903T210000
DTSTAMP:20260425T161852
CREATED:20230820T173654Z
LAST-MODIFIED:20230820T173654Z
UID:10536-1693767600-1693774800@www.faroshelp.gr
SUMMARY:Εργαστήριο Χάριτος με την Πέγκυ Χριστοφή
DESCRIPTION:Μπορούν νά συμμετάσχουν όλοι όσοι γνωρίζουν τό νόημα καί τήν διαδικασία αυτής της εργασίας (Πυρ Χάριτος). \nΈναρξη:19:00 / Μόνο διαδικτυακώς \nΣυνδέεστε εγκαίρως τουλάχιστον 5 λεοτά νωρίτερα. \nΓια περισσότερες πληροφορίες επικοινωνείστε με την γραμματεία.
URL:https://www.faroshelp.gr/event/%ce%b5%cf%81%ce%b3%ce%b1%cf%83%cf%84%ce%ae%cf%81%ce%b9%ce%bf-%cf%87%ce%ac%cf%81%ce%b9%cf%84%ce%bf%cf%82-%ce%bc%ce%b5-%cf%84%ce%b7%ce%bd-%cf%80%ce%ad%ce%b3%ce%ba%cf%85-%cf%87%cf%81%ce%b9%cf%83%cf%84-3/
LOCATION:Διαδικτυακώς
END:VEVENT
BEGIN:VEVENT
DTSTART;TZID=Europe/Athens:20230831T203000
DTEND;TZID=Europe/Athens:20230831T220000
DTSTAMP:20260425T161852
CREATED:20230820T174007Z
LAST-MODIFIED:20230820T174007Z
UID:10540-1693513800-1693519200@www.faroshelp.gr
SUMMARY:πανσέληνος της Χάριτος ΙΙ
DESCRIPTION:Για περισσότερες πληροφορίες επικοινωνείστε με την γραμματεία
URL:https://www.faroshelp.gr/event/%cf%80%ce%b1%ce%bd%cf%83%ce%ad%ce%bb%ce%b7%ce%bd%ce%bf%cf%82-%cf%84%ce%b7%cf%82-%cf%87%ce%ac%cf%81%ce%b9%cf%84%ce%bf%cf%82-%ce%b9%ce%b9/
LOCATION:Διαδικτυακώς
END:VEVENT
BEGIN:VEVENT
DTSTART;TZID=Europe/Athens:20230828T190000
DTEND;TZID=Europe/Athens:20230828T210000
DTSTAMP:20260425T161852
CREATED:20230820T173546Z
LAST-MODIFIED:20230820T173546Z
UID:10534-1693249200-1693256400@www.faroshelp.gr
SUMMARY:Εργαστήριο Χάριτος με την Πέγκυ Χριστοφή
DESCRIPTION:Μπορούν νά συμμετάσχουν όλοι όσοι γνωρίζουν τό νόημα καί τήν διαδικασία αυτής της εργασίας (Πυρ Χάριτος). \nΈναρξη:19:00 / Μόνο διαδικτυακώς \nΣυνδέεστε εγκαίρως τουλάχιστον 5 λεοτά νωρίτερα. \nΓια περισσότερες πληροφορίες επικοινωνείστε με την γραμματεία.
URL:https://www.faroshelp.gr/event/%ce%b5%cf%81%ce%b3%ce%b1%cf%83%cf%84%ce%ae%cf%81%ce%b9%ce%bf-%cf%87%ce%ac%cf%81%ce%b9%cf%84%ce%bf%cf%82-%ce%bc%ce%b5-%cf%84%ce%b7%ce%bd-%cf%80%ce%ad%ce%b3%ce%ba%cf%85-%cf%87%cf%81%ce%b9%cf%83%cf%84-2/
LOCATION:Διαδικτυακώς
END:VEVENT
BEGIN:VEVENT
DTSTART;TZID=Europe/Athens:20230807T190000
DTEND;TZID=Europe/Athens:20230807T210000
DTSTAMP:20260425T161852
CREATED:20230820T173413Z
LAST-MODIFIED:20230820T173413Z
UID:10533-1691434800-1691442000@www.faroshelp.gr
SUMMARY:Εργαστήριο Χάριτος με την Πέγκυ Χριστοφή
DESCRIPTION:Μπορούν νά συμμετάσχουν όλοι όσοι γνωρίζουν τό νόημα καί τήν διαδικασία αυτής της εργασίας (Πυρ Χάριτος). \nΈναρξη:19:00 / Μόνο διαδικτυακώς \nΣυνδέεστε εγκαίρως τουλάχιστον 5 λεοτά νωρίτερα. \nΓια περισσότερες πληροφορίες επικοινωνείστε με την γραμματεία.
URL:https://www.faroshelp.gr/event/%ce%b5%cf%81%ce%b3%ce%b1%cf%83%cf%84%ce%ae%cf%81%ce%b9%ce%bf-%cf%87%ce%ac%cf%81%ce%b9%cf%84%ce%bf%cf%82-%ce%bc%ce%b5-%cf%84%ce%b7%ce%bd-%cf%80%ce%ad%ce%b3%ce%ba%cf%85-%cf%87%cf%81%ce%b9%cf%83%cf%84/
LOCATION:Διαδικτυακώς
END:VEVENT
BEGIN:VEVENT
DTSTART;TZID=Europe/Athens:20230801T203000
DTEND;TZID=Europe/Athens:20230801T220000
DTSTAMP:20260425T161852
CREATED:20230820T173836Z
LAST-MODIFIED:20230820T173836Z
UID:10541-1690921800-1690927200@www.faroshelp.gr
SUMMARY:πανσέληνος της Χάριτος Ι
DESCRIPTION:
URL:https://www.faroshelp.gr/event/%cf%80%ce%b1%ce%bd%cf%83%ce%ad%ce%bb%ce%b7%ce%bd%ce%bf%cf%82-%cf%84%ce%b7%cf%82-%cf%87%ce%ac%cf%81%ce%b9%cf%84%ce%bf%cf%82-%ce%b9/
LOCATION:Διαδικτυακώς
END:VEVENT
BEGIN:VEVENT
DTSTART;TZID=Europe/Athens:20230709T183000
DTEND;TZID=Europe/Athens:20230709T210000
DTSTAMP:20260425T161852
CREATED:20230630T153147Z
LAST-MODIFIED:20230630T153147Z
UID:10519-1688927400-1688936400@www.faroshelp.gr
SUMMARY:Εργαστήριο Συνειδητής Επικοινωνίας (2021)
DESCRIPTION:
URL:https://www.faroshelp.gr/event/%ce%b5%cf%81%ce%b3%ce%b1%cf%83%cf%84%ce%ae%cf%81%ce%b9%ce%bf-%cf%83%cf%85%ce%bd%ce%b5%ce%b9%ce%b4%ce%b7%cf%84%ce%ae%cf%82-%ce%b5%cf%80%ce%b9%ce%ba%ce%bf%ce%b9%ce%bd%cf%89%ce%bd%ce%af%ce%b1%cf%82-20-17/
LOCATION:Zoom
END:VEVENT
BEGIN:VEVENT
DTSTART;TZID=Europe/Athens:20230708T183000
DTEND;TZID=Europe/Athens:20230708T213000
DTSTAMP:20260425T161852
CREATED:20230630T153309Z
LAST-MODIFIED:20230630T153309Z
UID:10521-1688841000-1688851800@www.faroshelp.gr
SUMMARY:Εργαστήριο (παλαιός κύκλος) - Μόνο δια ζώσης!
DESCRIPTION:Ώρα προσέλευσης 18:00 \nΝΕΑ ΔΙΕΥΘΥΝΣΗ: Παράσχου Αχ.59-61
URL:https://www.faroshelp.gr/event/%ce%b5%cf%81%ce%b3%ce%b1%cf%83%cf%84%ce%ae%cf%81%ce%b9%ce%bf-%cf%80%ce%b1%ce%bb%ce%b1%ce%b9%cf%8c%cf%82-%ce%ba%cf%8d%ce%ba%ce%bb%ce%bf%cf%82-%ce%bc%cf%8c%ce%bd%ce%bf-%ce%b4%ce%b9%ce%b1-%ce%b6-14/
LOCATION:Παράσχου Αχ. 59-61\, Παράσχου Αχ.\, Αθήνα\, Αττικής\, 11474\, Ελλάδα
END:VEVENT
BEGIN:VEVENT
DTSTART;TZID=Europe/Athens:20230705T183000
DTEND;TZID=Europe/Athens:20230705T210000
DTSTAMP:20260425T161852
CREATED:20230630T153511Z
LAST-MODIFIED:20230630T153511Z
UID:10523-1688581800-1688590800@www.faroshelp.gr
SUMMARY:Εργαστήριο (παλαιός κύκλος) - Μέσω Zoom!
DESCRIPTION:
URL:https://www.faroshelp.gr/event/%ce%b5%cf%81%ce%b3%ce%b1%cf%83%cf%84%ce%ae%cf%81%ce%b9%ce%bf-%cf%80%ce%b1%ce%bb%ce%b1%ce%b9%cf%8c%cf%82-%ce%ba%cf%8d%ce%ba%ce%bb%ce%bf%cf%82-%ce%bc%ce%ad%cf%83%cf%89-zoom-14/
LOCATION:Zoom
END:VEVENT
BEGIN:VEVENT
DTSTART;TZID=Europe/Athens:20230703T203000
DTEND;TZID=Europe/Athens:20230703T220000
DTSTAMP:20260425T161852
CREATED:20230630T153044Z
LAST-MODIFIED:20230630T153044Z
UID:10516-1688416200-1688421600@www.faroshelp.gr
SUMMARY:πανσέληνος του Ελέους με την Πέγκυ Χριστοφή
DESCRIPTION:Την ημέρα της πανσελήνου\, συνδυάζονται διαλογιστικές πρακτικές και προσευχητική πράξη και παραδίδονται Οδηγίες Διδασκάλων\, αμέσως εφαρμόσιμες\, για το προσωπικό και το συλλογικό Καλό. \nΠερισσότερες πληροφορίες στην γραμματεία: faros.mko@gmail.com\, 2103216803
URL:https://www.faroshelp.gr/event/%cf%80%ce%b1%ce%bd%cf%83%ce%ad%ce%bb%ce%b7%ce%bd%ce%bf%cf%82-%cf%84%ce%bf%cf%85-%ce%b5%ce%bb%ce%ad%ce%bf%cf%85%cf%82-%ce%bc%ce%b5-%cf%84%ce%b7%ce%bd-%cf%80%ce%ad%ce%b3%ce%ba%cf%85-%cf%87%cf%81%ce%b9-2/
LOCATION:Στον Φάρο έως 10 συμμετοχές & διαδικτυακώς
ATTACH;FMTTYPE=image/jpeg:https://www.faroshelp.gr/wp-content/uploads/2023/06/owl-1834152_1280-e1688139015430.jpg
END:VEVENT
BEGIN:VEVENT
DTSTART;TZID=Europe/Athens:20230620T193000
DTEND;TZID=Europe/Athens:20230620T210000
DTSTAMP:20260425T161852
CREATED:20230529T124027Z
LAST-MODIFIED:20230529T124027Z
UID:10499-1687289400-1687294800@www.faroshelp.gr
SUMMARY:Aρχαία Ελληνική Φιλοσοφία με την Αγγελική Κομποχόλη
DESCRIPTION:Δεν χρειάζεται προηγούμενη γνώση Αρχαίων Ελληνικών\, γιατί πέραν απο τον χαρακτήρα  “μαθήματος ελληνικών”\, πρόκειται για ένα ταξείδι σε άλλους χρόνους και τόπους\, καθώς με την μεταδοτικότητα της και την αγάπη της γι΄αυτό που λειτουργεί\, η διδάσκουσα προσφέρει γνώση πολύτιμη ως να ΄χεις παρακολουθήσει την πιο ευχάριστη ταινία.
URL:https://www.faroshelp.gr/event/a%cf%81%cf%87%ce%b1%ce%af%ce%b1-%ce%b5%ce%bb%ce%bb%ce%b7%ce%bd%ce%b9%ce%ba%ce%ae-%cf%86%ce%b9%ce%bb%ce%bf%cf%83%ce%bf%cf%86%ce%af%ce%b1-%ce%bc%ce%b5-%cf%84%ce%b7%ce%bd-%ce%b1%ce%b3%ce%b3%ce%b5-10/
LOCATION:Zoom
END:VEVENT
BEGIN:VEVENT
DTSTART;TZID=Europe/Athens:20230618T183000
DTEND;TZID=Europe/Athens:20230618T210000
DTSTAMP:20260425T161852
CREATED:20230529T124134Z
LAST-MODIFIED:20230529T124134Z
UID:10502-1687113000-1687122000@www.faroshelp.gr
SUMMARY:Εργαστήριο Συνειδητής Επικοινωνίας (2021)
DESCRIPTION:
URL:https://www.faroshelp.gr/event/%ce%b5%cf%81%ce%b3%ce%b1%cf%83%cf%84%ce%ae%cf%81%ce%b9%ce%bf-%cf%83%cf%85%ce%bd%ce%b5%ce%b9%ce%b4%ce%b7%cf%84%ce%ae%cf%82-%ce%b5%cf%80%ce%b9%ce%ba%ce%bf%ce%b9%ce%bd%cf%89%ce%bd%ce%af%ce%b1%cf%82-20-16/
LOCATION:Zoom
END:VEVENT
BEGIN:VEVENT
DTSTART;TZID=Europe/Athens:20230617T183000
DTEND;TZID=Europe/Athens:20230617T210000
DTSTAMP:20260425T161852
CREATED:20230529T124447Z
LAST-MODIFIED:20230529T124447Z
UID:10506-1687026600-1687035600@www.faroshelp.gr
SUMMARY:Εργαστήριο (παλαιός κύκλος) - Μόνο δια ζώσης!
DESCRIPTION:Ώρα προσέλευσης 18:00 \nΝΕΑ ΔΙΕΥΘΥΝΣΗ: Παράσχου Αχ.59-61
URL:https://www.faroshelp.gr/event/%ce%b5%cf%81%ce%b3%ce%b1%cf%83%cf%84%ce%ae%cf%81%ce%b9%ce%bf-%cf%80%ce%b1%ce%bb%ce%b1%ce%b9%cf%8c%cf%82-%ce%ba%cf%8d%ce%ba%ce%bb%ce%bf%cf%82-%ce%bc%cf%8c%ce%bd%ce%bf-%ce%b4%ce%b9%ce%b1-%ce%b6-13/
LOCATION:Παράσχου Αχ. 59-61\, Παράσχου Αχ.\, Αθήνα\, Αττικής\, 11474\, Ελλάδα
END:VEVENT
BEGIN:VEVENT
DTSTART;TZID=Europe/Athens:20230614T183000
DTEND;TZID=Europe/Athens:20230614T210000
DTSTAMP:20260425T161852
CREATED:20230529T124249Z
LAST-MODIFIED:20230529T124249Z
UID:10504-1686767400-1686776400@www.faroshelp.gr
SUMMARY:Εργαστήριο (παλαιός κύκλος) - Μέσω Zoom!
DESCRIPTION:
URL:https://www.faroshelp.gr/event/%ce%b5%cf%81%ce%b3%ce%b1%cf%83%cf%84%ce%ae%cf%81%ce%b9%ce%bf-%cf%80%ce%b1%ce%bb%ce%b1%ce%b9%cf%8c%cf%82-%ce%ba%cf%8d%ce%ba%ce%bb%ce%bf%cf%82-%ce%bc%ce%ad%cf%83%cf%89-zoom-13/
LOCATION:Zoom
END:VEVENT
BEGIN:VEVENT
DTSTART;TZID=Europe/Athens:20230606T193000
DTEND;TZID=Europe/Athens:20230606T210000
DTSTAMP:20260425T161852
CREATED:20230529T123949Z
LAST-MODIFIED:20230529T123949Z
UID:10497-1686079800-1686085200@www.faroshelp.gr
SUMMARY:Aρχαία Ελληνική Φιλοσοφία με την Αγγελική Κομποχόλη
DESCRIPTION:Δεν χρειάζεται προηγούμενη γνώση Αρχαίων Ελληνικών\, γιατί πέραν απο τον χαρακτήρα  “μαθήματος ελληνικών”\, πρόκειται για ένα ταξείδι σε άλλους χρόνους και τόπους\, καθώς με την μεταδοτικότητα της και την αγάπη της γι΄αυτό που λειτουργεί\, η διδάσκουσα προσφέρει γνώση πολύτιμη ως να ΄χεις παρακολουθήσει την πιο ευχάριστη ταινία.
URL:https://www.faroshelp.gr/event/a%cf%81%cf%87%ce%b1%ce%af%ce%b1-%ce%b5%ce%bb%ce%bb%ce%b7%ce%bd%ce%b9%ce%ba%ce%ae-%cf%86%ce%b9%ce%bb%ce%bf%cf%83%ce%bf%cf%86%ce%af%ce%b1-%ce%bc%ce%b5-%cf%84%ce%b7%ce%bd-%ce%b1%ce%b3%ce%b3%ce%b5%ce%bb-9/
LOCATION:Zoom
END:VEVENT
BEGIN:VEVENT
DTSTART;TZID=Europe/Athens:20230604T203000
DTEND;TZID=Europe/Athens:20230604T220000
DTSTAMP:20260425T161852
CREATED:20230529T124623Z
LAST-MODIFIED:20230529T124623Z
UID:10509-1685910600-1685916000@www.faroshelp.gr
SUMMARY:πανσέληνος της Φωτίσεως με την Πέγκυ Χριστοφή
DESCRIPTION:Την ημέρα της πανσελήνου\, συνδυάζονται διαλογιστικές πρακτικές και προσευχητική πράξη και παραδίδονται Οδηγίες Διδασκάλων\, αμέσως εφαρμόσιμες\, για το προσωπικό και το συλλογικό Καλό. \nΠερισσότερες πληροφορίες στην γραμματεία: faros.mko@gmail.com\, 2103216803
URL:https://www.faroshelp.gr/event/%cf%80%ce%b1%ce%bd%cf%83%ce%ad%ce%bb%ce%b7%ce%bd%ce%bf%cf%82-%cf%84%ce%b7%cf%82-%cf%86%cf%89%cf%84%ce%af%cf%83%ce%b5%cf%89%cf%82-%ce%bc%ce%b5-%cf%84%ce%b7%ce%bd-%cf%80%ce%ad%ce%b3%ce%ba%cf%85-%cf%87-2/
LOCATION:Στον Φάρο έως 10 συμμετοχές & διαδικτυακώς
END:VEVENT
BEGIN:VEVENT
DTSTART;TZID=Europe/Athens:20230523T193000
DTEND;TZID=Europe/Athens:20230523T210000
DTSTAMP:20260425T161852
CREATED:20230429T221915Z
LAST-MODIFIED:20230429T221915Z
UID:10478-1684870200-1684875600@www.faroshelp.gr
SUMMARY:Aρχαία Ελληνική Φιλοσοφία με την Αγγελική Κομποχόλη
DESCRIPTION:Δεν χρειάζεται προηγούμενη γνώση Αρχαίων Ελληνικών\, γιατί πέραν απο τον χαρακτήρα  “μαθήματος ελληνικών”\, πρόκειται για ένα ταξείδι σε άλλους χρόνους και τόπους\, καθώς με την μεταδοτικότητα της και την αγάπη της γι΄αυτό που λειτουργεί\, η διδάσκουσα προσφέρει γνώση πολύτιμη ως να ΄χεις παρακολουθήσει την πιο ευχάριστη ταινία.
URL:https://www.faroshelp.gr/event/a%cf%81%cf%87%ce%b1%ce%af%ce%b1-%ce%b5%ce%bb%ce%bb%ce%b7%ce%bd%ce%b9%ce%ba%ce%ae-%cf%86%ce%b9%ce%bb%ce%bf%cf%83%ce%bf%cf%86%ce%af%ce%b1-%ce%bc%ce%b5-%cf%84%ce%b7%ce%bd-%ce%b1%ce%b3%ce%b3%ce%b5%ce%bb-8/
LOCATION:Zoom
END:VEVENT
END:VCALENDAR