BEGIN:VCALENDAR
VERSION:2.0
PRODID:-//faroshelp.gr - ECPv6.15.20//NONSGML v1.0//EN
CALSCALE:GREGORIAN
METHOD:PUBLISH
X-WR-CALNAME:faroshelp.gr
X-ORIGINAL-URL:https://www.faroshelp.gr
X-WR-CALDESC:Events for faroshelp.gr
REFRESH-INTERVAL;VALUE=DURATION:PT1H
X-Robots-Tag:noindex
X-PUBLISHED-TTL:PT1H
BEGIN:VTIMEZONE
TZID:Europe/Athens
BEGIN:DAYLIGHT
TZOFFSETFROM:+0200
TZOFFSETTO:+0300
TZNAME:EEST
DTSTART:20220327T010000
END:DAYLIGHT
BEGIN:STANDARD
TZOFFSETFROM:+0300
TZOFFSETTO:+0200
TZNAME:EET
DTSTART:20221030T010000
END:STANDARD
BEGIN:DAYLIGHT
TZOFFSETFROM:+0200
TZOFFSETTO:+0300
TZNAME:EEST
DTSTART:20230326T010000
END:DAYLIGHT
BEGIN:STANDARD
TZOFFSETFROM:+0300
TZOFFSETTO:+0200
TZNAME:EET
DTSTART:20231029T010000
END:STANDARD
BEGIN:DAYLIGHT
TZOFFSETFROM:+0200
TZOFFSETTO:+0300
TZNAME:EEST
DTSTART:20240331T010000
END:DAYLIGHT
BEGIN:STANDARD
TZOFFSETFROM:+0300
TZOFFSETTO:+0200
TZNAME:EET
DTSTART:20241027T010000
END:STANDARD
BEGIN:DAYLIGHT
TZOFFSETFROM:+0200
TZOFFSETTO:+0300
TZNAME:EEST
DTSTART:20250330T010000
END:DAYLIGHT
BEGIN:STANDARD
TZOFFSETFROM:+0300
TZOFFSETTO:+0200
TZNAME:EET
DTSTART:20251026T010000
END:STANDARD
END:VTIMEZONE
BEGIN:VEVENT
DTSTART;TZID=Europe/Athens:20240320T183000
DTEND;TZID=Europe/Athens:20240320T210000
DTSTAMP:20260425T183728
CREATED:20240312T220731Z
LAST-MODIFIED:20240312T220731Z
UID:10694-1710959400-1710968400@www.faroshelp.gr
SUMMARY:Εργαστήριο (παλαιός κύκλος) - Μέσω Zoom!
DESCRIPTION:
URL:https://www.faroshelp.gr/event/%ce%b5%cf%81%ce%b3%ce%b1%cf%83%cf%84%ce%ae%cf%81%ce%b9%ce%bf-%cf%80%ce%b1%ce%bb%ce%b1%ce%b9%cf%8c%cf%82-%ce%ba%cf%8d%ce%ba%ce%bb%ce%bf%cf%82-%ce%bc%ce%ad%cf%83%cf%89-zoom-20/
LOCATION:Zoom
END:VEVENT
BEGIN:VEVENT
DTSTART;TZID=Europe/Athens:20240316T183000
DTEND;TZID=Europe/Athens:20240316T210000
DTSTAMP:20260425T183728
CREATED:20240312T220810Z
LAST-MODIFIED:20240312T220826Z
UID:10696-1710613800-1710622800@www.faroshelp.gr
SUMMARY:Εργαστήριο (παλαιός κύκλος) - Μόνο δια ζώσης!
DESCRIPTION:
URL:https://www.faroshelp.gr/event/%ce%b5%cf%81%ce%b3%ce%b1%cf%83%cf%84%ce%ae%cf%81%ce%b9%ce%bf-%cf%80%ce%b1%ce%bb%ce%b1%ce%b9%cf%8c%cf%82-%ce%ba%cf%8d%ce%ba%ce%bb%ce%bf%cf%82-%ce%bc%cf%8c%ce%bd%ce%bf-%ce%b4%ce%b9%ce%b1-%ce%b6-19/
LOCATION:Παράσχου Αχ. 59-61\, Παράσχου Αχ.\, Αθήνα\, Αττικής\, 11474\, Ελλάδα
END:VEVENT
BEGIN:VEVENT
DTSTART;TZID=Europe/Athens:20240127T190000
DTEND;TZID=Europe/Athens:20240127T210000
DTSTAMP:20260425T183728
CREATED:20240112T133059Z
LAST-MODIFIED:20240112T133622Z
UID:10663-1706382000-1706389200@www.faroshelp.gr
SUMMARY:παράδοση (το θέμα θα ανακοινωθεί σύντομα)\, με την Π.Χριστοφή
DESCRIPTION:Προσεχώς περισσότερες πληροφορίες \nΈναρξη 19:00 \nμέσω Zoom \n 
URL:https://www.faroshelp.gr/event/%cf%80%ce%b1%ce%bd%cf%83%ce%ad%ce%bb%ce%b7%ce%bd%ce%bf%cf%82-%cf%84%ce%b7%cf%82-%ce%b1%ce%bd%ce%b1%cf%80%cf%84%cf%8d%ce%be%ce%b5%cf%89%cf%82-%ce%bc%ce%b5-%cf%84%ce%b7%ce%bd-%cf%80-%cf%87%cf%81%ce%b9/
LOCATION:Διαδικτυακώς
END:VEVENT
BEGIN:VEVENT
DTSTART;TZID=Europe/Athens:20240125T203000
DTEND;TZID=Europe/Athens:20240125T220000
DTSTAMP:20260425T183729
CREATED:20240112T133821Z
LAST-MODIFIED:20240112T133821Z
UID:10668-1706214600-1706220000@www.faroshelp.gr
SUMMARY:πανσέληνος της Αναπτύξεως με την Π. Χριστοφή
DESCRIPTION:Για περισσότερες πληροφορίες επικοινωνείστε με την γραμματεία \n2103216803 \nΏρα ενάρξεως: 20:30 \nΠαρακαλούμε να συνδέεστε εγκαίρως
URL:https://www.faroshelp.gr/event/%cf%80%ce%b1%ce%bd%cf%83%ce%ad%ce%bb%ce%b7%ce%bd%ce%bf%cf%82-%cf%84%ce%b7%cf%82-%ce%b1%ce%bd%ce%b1%cf%80%cf%84%cf%8d%ce%be%ce%b5%cf%89%cf%82-%ce%bc%ce%b5-%cf%84%ce%b7%ce%bd-%cf%80-%cf%87%cf%81%ce%b9-2/
LOCATION:Διαδικτυακώς
END:VEVENT
BEGIN:VEVENT
DTSTART;TZID=Europe/Athens:20240121T183000
DTEND;TZID=Europe/Athens:20240121T210000
DTSTAMP:20260425T183729
CREATED:20240112T132942Z
LAST-MODIFIED:20240112T132942Z
UID:10661-1705861800-1705870800@www.faroshelp.gr
SUMMARY:Εργαστήριο (παλαιός κύκλος) - Μέσω Zoom!
DESCRIPTION:
URL:https://www.faroshelp.gr/event/%ce%b5%cf%81%ce%b3%ce%b1%cf%83%cf%84%ce%ae%cf%81%ce%b9%ce%bf-%cf%80%ce%b1%ce%bb%ce%b1%ce%b9%cf%8c%cf%82-%ce%ba%cf%8d%ce%ba%ce%bb%ce%bf%cf%82-%ce%bc%ce%ad%cf%83%cf%89-zoom-19/
LOCATION:Διαδικτυακώς
END:VEVENT
BEGIN:VEVENT
DTSTART;TZID=Europe/Athens:20231227T203000
DTEND;TZID=Europe/Athens:20231227T220000
DTSTAMP:20260425T183729
CREATED:20231212T185715Z
LAST-MODIFIED:20231212T185715Z
UID:10658-1703709000-1703714400@www.faroshelp.gr
SUMMARY:πανσέληνος της Αναγεννήσεως με την Π. Χριστοφή
DESCRIPTION:Για περισσότερες πληροφορίες επικοινωνείστε με την γραμματεία \n2103216803 \nΏρα ενάρξεως: 20:30 \nΠαρακαλούμε να συνδέεστε εγκαίρως
URL:https://www.faroshelp.gr/event/%cf%80%ce%b1%ce%bd%cf%83%ce%ad%ce%bb%ce%b7%ce%bd%ce%bf%cf%82-%cf%84%ce%b7%cf%82-%ce%b1%ce%bd%ce%b1%ce%b3%ce%b5%ce%bd%ce%bd%ce%ae%cf%83%ce%b5%cf%89%cf%82-%ce%bc%ce%b5-%cf%84%ce%b7%ce%bd-%cf%80-%cf%87/
LOCATION:Διαδικτυακώς
END:VEVENT
BEGIN:VEVENT
DTSTART;TZID=Europe/Athens:20231221T193000
DTEND;TZID=Europe/Athens:20231221T210000
DTSTAMP:20260425T183729
CREATED:20231212T185202Z
LAST-MODIFIED:20231212T185250Z
UID:10647-1703187000-1703192400@www.faroshelp.gr
SUMMARY:Aρχαία Ελληνική Φιλοσοφία με την Αγγελική Κομποχόλη
DESCRIPTION:Δεν χρειάζεται προηγούμενη γνώση Αρχαίων Ελληνικών\, γιατί πέραν απο τον χαρακτήρα  “μαθήματος ελληνικών”\, πρόκειται για ένα ταξείδι σε άλλους χρόνους και τόπους\, καθώς με την μεταδοτικότητα της και την αγάπη της γι΄αυτό που λειτουργεί\, η διδάσκουσα προσφέρει γνώση πολύτιμη ως να ΄χεις παρακολουθήσει την πιο ευχάριστη ταινία.
URL:https://www.faroshelp.gr/event/a%cf%81%cf%87%ce%b1%ce%af%ce%b1-%ce%b5%ce%bb%ce%bb%ce%b7%ce%bd%ce%b9%ce%ba%ce%ae-%cf%86%ce%b9%ce%bb%ce%bf%cf%83%ce%bf%cf%86%ce%af%ce%b1-%ce%bc%ce%b5-%cf%84%ce%b7%ce%bd-%ce%b1%ce%b3%ce%b3%ce%b5-17/
LOCATION:Zoom
END:VEVENT
BEGIN:VEVENT
DTSTART;TZID=Europe/Athens:20231220T183000
DTEND;TZID=Europe/Athens:20231220T210000
DTSTAMP:20260425T183729
CREATED:20231212T185444Z
LAST-MODIFIED:20231212T185444Z
UID:10652-1703097000-1703106000@www.faroshelp.gr
SUMMARY:Εργαστήριο (παλαιός κύκλος) - Μέσω Zoom!
DESCRIPTION:
URL:https://www.faroshelp.gr/event/%ce%b5%cf%81%ce%b3%ce%b1%cf%83%cf%84%ce%ae%cf%81%ce%b9%ce%bf-%cf%80%ce%b1%ce%bb%ce%b1%ce%b9%cf%8c%cf%82-%ce%ba%cf%8d%ce%ba%ce%bb%ce%bf%cf%82-%ce%bc%ce%ad%cf%83%cf%89-zoom-18/
LOCATION:Zoom
END:VEVENT
BEGIN:VEVENT
DTSTART;TZID=Europe/Athens:20231217T183000
DTEND;TZID=Europe/Athens:20231217T210000
DTSTAMP:20260425T183729
CREATED:20231212T185619Z
LAST-MODIFIED:20231212T185739Z
UID:10656-1702837800-1702846800@www.faroshelp.gr
SUMMARY:Εργαστήριο Συνειδητής Επικοινωνίας (2021)
DESCRIPTION:
URL:https://www.faroshelp.gr/event/%ce%b5%cf%81%ce%b3%ce%b1%cf%83%cf%84%ce%ae%cf%81%ce%b9%ce%bf-%cf%83%cf%85%ce%bd%ce%b5%ce%b9%ce%b4%ce%b7%cf%84%ce%ae%cf%82-%ce%b5%cf%80%ce%b9%ce%ba%ce%bf%ce%b9%ce%bd%cf%89%ce%bd%ce%af%ce%b1%cf%82-20-19/
LOCATION:Zoom
END:VEVENT
BEGIN:VEVENT
DTSTART;TZID=Europe/Athens:20231216T183000
DTEND;TZID=Europe/Athens:20231216T210000
DTSTAMP:20260425T183729
CREATED:20231212T185401Z
LAST-MODIFIED:20231212T185401Z
UID:10650-1702751400-1702760400@www.faroshelp.gr
SUMMARY:Εργαστήριο (παλαιός κύκλος) - Μόνο δια ζώσης!
DESCRIPTION:Ώρα προσέλευσης 18:00 \nΠαράσχου Αχ.59-61
URL:https://www.faroshelp.gr/event/%ce%b5%cf%81%ce%b3%ce%b1%cf%83%cf%84%ce%ae%cf%81%ce%b9%ce%bf-%cf%80%ce%b1%ce%bb%ce%b1%ce%b9%cf%8c%cf%82-%ce%ba%cf%8d%ce%ba%ce%bb%ce%bf%cf%82-%ce%bc%cf%8c%ce%bd%ce%bf-%ce%b4%ce%b9%ce%b1-%ce%b6-18/
LOCATION:Παράσχου Αχ. 59-61\, Παράσχου Αχ.\, Αθήνα\, Αττικής\, 11474\, Ελλάδα
END:VEVENT
BEGIN:VEVENT
DTSTART;TZID=Europe/Athens:20231212T193000
DTEND;TZID=Europe/Athens:20231212T210000
DTSTAMP:20260425T183729
CREATED:20231212T185205Z
LAST-MODIFIED:20231212T185311Z
UID:10646-1702409400-1702414800@www.faroshelp.gr
SUMMARY:Aρχαία Ελληνική Φιλοσοφία με την Αγγελική Κομποχόλη
DESCRIPTION:Δεν χρειάζεται προηγούμενη γνώση Αρχαίων Ελληνικών\, γιατί πέραν απο τον χαρακτήρα  “μαθήματος ελληνικών”\, πρόκειται για ένα ταξείδι σε άλλους χρόνους και τόπους\, καθώς με την μεταδοτικότητα της και την αγάπη της γι΄αυτό που λειτουργεί\, η διδάσκουσα προσφέρει γνώση πολύτιμη ως να ΄χεις παρακολουθήσει την πιο ευχάριστη ταινία.
URL:https://www.faroshelp.gr/event/a%cf%81%cf%87%ce%b1%ce%af%ce%b1-%ce%b5%ce%bb%ce%bb%ce%b7%ce%bd%ce%b9%ce%ba%ce%ae-%cf%86%ce%b9%ce%bb%ce%bf%cf%83%ce%bf%cf%86%ce%af%ce%b1-%ce%bc%ce%b5-%cf%84%ce%b7%ce%bd-%ce%b1%ce%b3%ce%b3%ce%b5-18/
LOCATION:Zoom
END:VEVENT
BEGIN:VEVENT
DTSTART;TZID=Europe/Athens:20231203T110000
DTEND;TZID=Europe/Athens:20231203T130000
DTSTAMP:20260425T183729
CREATED:20231212T185541Z
LAST-MODIFIED:20231212T185541Z
UID:10654-1701601200-1701608400@www.faroshelp.gr
SUMMARY:Ο Γύρος την Ακροπόλεως εν Σιωπή με την Παρέας μας
DESCRIPTION:Αγαπητοί\, Ξεκινάμε πάλι τον Γύρο του Ιερού Βράχου επανεγράφοντας και ενισχύοντας την προηγούμενη αντίστοιχη εγγραφή μας. \nΣτόχος μας είναι η Εργασία αυτή να επαναλαμβάνεται την πρώτη Κυριακή κάθε μήνα\, με την συμμετοχή όσων μελών και φίλων ανταποκριθούν στο συγκεκριμένο κάλεσμα. \nΆν σας φαίνεται ενδιαφέρον επικοινωνείστε μαζί μας για να σας δοθεί και να διαβαστεί με ιδιαίτερη προσοχή\, το πρώτο κείμενο που είχε δοθεί το 2011 από τον Δάσκαλο Alba\, το οποίο περιέχει τις αναλυτικές οδηγίες για την προετοιμασία και τον τρόπο εργασίας μας. \nΣυναντιόμαστε στα εκδοτήρια των εισιτηρίων. \nΏρα συνάντησης: 11:30 \nΗ Εργασία θα ξεκινήσει δέκα λεπτά μετά από την καθορισμένη ώρα συνάντησης. \n  \nΕάν θέλετε\, μπορείτε να ενημερώσετε φίλους και γνωστούς σας που πιστεύετε ότι μπορούν να συμμετάσχουν και να ενισχύσουν την εκπομπή μας. \nΕπικοινωνείστε με την γραμματεία στο 2103216803 για περισσότερες πληροφορίες \n  \n 
URL:https://www.faroshelp.gr/event/%ce%bf-%ce%b3%cf%8d%cf%81%ce%bf%cf%82-%cf%84%ce%b7%ce%bd-%ce%b1%ce%ba%cf%81%ce%bf%cf%80%cf%8c%ce%bb%ce%b5%cf%89%cf%82-%ce%b5%ce%bd-%cf%83%ce%b9%cf%89%cf%80%ce%ae-%ce%bc%ce%b5-%cf%84%ce%b7%ce%bd-3/
END:VEVENT
BEGIN:VEVENT
DTSTART;TZID=Europe/Athens:20231127T203000
DTEND;TZID=Europe/Athens:20231127T223000
DTSTAMP:20260425T183729
CREATED:20231106T152731Z
LAST-MODIFIED:20231106T152731Z
UID:10641-1701117000-1701124200@www.faroshelp.gr
SUMMARY:πανσέληνος της Δικαιοσύνης με την Π. Χριστοφή
DESCRIPTION:Για περισσότερες πληροφορίες επικοινωνείστε με την γραμματεία \n2103216803 \nΏρα ενάρξεως: 20:30 \nΠαρακαλούμε να συνδέεστε εγκαίρως
URL:https://www.faroshelp.gr/event/%cf%80%ce%b1%ce%bd%cf%83%ce%ad%ce%bb%ce%b7%ce%bd%ce%bf%cf%82-%cf%84%ce%b7%cf%82-%ce%b4%ce%b9%ce%ba%ce%b1%ce%b9%ce%bf%cf%83%cf%8d%ce%bd%ce%b7%cf%82-%ce%bc%ce%b5-%cf%84%ce%b7%ce%bd-%cf%80-%cf%87%cf%81/
LOCATION:Διαδικτυακώς
END:VEVENT
BEGIN:VEVENT
DTSTART;TZID=Europe/Athens:20231127T110000
DTEND;TZID=Europe/Athens:20231127T130000
DTSTAMP:20260425T183729
CREATED:20231106T152329Z
LAST-MODIFIED:20231106T154114Z
UID:10632-1701082800-1701090000@www.faroshelp.gr
SUMMARY:Aρχαία Ελληνική Φιλοσοφία με την Αγγελική Κομποχόλη
DESCRIPTION:Δεν χρειάζεται προηγούμενη γνώση Αρχαίων Ελληνικών\, γιατί πέραν απο τον χαρακτήρα  “μαθήματος ελληνικών”\, πρόκειται για ένα ταξείδι σε άλλους χρόνους και τόπους\, καθώς με την μεταδοτικότητα της και την αγάπη της γι΄αυτό που λειτουργεί\, η διδάσκουσα προσφέρει γνώση πολύτιμη ως να ΄χεις παρακολουθήσει την πιο ευχάριστη ταινία.
URL:https://www.faroshelp.gr/event/a%cf%81%cf%87%ce%b1%ce%af%ce%b1-%ce%b5%ce%bb%ce%bb%ce%b7%ce%bd%ce%b9%ce%ba%ce%ae-%cf%86%ce%b9%ce%bb%ce%bf%cf%83%ce%bf%cf%86%ce%af%ce%b1-%ce%bc%ce%b5-%cf%84%ce%b7%ce%bd-%ce%b1%ce%b3%ce%b3%ce%b5-16/
LOCATION:Zoom
END:VEVENT
BEGIN:VEVENT
DTSTART;TZID=Europe/Athens:20231119T183000
DTEND;TZID=Europe/Athens:20231119T210000
DTSTAMP:20260425T183729
CREATED:20231106T152444Z
LAST-MODIFIED:20231106T152444Z
UID:10636-1700418600-1700427600@www.faroshelp.gr
SUMMARY:Εργαστήριο (παλαιός κύκλος) - Μόνο δια ζώσης!
DESCRIPTION:Ώρα προσέλευσης 18:00 \nΝΕΑ ΔΙΕΥΘΥΝΣΗ: Παράσχου Αχ.59-61
URL:https://www.faroshelp.gr/event/%ce%b5%cf%81%ce%b3%ce%b1%cf%83%cf%84%ce%ae%cf%81%ce%b9%ce%bf-%cf%80%ce%b1%ce%bb%ce%b1%ce%b9%cf%8c%cf%82-%ce%ba%cf%8d%ce%ba%ce%bb%ce%bf%cf%82-%ce%bc%cf%8c%ce%bd%ce%bf-%ce%b4%ce%b9%ce%b1-%ce%b6-17/
LOCATION:Παράσχου Αχ. 59-61\, Παράσχου Αχ.\, Αθήνα\, Αττικής\, 11474\, Ελλάδα
END:VEVENT
BEGIN:VEVENT
DTSTART;TZID=Europe/Athens:20231115T183000
DTEND;TZID=Europe/Athens:20231115T210000
DTSTAMP:20260425T183729
CREATED:20231106T152531Z
LAST-MODIFIED:20231106T152531Z
UID:10637-1700073000-1700082000@www.faroshelp.gr
SUMMARY:Εργαστήριο (παλαιός κύκλος) - Μέσω Zoom!
DESCRIPTION:
URL:https://www.faroshelp.gr/event/%ce%b5%cf%81%ce%b3%ce%b1%cf%83%cf%84%ce%ae%cf%81%ce%b9%ce%bf-%cf%80%ce%b1%ce%bb%ce%b1%ce%b9%cf%8c%cf%82-%ce%ba%cf%8d%ce%ba%ce%bb%ce%bf%cf%82-%ce%bc%ce%ad%cf%83%cf%89-zoom-17/
LOCATION:Zoom
END:VEVENT
BEGIN:VEVENT
DTSTART;TZID=Europe/Athens:20231113T110000
DTEND;TZID=Europe/Athens:20231113T130000
DTSTAMP:20260425T183729
CREATED:20231106T152304Z
LAST-MODIFIED:20231106T154104Z
UID:10631-1699873200-1699880400@www.faroshelp.gr
SUMMARY:Aρχαία Ελληνική Φιλοσοφία με την Αγγελική Κομποχόλη
DESCRIPTION:Δεν χρειάζεται προηγούμενη γνώση Αρχαίων Ελληνικών\, γιατί πέραν απο τον χαρακτήρα  “μαθήματος ελληνικών”\, πρόκειται για ένα ταξείδι σε άλλους χρόνους και τόπους\, καθώς με την μεταδοτικότητα της και την αγάπη της γι΄αυτό που λειτουργεί\, η διδάσκουσα προσφέρει γνώση πολύτιμη ως να ΄χεις παρακολουθήσει την πιο ευχάριστη ταινία.
URL:https://www.faroshelp.gr/event/a%cf%81%cf%87%ce%b1%ce%af%ce%b1-%ce%b5%ce%bb%ce%bb%ce%b7%ce%bd%ce%b9%ce%ba%ce%ae-%cf%86%ce%b9%ce%bb%ce%bf%cf%83%ce%bf%cf%86%ce%af%ce%b1-%ce%bc%ce%b5-%cf%84%ce%b7%ce%bd-%ce%b1%ce%b3%ce%b3%ce%b5-15/
LOCATION:Zoom
END:VEVENT
BEGIN:VEVENT
DTSTART;TZID=Europe/Athens:20231105T113000
DTEND;TZID=Europe/Athens:20231105T113000
DTSTAMP:20260425T183729
CREATED:20231006T152759Z
LAST-MODIFIED:20231006T160359Z
UID:10593-1699183800-1699183800@www.faroshelp.gr
SUMMARY:Ο Γύρος την Ακροπόλεως εν Σιωπή με την Παρέας μας
DESCRIPTION:Αγαπητοί\, Ξεκινάμε πάλι τον Γύρο του Ιερού Βράχου επανεγράφοντας και ενισχύοντας την προηγούμενη αντίστοιχη εγγραφή μας. \nΣτόχος μας είναι η Εργασία αυτή να επαναλαμβάνεται την πρώτη Κυριακή κάθε μήνα\, με την συμμετοχή όσων μελών και φίλων ανταποκριθούν στο συγκεκριμένο κάλεσμα. \nΆν σας φαίνεται ενδιαφέρον επικοινωνείστε μαζί μας για να σας δοθεί και να διαβαστεί με ιδιαίτερη προσοχή\, το πρώτο κείμενο που είχε δοθεί το 2011 από τον Δάσκαλο Alba\, το οποίο περιέχει τις αναλυτικές οδηγίες για την προετοιμασία και τον τρόπο εργασίας μας. \nΣυναντιόμαστε στα εκδοτήρια των εισιτηρίων. \nΏρα συνάντησης: 11:30 \nΗ Εργασία θα ξεκινήσει δέκα λεπτά μετά από την καθορισμένη ώρα συνάντησης. \n  \nΕάν θέλετε\, μπορείτε να ενημερώσετε φίλους και γνωστούς σας που πιστεύετε ότι μπορούν να συμμετάσχουν και να ενισχύσουν την εκπομπή μας. \nΕπικοινωνείστε με την γραμματεία στο 2103216803 για περισσότερες πληροφορίες \n  \n 
URL:https://www.faroshelp.gr/event/%ce%bf-%ce%b3%cf%8d%cf%81%ce%bf%cf%82-%cf%84%ce%b7%ce%bd-%ce%b1%ce%ba%cf%81%ce%bf%cf%80%cf%8c%ce%bb%ce%b5%cf%89%cf%82-%ce%b5%ce%bd-%cf%83%ce%b9%cf%89%cf%80%ce%ae-%ce%bc%ce%b5-%cf%84%ce%b7%ce%bd-2/
ATTACH;FMTTYPE=image/jpeg:https://www.faroshelp.gr/wp-content/uploads/2023/10/archaeology-4881001_1280-e1696607864476.jpg
END:VEVENT
BEGIN:VEVENT
DTSTART;TZID=Europe/Athens:20231104T190000
DTEND;TZID=Europe/Athens:20231104T210000
DTSTAMP:20260425T183729
CREATED:20231006T160338Z
LAST-MODIFIED:20231006T160338Z
UID:10607-1699124400-1699131600@www.faroshelp.gr
SUMMARY:παράδοση: Η έμπρακτος προσευχή\, με την Π.Χριστοφή
DESCRIPTION:Προσεχώς περισσότερες πληροφορίες \nΈναρξη 19:00 \nμέσω Zoom \n 
URL:https://www.faroshelp.gr/event/paradosh_h_empraktos_proseyxh_4-10-2023/
LOCATION:Διαδικτυακώς
END:VEVENT
BEGIN:VEVENT
DTSTART;TZID=Europe/Athens:20231029T183000
DTEND;TZID=Europe/Athens:20231029T210000
DTSTAMP:20260425T183729
CREATED:20231006T152602Z
LAST-MODIFIED:20231006T152602Z
UID:10591-1698604200-1698613200@www.faroshelp.gr
SUMMARY:Εργαστήριο (παλαιός κύκλος) - Μόνο δια ζώσης!
DESCRIPTION:Ώρα προσέλευσης 18:00 \nΝΕΑ ΔΙΕΥΘΥΝΣΗ: Παράσχου Αχ.59-61
URL:https://www.faroshelp.gr/event/%ce%b5%cf%81%ce%b3%ce%b1%cf%83%cf%84%ce%ae%cf%81%ce%b9%ce%bf-%cf%80%ce%b1%ce%bb%ce%b1%ce%b9%cf%8c%cf%82-%ce%ba%cf%8d%ce%ba%ce%bb%ce%bf%cf%82-%ce%bc%cf%8c%ce%bd%ce%bf-%ce%b4%ce%b9%ce%b1-%ce%b6-16/
LOCATION:Παράσχου Αχ. 59-61\, Παράσχου Αχ.\, Αθήνα\, Αττικής\, 11474\, Ελλάδα
END:VEVENT
BEGIN:VEVENT
DTSTART;TZID=Europe/Athens:20231028T203000
DTEND;TZID=Europe/Athens:20231028T220000
DTSTAMP:20260425T183729
CREATED:20231006T153308Z
LAST-MODIFIED:20231006T153308Z
UID:10595-1698525000-1698530400@www.faroshelp.gr
SUMMARY:πανσέληνος της Ελευθερίας με την Π. Χριστοφή
DESCRIPTION:Για περισσότερες πληροφορίες επικοινωνείστε με την γραμματεία \n2103216803 \nΏρα ενάρξεως: 20:30 \nΠαρακαλούμε να συνδέεστε εγκαίρως
URL:https://www.faroshelp.gr/event/%cf%80%ce%b1%ce%bd%cf%83%ce%ad%ce%bb%ce%b7%ce%bd%ce%bf%cf%82-%cf%84%ce%b7%cf%82-%ce%b5%ce%bb%ce%b5%cf%85%ce%b8%ce%b5%cf%81%ce%af%ce%b1%cf%82-%ce%bc%ce%b5-%cf%84%ce%b7%ce%bd-%cf%80-%cf%87%cf%81%ce%b9/
LOCATION:Διαδικτυακώς
END:VEVENT
BEGIN:VEVENT
DTSTART;TZID=Europe/Athens:20231025T183000
DTEND;TZID=Europe/Athens:20231025T210000
DTSTAMP:20260425T183729
CREATED:20231006T153347Z
LAST-MODIFIED:20231006T153347Z
UID:10599-1698258600-1698267600@www.faroshelp.gr
SUMMARY:Εργαστήριο (παλαιός κύκλος) - Μέσω Zoom!
DESCRIPTION:
URL:https://www.faroshelp.gr/event/%ce%b5%cf%81%ce%b3%ce%b1%cf%83%cf%84%ce%ae%cf%81%ce%b9%ce%bf-%cf%80%ce%b1%ce%bb%ce%b1%ce%b9%cf%8c%cf%82-%ce%ba%cf%8d%ce%ba%ce%bb%ce%bf%cf%82-%ce%bc%ce%ad%cf%83%cf%89-zoom-16/
LOCATION:Διαδικτυακώς
END:VEVENT
BEGIN:VEVENT
DTSTART;TZID=Europe/Athens:20231023T110000
DTEND;TZID=Europe/Athens:20231023T130000
DTSTAMP:20260425T183729
CREATED:20231006T153528Z
LAST-MODIFIED:20231006T153528Z
UID:10601-1698058800-1698066000@www.faroshelp.gr
SUMMARY:Aρχαία Ελληνική Φιλοσοφία με την Αγγελική Κομποχόλη
DESCRIPTION:Δεν χρειάζεται προηγούμενη γνώση Αρχαίων Ελληνικών\, γιατί πέραν απο τον χαρακτήρα  “μαθήματος ελληνικών”\, πρόκειται για ένα ταξείδι σε άλλους χρόνους και τόπους\, καθώς με την μεταδοτικότητα της και την αγάπη της γι΄αυτό που λειτουργεί\, η διδάσκουσα προσφέρει γνώση πολύτιμη ως να ΄χεις παρακολουθήσει την πιο ευχάριστη ταινία.
URL:https://www.faroshelp.gr/event/a%cf%81%cf%87%ce%b1%ce%af%ce%b1-%ce%b5%ce%bb%ce%bb%ce%b7%ce%bd%ce%b9%ce%ba%ce%ae-%cf%86%ce%b9%ce%bb%ce%bf%cf%83%ce%bf%cf%86%ce%af%ce%b1-%ce%bc%ce%b5-%cf%84%ce%b7%ce%bd-%ce%b1%ce%b3%ce%b3%ce%b5-13/
LOCATION:Διαδικτυακώς
END:VEVENT
BEGIN:VEVENT
DTSTART;TZID=Europe/Athens:20231015T183000
DTEND;TZID=Europe/Athens:20231015T210000
DTSTAMP:20260425T183729
CREATED:20231006T153642Z
LAST-MODIFIED:20231006T153642Z
UID:10605-1697394600-1697403600@www.faroshelp.gr
SUMMARY:Εργαστήριο Συνειδητής Επικοινωνίας (2021)
DESCRIPTION:
URL:https://www.faroshelp.gr/event/%ce%b5%cf%81%ce%b3%ce%b1%cf%83%cf%84%ce%ae%cf%81%ce%b9%ce%bf-%cf%83%cf%85%ce%bd%ce%b5%ce%b9%ce%b4%ce%b7%cf%84%ce%ae%cf%82-%ce%b5%cf%80%ce%b9%ce%ba%ce%bf%ce%b9%ce%bd%cf%89%ce%bd%ce%af%ce%b1%cf%82-20-18/
LOCATION:Διαδικτυακώς
END:VEVENT
BEGIN:VEVENT
DTSTART;TZID=Europe/Athens:20231009T110000
DTEND;TZID=Europe/Athens:20231009T130000
DTSTAMP:20260425T183729
CREATED:20231006T153539Z
LAST-MODIFIED:20231006T153539Z
UID:10602-1696849200-1696856400@www.faroshelp.gr
SUMMARY:Aρχαία Ελληνική Φιλοσοφία με την Αγγελική Κομποχόλη
DESCRIPTION:Δεν χρειάζεται προηγούμενη γνώση Αρχαίων Ελληνικών\, γιατί πέραν απο τον χαρακτήρα  “μαθήματος ελληνικών”\, πρόκειται για ένα ταξείδι σε άλλους χρόνους και τόπους\, καθώς με την μεταδοτικότητα της και την αγάπη της γι΄αυτό που λειτουργεί\, η διδάσκουσα προσφέρει γνώση πολύτιμη ως να ΄χεις παρακολουθήσει την πιο ευχάριστη ταινία.
URL:https://www.faroshelp.gr/event/a%cf%81%cf%87%ce%b1%ce%af%ce%b1-%ce%b5%ce%bb%ce%bb%ce%b7%ce%bd%ce%b9%ce%ba%ce%ae-%cf%86%ce%b9%ce%bb%ce%bf%cf%83%ce%bf%cf%86%ce%af%ce%b1-%ce%bc%ce%b5-%cf%84%ce%b7%ce%bd-%ce%b1%ce%b3%ce%b3%ce%b5-14/
LOCATION:Διαδικτυακώς
END:VEVENT
BEGIN:VEVENT
DTSTART;TZID=Europe/Athens:20231001T183000
DTEND;TZID=Europe/Athens:20231001T210000
DTSTAMP:20260425T183729
CREATED:20230906T151029Z
LAST-MODIFIED:20230906T151029Z
UID:10558-1696185000-1696194000@www.faroshelp.gr
SUMMARY:Εργαστήριο (παλαιός κύκλος) - Μόνο δια ζώσης!
DESCRIPTION:Ώρα προσέλευσης 18:00 \nΝΕΑ ΔΙΕΥΘΥΝΣΗ: Παράσχου Αχ.59-61
URL:https://www.faroshelp.gr/event/%ce%b5%cf%81%ce%b3%ce%b1%cf%83%cf%84%ce%ae%cf%81%ce%b9%ce%bf-%cf%80%ce%b1%ce%bb%ce%b1%ce%b9%cf%8c%cf%82-%ce%ba%cf%8d%ce%ba%ce%bb%ce%bf%cf%82-%ce%bc%cf%8c%ce%bd%ce%bf-%ce%b4%ce%b9%ce%b1-%ce%b6-15/
LOCATION:Παράσχου Αχ. 59-61\, Παράσχου Αχ.\, Αθήνα\, Αττικής\, 11474\, Ελλάδα
END:VEVENT
BEGIN:VEVENT
DTSTART;TZID=Europe/Athens:20231001T113000
DTEND;TZID=Europe/Athens:20231001T113000
DTSTAMP:20260425T183729
CREATED:20230928T190157Z
LAST-MODIFIED:20230928T190157Z
UID:10582-1696159800-1696159800@www.faroshelp.gr
SUMMARY:Ο Γύρος την Ακροπόλεως εν Σιωπή με την Παρέας μας
DESCRIPTION:Αγαπητοί\, Ξεκινάμε πάλι τον Γύρο του Ιερού Βράχου επανεγράφοντας και ενισχύοντας την προηγούμενη αντίστοιχη εγγραφή μας. \nΣτόχος μας είναι η Εργασία αυτή να επαναλαμβάνεται την πρώτη Κυριακή κάθε μήνα\, ξεκινώντας από αυτήν την Κυριακή 1/10\, με την συμμετοχή όσων μελών και φίλων ανταποκριθούν στο συγκεκριμένο κάλεσμα. \nΆν σας φαίνεται ενδιαφέρον επικοινωνείστε μαζί μας για να σας δοθεί και να διαβαστεί με ιδιαίτερη προσοχή\, το πρώτο κείμενο που είχε δοθεί το 2011 από τον Δάσκαλο Alba\, το οποίο περιέχει τις αναλυτικές οδηγίες για την προετοιμασία και τον τρόπο εργασίας μας. \n\nΣυναντιόμαστε στα εκδοτήρια των εισιτηρίων. \nΏρα συνάντησης: 11:30 \nΗ Εργασία θα ξεκινήσει δέκα λεπτά μετά από την καθορισμένη ώρα συνάντησης. \n  \nΕάν θέλετε\, μπορείτε να ενημερώσετε φίλους και γνωστούς σας που πιστεύετε ότι μπορούν να συμμετάσχουν και να ενισχύσουν την εκπομπή μας. \nΕπικοινωνείστε με την γραμματεία στο 2103216803 για περισσότερες πληροφορίες \n  \n 
URL:https://www.faroshelp.gr/event/%ce%bf-%ce%b3%cf%8d%cf%81%ce%bf%cf%82-%cf%84%ce%b7%ce%bd-%ce%b1%ce%ba%cf%81%ce%bf%cf%80%cf%8c%ce%bb%ce%b5%cf%89%cf%82-%ce%b5%ce%bd-%cf%83%ce%b9%cf%89%cf%80%ce%ae-%ce%bc%ce%b5-%cf%84%ce%b7%ce%bd-%cf%80/
END:VEVENT
BEGIN:VEVENT
DTSTART;TZID=Europe/Athens:20230929T203000
DTEND;TZID=Europe/Athens:20230929T220000
DTSTAMP:20260425T183729
CREATED:20230906T150504Z
LAST-MODIFIED:20230906T155008Z
UID:10554-1696019400-1696024800@www.faroshelp.gr
SUMMARY:πανσέληνος της Αληθείας με την Π. Χριστοφή
DESCRIPTION:Για περισσότερες πληροφορίες επικοινωνείστε με την γραμματεία \n2103216803 \nΏρα ενάρξεως: 20:30 \nΠαρακαλούμε να συνδέεστε εγκαίρως
URL:https://www.faroshelp.gr/event/%cf%80%ce%b1%ce%bd%cf%83%ce%ad%ce%bb%ce%b7%ce%bd%ce%bf%cf%82-%ce%b1%ce%bb%ce%b7%ce%b8%ce%b5%ce%af%ce%b1%cf%82-%ce%bc%ce%b5-%cf%84%ce%b7%ce%bd-%cf%80-%cf%87%cf%81%ce%b9%cf%83%cf%84%ce%bf%cf%86%ce%ae/
LOCATION:Zoom
END:VEVENT
BEGIN:VEVENT
DTSTART;TZID=Europe/Athens:20230927T183000
DTEND;TZID=Europe/Athens:20230927T210000
DTSTAMP:20260425T183729
CREATED:20230906T150839Z
LAST-MODIFIED:20230906T151535Z
UID:10559-1695839400-1695848400@www.faroshelp.gr
SUMMARY:Εργαστήριο (παλαιός κύκλος) - Μέσω Zoom!
DESCRIPTION:
URL:https://www.faroshelp.gr/event/%ce%b5%cf%81%ce%b3%ce%b1%cf%83%cf%84%ce%ae%cf%81%ce%b9%ce%bf-%cf%80%ce%b1%ce%bb%ce%b1%ce%b9%cf%8c%cf%82-%ce%ba%cf%8d%ce%ba%ce%bb%ce%bf%cf%82-%ce%bc%ce%ad%cf%83%cf%89-zoom-15/
LOCATION:Zoom
END:VEVENT
BEGIN:VEVENT
DTSTART;TZID=Europe/Athens:20230926T193000
DTEND;TZID=Europe/Athens:20230926T210000
DTSTAMP:20260425T183729
CREATED:20230906T150214Z
LAST-MODIFIED:20230906T150214Z
UID:10551-1695756600-1695762000@www.faroshelp.gr
SUMMARY:Aρχαία Ελληνική Φιλοσοφία με την Αγγελική Κομποχόλη
DESCRIPTION:Δεν χρειάζεται προηγούμενη γνώση Αρχαίων Ελληνικών\, γιατί πέραν απο τον χαρακτήρα  “μαθήματος ελληνικών”\, πρόκειται για ένα ταξείδι σε άλλους χρόνους και τόπους\, καθώς με την μεταδοτικότητα της και την αγάπη της γι΄αυτό που λειτουργεί\, η διδάσκουσα προσφέρει γνώση πολύτιμη ως να ΄χεις παρακολουθήσει την πιο ευχάριστη ταινία.
URL:https://www.faroshelp.gr/event/a%cf%81%cf%87%ce%b1%ce%af%ce%b1-%ce%b5%ce%bb%ce%bb%ce%b7%ce%bd%ce%b9%ce%ba%ce%ae-%cf%86%ce%b9%ce%bb%ce%bf%cf%83%ce%bf%cf%86%ce%af%ce%b1-%ce%bc%ce%b5-%cf%84%ce%b7%ce%bd-%ce%b1%ce%b3%ce%b3%ce%b5-12/
LOCATION:Zoom
END:VEVENT
END:VCALENDAR