BEGIN:VCALENDAR
VERSION:2.0
PRODID:-//faroshelp.gr - ECPv6.15.20//NONSGML v1.0//EN
CALSCALE:GREGORIAN
METHOD:PUBLISH
X-WR-CALNAME:faroshelp.gr
X-ORIGINAL-URL:https://www.faroshelp.gr
X-WR-CALDESC:Events for faroshelp.gr
REFRESH-INTERVAL;VALUE=DURATION:PT1H
X-Robots-Tag:noindex
X-PUBLISHED-TTL:PT1H
BEGIN:VTIMEZONE
TZID:Europe/Athens
BEGIN:DAYLIGHT
TZOFFSETFROM:+0200
TZOFFSETTO:+0300
TZNAME:EEST
DTSTART:20220327T010000
END:DAYLIGHT
BEGIN:STANDARD
TZOFFSETFROM:+0300
TZOFFSETTO:+0200
TZNAME:EET
DTSTART:20221030T010000
END:STANDARD
BEGIN:DAYLIGHT
TZOFFSETFROM:+0200
TZOFFSETTO:+0300
TZNAME:EEST
DTSTART:20230326T010000
END:DAYLIGHT
BEGIN:STANDARD
TZOFFSETFROM:+0300
TZOFFSETTO:+0200
TZNAME:EET
DTSTART:20231029T010000
END:STANDARD
BEGIN:DAYLIGHT
TZOFFSETFROM:+0200
TZOFFSETTO:+0300
TZNAME:EEST
DTSTART:20240331T010000
END:DAYLIGHT
BEGIN:STANDARD
TZOFFSETFROM:+0300
TZOFFSETTO:+0200
TZNAME:EET
DTSTART:20241027T010000
END:STANDARD
END:VTIMEZONE
BEGIN:VEVENT
DTSTART;TZID=Europe/Athens:20230507T183000
DTEND;TZID=Europe/Athens:20230507T210000
DTSTAMP:20260425T133800
CREATED:20230429T222312Z
LAST-MODIFIED:20230429T222312Z
UID:10485-1683484200-1683493200@www.faroshelp.gr
SUMMARY:Εργαστήριο (παλαιός κύκλος) - Μόνο δια ζώσης!
DESCRIPTION:Ώρα προσέλευσης 18:00
URL:https://www.faroshelp.gr/event/%ce%b5%cf%81%ce%b3%ce%b1%cf%83%cf%84%ce%ae%cf%81%ce%b9%ce%bf-%cf%80%ce%b1%ce%bb%ce%b1%ce%b9%cf%8c%cf%82-%ce%ba%cf%8d%ce%ba%ce%bb%ce%bf%cf%82-%ce%bc%cf%8c%ce%bd%ce%bf-%ce%b4%ce%b9%ce%b1-%ce%b6-12/
LOCATION:Παράσχου Αχ. 59-61\, Παράσχου Αχ.\, Αθήνα\, Αττικής\, 11474\, Ελλάδα
END:VEVENT
BEGIN:VEVENT
DTSTART;TZID=Europe/Athens:20230505T203000
DTEND;TZID=Europe/Athens:20230505T220000
DTSTAMP:20260425T133800
CREATED:20230429T222450Z
LAST-MODIFIED:20230429T222450Z
UID:10489-1683318600-1683324000@www.faroshelp.gr
SUMMARY:πανσέληνος της Ζωής με την Πέγκυ Χριστοφή
DESCRIPTION:Την ημέρα της πανσελήνου\, συνδυάζονται διαλογιστικές πρακτικές και προσευχητική πράξη και παραδίδονται Οδηγίες Διδασκάλων\, αμέσως εφαρμόσιμες\, για το προσωπικό και το συλλογικό Καλό. \nΠερισσότερες πληροφορίες στην γραμματεία: faros.mko@gmail.com\, 2103216803
URL:https://www.faroshelp.gr/event/%cf%80%ce%b1%ce%bd%cf%83%ce%ad%ce%bb%ce%b7%ce%bd%ce%bf%cf%82-%cf%84%ce%b7%cf%82-%ce%b6%cf%89%ce%ae%cf%82-%ce%bc%ce%b5-%cf%84%ce%b7%ce%bd-%cf%80%ce%ad%ce%b3%ce%ba%cf%85-%cf%87%cf%81%ce%b9%cf%83%cf%84/
LOCATION:Παράσχου Αχ. 59-61\, Παράσχου Αχ.\, Αθήνα\, Αττικής\, 11474\, Ελλάδα
END:VEVENT
BEGIN:VEVENT
DTSTART;TZID=Europe/Athens:20230425T193000
DTEND;TZID=Europe/Athens:20230425T213000
DTSTAMP:20260425T133800
CREATED:20230401T162941Z
LAST-MODIFIED:20230401T162941Z
UID:10462-1682451000-1682458200@www.faroshelp.gr
SUMMARY:Aρχαία Ελληνική Φιλοσοφία με την Αγγελική Κομποχόλη
DESCRIPTION:Δεν χρειάζεται προηγούμενη γνώση Αρχαίων Ελληνικών\, γιατί πέραν απο τον χαρακτήρα  “μαθήματος ελληνικών”\, πρόκειται για ένα ταξείδι σε άλλους χρόνους και τόπους\, καθώς με την μεταδοτικότητα της και την αγάπη της γι΄αυτό που λειτουργεί\, η διδάσκουσα προσφέρει γνώση πολύτιμη ως να ΄χεις παρακολουθήσει την πιο ευχάριστη ταινία.
URL:https://www.faroshelp.gr/event/a%cf%81%cf%87%ce%b1%ce%af%ce%b1-%ce%b5%ce%bb%ce%bb%ce%b7%ce%bd%ce%b9%ce%ba%ce%ae-%cf%86%ce%b9%ce%bb%ce%bf%cf%83%ce%bf%cf%86%ce%af%ce%b1-%ce%bc%ce%b5-%cf%84%ce%b7%ce%bd-%ce%b1%ce%b3%ce%b3%ce%b5%ce%bb-5/
LOCATION:Zoom
END:VEVENT
BEGIN:VEVENT
DTSTART;TZID=Europe/Athens:20230412T183000
DTEND;TZID=Europe/Athens:20230412T210000
DTSTAMP:20260425T133800
CREATED:20230401T163031Z
LAST-MODIFIED:20230401T163031Z
UID:10466-1681324200-1681333200@www.faroshelp.gr
SUMMARY:Εργαστήριο (παλαιός κύκλος) - Μέσω Zoom!
DESCRIPTION:
URL:https://www.faroshelp.gr/event/%ce%b5%cf%81%ce%b3%ce%b1%cf%83%cf%84%ce%ae%cf%81%ce%b9%ce%bf-%cf%80%ce%b1%ce%bb%ce%b1%ce%b9%cf%8c%cf%82-%ce%ba%cf%8d%ce%ba%ce%bb%ce%bf%cf%82-%ce%bc%ce%ad%cf%83%cf%89-zoom-11/
LOCATION:Zoom
END:VEVENT
BEGIN:VEVENT
DTSTART;TZID=Europe/Athens:20230411T193000
DTEND;TZID=Europe/Athens:20230411T213000
DTSTAMP:20260425T133800
CREATED:20230401T162947Z
LAST-MODIFIED:20230401T162947Z
UID:10461-1681241400-1681248600@www.faroshelp.gr
SUMMARY:Aρχαία Ελληνική Φιλοσοφία με την Αγγελική Κομποχόλη
DESCRIPTION:Δεν χρειάζεται προηγούμενη γνώση Αρχαίων Ελληνικών\, γιατί πέραν απο τον χαρακτήρα  “μαθήματος ελληνικών”\, πρόκειται για ένα ταξείδι σε άλλους χρόνους και τόπους\, καθώς με την μεταδοτικότητα της και την αγάπη της γι΄αυτό που λειτουργεί\, η διδάσκουσα προσφέρει γνώση πολύτιμη ως να ΄χεις παρακολουθήσει την πιο ευχάριστη ταινία.
URL:https://www.faroshelp.gr/event/a%cf%81%cf%87%ce%b1%ce%af%ce%b1-%ce%b5%ce%bb%ce%bb%ce%b7%ce%bd%ce%b9%ce%ba%ce%ae-%cf%86%ce%b9%ce%bb%ce%bf%cf%83%ce%bf%cf%86%ce%af%ce%b1-%ce%bc%ce%b5-%cf%84%ce%b7%ce%bd-%ce%b1%ce%b3%ce%b3%ce%b5%ce%bb-6/
LOCATION:Zoom
END:VEVENT
BEGIN:VEVENT
DTSTART;TZID=Europe/Athens:20230409T183000
DTEND;TZID=Europe/Athens:20230409T210000
DTSTAMP:20260425T133800
CREATED:20230401T163105Z
LAST-MODIFIED:20230401T163105Z
UID:10467-1681065000-1681074000@www.faroshelp.gr
SUMMARY:Εργαστήριο Συνειδητής Επικοινωνίας (2021)
DESCRIPTION:
URL:https://www.faroshelp.gr/event/%ce%b5%cf%81%ce%b3%ce%b1%cf%83%cf%84%ce%ae%cf%81%ce%b9%ce%bf-%cf%83%cf%85%ce%bd%ce%b5%ce%b9%ce%b4%ce%b7%cf%84%ce%ae%cf%82-%ce%b5%cf%80%ce%b9%ce%ba%ce%bf%ce%b9%ce%bd%cf%89%ce%bd%ce%af%ce%b1%cf%82-20-14/
LOCATION:Zoom
END:VEVENT
BEGIN:VEVENT
DTSTART;TZID=Europe/Athens:20230408T183000
DTEND;TZID=Europe/Athens:20230408T210000
DTSTAMP:20260425T133800
CREATED:20230401T163153Z
LAST-MODIFIED:20230401T163153Z
UID:10470-1680978600-1680987600@www.faroshelp.gr
SUMMARY:Εργαστήριο (παλαιός κύκλος) - Μόνο δια ζώσης!
DESCRIPTION:Ώρα προσέλευσης 18:00
URL:https://www.faroshelp.gr/event/%ce%b5%cf%81%ce%b3%ce%b1%cf%83%cf%84%ce%ae%cf%81%ce%b9%ce%bf-%cf%80%ce%b1%ce%bb%ce%b1%ce%b9%cf%8c%cf%82-%ce%ba%cf%8d%ce%ba%ce%bb%ce%bf%cf%82-%ce%bc%cf%8c%ce%bd%ce%bf-%ce%b4%ce%b9%ce%b1-%ce%b6-11/
LOCATION:Κοδριγκτώνος 11\, Αθήνα
END:VEVENT
BEGIN:VEVENT
DTSTART;TZID=Europe/Athens:20230406T203000
DTEND;TZID=Europe/Athens:20230406T220000
DTSTAMP:20260425T133800
CREATED:20230401T163302Z
LAST-MODIFIED:20230401T163502Z
UID:10472-1680813000-1680818400@www.faroshelp.gr
SUMMARY:πανσέληνος "Αναστάσεως" με την Πέγκυ Χριστοφή
DESCRIPTION:Την ημέρα της πανσελήνου\, συνδυάζονται διαλογιστικές πρακτικές και προσευχητική πράξη και παραδίδονται Οδηγίες Διδασκάλων\, αμέσως εφαρμόσιμες\, για το προσωπικό και το συλλογικό Καλό. \nΠερισσότερες πληροφορίες στην γραμματεία: faros.mko@gmail.com\, 2103216803
URL:https://www.faroshelp.gr/event/%cf%80%ce%b1%ce%bd%cf%83%ce%ad%ce%bb%ce%b7%ce%bd%ce%bf%cf%82-%ce%b1%ce%bd%ce%b1%cf%83%cf%84%ce%ac%cf%83%ce%b5%cf%89%cf%82-%ce%bc%ce%b5-%cf%84%ce%b7%ce%bd-%cf%80%ce%ad%ce%b3%ce%ba%cf%85-%cf%87/
LOCATION:Στον Φάρο & διαδικτυακώς
END:VEVENT
BEGIN:VEVENT
DTSTART;TZID=Europe/Athens:20230328T193000
DTEND;TZID=Europe/Athens:20230328T210000
DTSTAMP:20260425T133800
CREATED:20230302T170433Z
LAST-MODIFIED:20230302T170433Z
UID:10440-1680031800-1680037200@www.faroshelp.gr
SUMMARY:Aρχαία Ελληνική Φιλοσοφία με την Αγγελική Κομποχόλη
DESCRIPTION:Δεν χρειάζεται προηγούμενη γνώση Αρχαίων Ελληνικών\, γιατί πέραν απο τον χαρακτήρα  “μαθήματος ελληνικών”\, πρόκειται για ένα ταξείδι σε άλλους χρόνους και τόπους\, καθώς με την μεταδοτικότητα της και την αγάπη της γι΄αυτό που λειτουργεί\, η διδάσκουσα προσφέρει γνώση πολύτιμη ως να ΄χεις παρακολουθήσει την πιο ευχάριστη ταινία.
URL:https://www.faroshelp.gr/event/a%cf%81%cf%87%ce%b1%ce%af%ce%b1-%ce%b5%ce%bb%ce%bb%ce%b7%ce%bd%ce%b9%ce%ba%ce%ae-%cf%86%ce%b9%ce%bb%ce%bf%cf%83%ce%bf%cf%86%ce%af%ce%b1-%ce%bc%ce%b5-%cf%84%ce%b7%ce%bd-%ce%b1%ce%b3%ce%b3%ce%b5%ce%bb-3/
LOCATION:Zoom
END:VEVENT
BEGIN:VEVENT
DTSTART;TZID=Europe/Athens:20230315T183000
DTEND;TZID=Europe/Athens:20230315T210000
DTSTAMP:20260425T133800
CREATED:20230302T170524Z
LAST-MODIFIED:20230302T172242Z
UID:10443-1678905000-1678914000@www.faroshelp.gr
SUMMARY:Εργαστήριο (παλαιός κύκλος) - Μέσω Zoom!
DESCRIPTION:
URL:https://www.faroshelp.gr/event/%ce%b5%cf%81%ce%b3%ce%b1%cf%83%cf%84%ce%ae%cf%81%ce%b9%ce%bf-%cf%80%ce%b1%ce%bb%ce%b1%ce%b9%cf%8c%cf%82-%ce%ba%cf%8d%ce%ba%ce%bb%ce%bf%cf%82-%ce%bc%ce%ad%cf%83%cf%89-zoom-10/
LOCATION:Zoom
END:VEVENT
BEGIN:VEVENT
DTSTART;TZID=Europe/Athens:20230314T193000
DTEND;TZID=Europe/Athens:20230314T210000
DTSTAMP:20260425T133800
CREATED:20230302T170442Z
LAST-MODIFIED:20230302T170442Z
UID:10439-1678822200-1678827600@www.faroshelp.gr
SUMMARY:Aρχαία Ελληνική Φιλοσοφία με την Αγγελική Κομποχόλη
DESCRIPTION:Δεν χρειάζεται προηγούμενη γνώση Αρχαίων Ελληνικών\, γιατί πέραν απο τον χαρακτήρα  “μαθήματος ελληνικών”\, πρόκειται για ένα ταξείδι σε άλλους χρόνους και τόπους\, καθώς με την μεταδοτικότητα της και την αγάπη της γι΄αυτό που λειτουργεί\, η διδάσκουσα προσφέρει γνώση πολύτιμη ως να ΄χεις παρακολουθήσει την πιο ευχάριστη ταινία.
URL:https://www.faroshelp.gr/event/a%cf%81%cf%87%ce%b1%ce%af%ce%b1-%ce%b5%ce%bb%ce%bb%ce%b7%ce%bd%ce%b9%ce%ba%ce%ae-%cf%86%ce%b9%ce%bb%ce%bf%cf%83%ce%bf%cf%86%ce%af%ce%b1-%ce%bc%ce%b5-%cf%84%ce%b7%ce%bd-%ce%b1%ce%b3%ce%b3%ce%b5%ce%bb-4/
LOCATION:Zoom
END:VEVENT
BEGIN:VEVENT
DTSTART;TZID=Europe/Athens:20230312T183000
DTEND;TZID=Europe/Athens:20230312T210000
DTSTAMP:20260425T133800
CREATED:20230302T170601Z
LAST-MODIFIED:20230302T170601Z
UID:10445-1678645800-1678654800@www.faroshelp.gr
SUMMARY:Εργαστήριο Συνειδητής Επικοινωνίας (2021)
DESCRIPTION:
URL:https://www.faroshelp.gr/event/%ce%b5%cf%81%ce%b3%ce%b1%cf%83%cf%84%ce%ae%cf%81%ce%b9%ce%bf-%cf%83%cf%85%ce%bd%ce%b5%ce%b9%ce%b4%ce%b7%cf%84%ce%ae%cf%82-%ce%b5%cf%80%ce%b9%ce%ba%ce%bf%ce%b9%ce%bd%cf%89%ce%bd%ce%af%ce%b1%cf%82-20-13/
LOCATION:Zoom
END:VEVENT
BEGIN:VEVENT
DTSTART;TZID=Europe/Athens:20230311T183000
DTEND;TZID=Europe/Athens:20230311T183000
DTSTAMP:20260425T133800
CREATED:20230302T170641Z
LAST-MODIFIED:20230302T170641Z
UID:10447-1678559400-1678559400@www.faroshelp.gr
SUMMARY:Εργαστήριο (παλαιός κύκλος) - Μόνο δια ζώσης!
DESCRIPTION:Ώρα προσέλευσης 18:00
URL:https://www.faroshelp.gr/event/%ce%b5%cf%81%ce%b3%ce%b1%cf%83%cf%84%ce%ae%cf%81%ce%b9%ce%bf-%cf%80%ce%b1%ce%bb%ce%b1%ce%b9%cf%8c%cf%82-%ce%ba%cf%8d%ce%ba%ce%bb%ce%bf%cf%82-%ce%bc%cf%8c%ce%bd%ce%bf-%ce%b4%ce%b9%ce%b1-%ce%b6-10/
LOCATION:Κοδριγκτώνος 11\, Αθήνα
END:VEVENT
BEGIN:VEVENT
DTSTART;TZID=Europe/Athens:20230307T203000
DTEND;TZID=Europe/Athens:20230307T220000
DTSTAMP:20260425T133800
CREATED:20230302T170251Z
LAST-MODIFIED:20230302T170251Z
UID:10437-1678221000-1678226400@www.faroshelp.gr
SUMMARY:πανσέληνος "Ισορροπίας" με την Πέγκυ Χριστοφή
DESCRIPTION:Την ημέρα της πανσελήνου\, συνδυάζονται διαλογιστικές πρακτικές και προσευχητική πράξη και παραδίδονται Οδηγίες Διδασκάλων\, αμέσως εφαρμόσιμες\, για το προσωπικό και το συλλογικό Καλό. \nΠερισσότερες πληροφορίες: faros.mko@gmail.com\, 2103216803
URL:https://www.faroshelp.gr/event/%cf%80%ce%b1%ce%bd%cf%83%ce%ad%ce%bb%ce%b7%ce%bd%ce%bf%cf%82-%ce%b9%cf%83%ce%bf%cf%81%cf%81%ce%bf%cf%80%ce%af%ce%b1%cf%82-%ce%bc%ce%b5-%cf%84%ce%b7%ce%bd-%cf%80%ce%ad%ce%b3%ce%ba%cf%85-%cf%87/
LOCATION:Στον Φάρο & διαδικτυακώς
END:VEVENT
BEGIN:VEVENT
DTSTART;TZID=Europe/Athens:20230228T193000
DTEND;TZID=Europe/Athens:20230228T213000
DTSTAMP:20260425T133800
CREATED:20230127T200043Z
LAST-MODIFIED:20230127T200043Z
UID:10394-1677612600-1677619800@www.faroshelp.gr
SUMMARY:Aρχαία Ελληνική Φιλοσοφία με την Αγγελική Κομποχόλη
DESCRIPTION:Δεν χρειάζεται προηγούμενη γνώση Αρχαίων Ελληνικών\, γιατί πέραν απο τον χαρακτήρα  “μαθήματος ελληνικών”\, πρόκειται για ένα ταξείδι σε άλλους χρόνους και τόπους\, καθώς με την μεταδοτικότητα της και την αγάπη της γι΄αυτό που λειτουργεί\, η διδάσκουσα προσφέρει γνώση πολύτιμη ως να ΄χεις παρακολουθήσει την πιο ευχάριστη ταινία.
URL:https://www.faroshelp.gr/event/a%cf%81%cf%87%ce%b1%ce%af%ce%b1-%ce%b5%ce%bb%ce%bb%ce%b7%ce%bd%ce%b9%ce%ba%ce%ae-%cf%86%ce%b9%ce%bb%ce%bf%cf%83%ce%bf%cf%86%ce%af%ce%b1-%ce%bc%ce%b5-%cf%84%ce%b7%ce%bd-%ce%b1%ce%b3%ce%b3%ce%b5%ce%bb-2/
LOCATION:Zoom
END:VEVENT
BEGIN:VEVENT
DTSTART;TZID=Europe/Athens:20230224T180000
DTEND;TZID=Europe/Athens:20230224T193000
DTSTAMP:20260425T133800
CREATED:20230127T204359Z
LAST-MODIFIED:20230210T130321Z
UID:10413-1677261600-1677267000@www.faroshelp.gr
SUMMARY:Περσεφόνη – ArtTherapy Group
DESCRIPTION:Που;      Κοδριγκτώνος 11\, Αθήνα\, 1ος όροφος \nΠότε;     Παρασκευές \nΏρα:     18:00-19:30 \nΓια περισσότερες πληροφορίες επικοινωνήστε με την γραμματεία του Φάρου στο τηλέφωνο 210-3216803 \nΕλεύθερη συμμετοχή στις συναντήσεις Φεβρουαρίου
URL:https://www.faroshelp.gr/event/10413/
LOCATION:Κοδριγκτώνος 11\, Αθήνα
END:VEVENT
BEGIN:VEVENT
DTSTART;TZID=Europe/Athens:20230217T190000
DTEND;TZID=Europe/Athens:20230217T210000
DTSTAMP:20260425T133800
CREATED:20230127T204348Z
LAST-MODIFIED:20230210T130311Z
UID:10412-1676660400-1676667600@www.faroshelp.gr
SUMMARY:Περσεφόνη – ArtTherapy Group
DESCRIPTION:Που;      Κοδριγκτώνος 11\, Αθήνα\, 1ος όροφος \nΠότε;     Παρασκευές \nΏρα:     18:00-19:30 \nΓια περισσότερες πληροφορίες επικοινωνήστε με την γραμματεία του Φάρου στο τηλέφωνο 210-3216803 \nΕλεύθερη συμμετοχή στις συναντήσεις Φεβρουαρίου
URL:https://www.faroshelp.gr/event/10412/
LOCATION:Κοδριγκτώνος 11\, Αθήνα
END:VEVENT
BEGIN:VEVENT
DTSTART;TZID=Europe/Athens:20230215T183000
DTEND;TZID=Europe/Athens:20230215T210000
DTSTAMP:20260425T133800
CREATED:20230127T200212Z
LAST-MODIFIED:20230127T200212Z
UID:10398-1676485800-1676494800@www.faroshelp.gr
SUMMARY:Εργαστήριο (παλαιός κύκλος) - Μέσω Zoom!
DESCRIPTION:
URL:https://www.faroshelp.gr/event/%ce%b5%cf%81%ce%b3%ce%b1%cf%83%cf%84%ce%ae%cf%81%ce%b9%ce%bf-%cf%80%ce%b1%ce%bb%ce%b1%ce%b9%cf%8c%cf%82-%ce%ba%cf%8d%ce%ba%ce%bb%ce%bf%cf%82-%ce%bc%ce%ad%cf%83%cf%89-zoom-9/
LOCATION:Zoom
END:VEVENT
BEGIN:VEVENT
DTSTART;TZID=Europe/Athens:20230212T183000
DTEND;TZID=Europe/Athens:20230212T210000
DTSTAMP:20260425T133800
CREATED:20230127T200810Z
LAST-MODIFIED:20230127T200810Z
UID:10400-1676226600-1676235600@www.faroshelp.gr
SUMMARY:Εργαστήριο Συνειδητής Επικοινωνίας (2021)
DESCRIPTION:
URL:https://www.faroshelp.gr/event/%ce%b5%cf%81%ce%b3%ce%b1%cf%83%cf%84%ce%ae%cf%81%ce%b9%ce%bf-%cf%83%cf%85%ce%bd%ce%b5%ce%b9%ce%b4%ce%b7%cf%84%ce%ae%cf%82-%ce%b5%cf%80%ce%b9%ce%ba%ce%bf%ce%b9%ce%bd%cf%89%ce%bd%ce%af%ce%b1%cf%82-20-12/
LOCATION:Zoom
END:VEVENT
BEGIN:VEVENT
DTSTART;TZID=Europe/Athens:20230211T183000
DTEND;TZID=Europe/Athens:20230211T210000
DTSTAMP:20260425T133800
CREATED:20230127T200317Z
LAST-MODIFIED:20230127T200317Z
UID:10399-1676140200-1676149200@www.faroshelp.gr
SUMMARY:Εργαστήριο (παλαιός κύκλος) - Μόνο δια ζώσης!
DESCRIPTION:Ώρα προσέλευσης 18:00
URL:https://www.faroshelp.gr/event/%ce%b5%cf%81%ce%b3%ce%b1%cf%83%cf%84%ce%ae%cf%81%ce%b9%ce%bf-%cf%80%ce%b1%ce%bb%ce%b1%ce%b9%cf%8c%cf%82-%ce%ba%cf%8d%ce%ba%ce%bb%ce%bf%cf%82-%ce%bc%cf%8c%ce%bd%ce%bf-%ce%b4%ce%b9%ce%b1-%ce%b6-9/
LOCATION:Κοδριγκτώνος 11\, Αθήνα
END:VEVENT
BEGIN:VEVENT
DTSTART;TZID=Europe/Athens:20230207T193000
DTEND;TZID=Europe/Athens:20230207T213000
DTSTAMP:20260425T133800
CREATED:20230127T200002Z
LAST-MODIFIED:20230127T200002Z
UID:10395-1675798200-1675805400@www.faroshelp.gr
SUMMARY:Aρχαία Ελληνική Φιλοσοφία με την Αγγελική Κομποχόλη
DESCRIPTION:Δεν χρειάζεται προηγούμενη γνώση Αρχαίων Ελληνικών\, γιατί πέραν απο τον χαρακτήρα  “μαθήματος ελληνικών”\, πρόκειται για ένα ταξείδι σε άλλους χρόνους και τόπους\, καθώς με την μεταδοτικότητα της και την αγάπη της γι΄αυτό που λειτουργεί\, η διδάσκουσα προσφέρει γνώση πολύτιμη ως να ΄χεις παρακολουθήσει την πιο ευχάριστη ταινία.
URL:https://www.faroshelp.gr/event/a%cf%81%cf%87%ce%b1%ce%af%ce%b1-%ce%b5%ce%bb%ce%bb%ce%b7%ce%bd%ce%b9%ce%ba%ce%ae-%cf%86%ce%b9%ce%bb%ce%bf%cf%83%ce%bf%cf%86%ce%af%ce%b1-%ce%bc%ce%b5-%cf%84%ce%b7%ce%bd-%ce%b1%ce%b3%ce%b3%ce%b5%ce%bb/
LOCATION:Zoom
END:VEVENT
BEGIN:VEVENT
DTSTART;TZID=Europe/Athens:20230205T203000
DTEND;TZID=Europe/Athens:20230205T220000
DTSTAMP:20260425T133800
CREATED:20230127T201431Z
LAST-MODIFIED:20230127T201523Z
UID:10404-1675629000-1675634400@www.faroshelp.gr
SUMMARY:πανσέληνος "Πραγμάτωση Αληθείας" με την Πέγκυ Χριστοφή
DESCRIPTION:Την ημέρα της πανσελήνου\, συνδυάζονται διαλογιστικές πρακτικές και προσευχητική πράξη και παραδίδονται Οδηγίες Διδασκάλων\, αμέσως εφαρμόσιμες\, για το προσωπικό και το συλλογικό Καλό. \nΠερισσότερες πληροφορίες: faros.mko@gmail.com\, 2103216803
URL:https://www.faroshelp.gr/event/%cf%80%ce%b1%ce%bd%cf%83%ce%ad%ce%bb%ce%b7%ce%bd%ce%bf%cf%82-%cf%80%cf%81%ce%b1%ce%b3%ce%bc%ce%ac%cf%84%cf%89%cf%83%ce%b7-%ce%b1%ce%bb%ce%b7%ce%b8%ce%b5%ce%af%ce%b1%cf%82-%ce%bc%ce%b5-%cf%84%ce%b7/
LOCATION:Στον Φάρο & διαδικτυακώς
END:VEVENT
BEGIN:VEVENT
DTSTART;TZID=Europe/Athens:20230204T190000
DTEND;TZID=Europe/Athens:20230204T210000
DTSTAMP:20260425T133800
CREATED:20230127T201751Z
LAST-MODIFIED:20230127T201751Z
UID:10406-1675537200-1675544400@www.faroshelp.gr
SUMMARY:"Ο κριτής εντός μου" - Παράδοση με την Πέγκυ Χριστοφή
DESCRIPTION:-Ἡ ἐνοχή ὡς δομικό στοιχεῖο τοῦ Σκοτεινοῦ πλέγματος* καί τοῦ πλέγματος περιορισμένων δυνατοτήτων. \n– «Θανάσιμα ἁμαρτήματα» καί ὁ «καινούριος ἄνθρωπος». \n-Ἐπανόρθωση. Ἐξιλέωση. Ἐξαγνισμός. Ἡ ὑπέρβαση φαύλων κύκλων. \n-Ἡ ἀνθρώπινη καί ἡ Θεία Δικαιοσύνη. «Μέτρον ὁ Ἄνθρωπος» καί μέτρον ἀνθρώπου. \n-Ἡ κρίση στήν ἔνσαρκο βίωση καί ἡ Κρίση «μετά». \n  \n* Ἕνα «φίλτρο» γκρίζο\, σχεδόν μέλαν\, πού χρειαζόταν πολλή Ἐνέργεια γιά νά διαπερασθεῖ… Κατασκευασμένο ἀπό μιάσματα\, «ἀναθυμιάσεις» ἀποτυπωμάτων\, ἐπικαθήσεις – ἐγγραφές ἀστρικοῦ… Τοποθετημένο στά ὅρια τοῦ α΄ αἰθερικοῦ… \n(ἀπό τό βιβλίο τῆς Π.Χριστοφῆ «ΠΝΕΥΜΑΤΙΚΟ ΧΡΟΝΙΚΟ ΜΙΑΣ ΔΥΣΚΟΛΗΣ ΔΕΚΑΕΤΙΑΣ» /2022) \n  \n  \nΔηλώσεις συμμετοχής & περισσότερες πληροφορίες στην γραμματεία του Φάρου:\nμε email στο faros.mko@gmail.com\nή τηλεφωνικώς στο 210-3216803
URL:https://www.faroshelp.gr/event/%ce%bf-%ce%ba%cf%81%ce%b9%cf%84%ce%ae%cf%82-%ce%b5%ce%bd%cf%84%cf%8c%cf%82-%ce%bc%ce%bf%cf%85-%cf%80%ce%b1%cf%81%ce%ac%ce%b4%ce%bf%cf%83%ce%b7-%ce%bc%ce%b5-%cf%84%ce%b7%ce%bd-%cf%80%ce%ad%ce%b3/
LOCATION:Zoom
END:VEVENT
BEGIN:VEVENT
DTSTART;TZID=Europe/Athens:20230124T193000
DTEND;TZID=Europe/Athens:20230124T213000
DTSTAMP:20260425T133800
CREATED:20221225T160142Z
LAST-MODIFIED:20221225T160142Z
UID:10371-1674588600-1674595800@www.faroshelp.gr
SUMMARY:Συναντήσεις αρχαίας Ελληνικής Φιλοσοφίας με την Αγγελική Κομποχόλη
DESCRIPTION:Δεν χρειάζεται προηγούμενη γνώση Αρχαίων Ελληνικών\, γιατί πέραν απο τον χαρακτήρα  “μαθήματος ελληνικών”\, πρόκειται για ένα ταξείδι σε άλλους χρόνους και τόπους\, καθώς με την μεταδοτικότητα της και την αγάπη της γι΄αυτό που λειτουργεί\, η διδάσκουσα προσφέρει γνώση πολύτιμη ως να ΄χεις παρακολουθήσει την πιο ευχάριστη ταινία.
URL:https://www.faroshelp.gr/event/%cf%83%cf%85%ce%bd%ce%b1%ce%bd%cf%84%ce%ae%cf%83%ce%b5%ce%b9%cf%82-%ce%b1%cf%81%cf%87%ce%b1%ce%af%ce%b1%cf%82-%ce%b5%ce%bb%ce%bb%ce%b7%ce%bd%ce%b9%ce%ba%ce%ae%cf%82-%cf%86%ce%b9%ce%bb%ce%bf%cf%83-2/
LOCATION:Zoom
END:VEVENT
BEGIN:VEVENT
DTSTART;TZID=Europe/Athens:20230118T183000
DTEND;TZID=Europe/Athens:20230118T210000
DTSTAMP:20260425T133800
CREATED:20221225T160229Z
LAST-MODIFIED:20221225T160229Z
UID:10374-1674066600-1674075600@www.faroshelp.gr
SUMMARY:Εργαστήριο (παλαιός κύκλος) - Μέσω Zoom!
DESCRIPTION:
URL:https://www.faroshelp.gr/event/%ce%b5%cf%81%ce%b3%ce%b1%cf%83%cf%84%ce%ae%cf%81%ce%b9%ce%bf-%cf%80%ce%b1%ce%bb%ce%b1%ce%b9%cf%8c%cf%82-%ce%ba%cf%8d%ce%ba%ce%bb%ce%bf%cf%82-%ce%bc%ce%ad%cf%83%cf%89-zoom-8/
LOCATION:Zoom
END:VEVENT
BEGIN:VEVENT
DTSTART;TZID=Europe/Athens:20230115T183000
DTEND;TZID=Europe/Athens:20230115T210000
DTSTAMP:20260425T133800
CREATED:20221225T155805Z
LAST-MODIFIED:20221225T155805Z
UID:10366-1673807400-1673816400@www.faroshelp.gr
SUMMARY:Εργαστήριο Συνειδητής Επικοινωνίας (2021)
DESCRIPTION:
URL:https://www.faroshelp.gr/event/%ce%b5%cf%81%ce%b3%ce%b1%cf%83%cf%84%ce%ae%cf%81%ce%b9%ce%bf-%cf%83%cf%85%ce%bd%ce%b5%ce%b9%ce%b4%ce%b7%cf%84%ce%ae%cf%82-%ce%b5%cf%80%ce%b9%ce%ba%ce%bf%ce%b9%ce%bd%cf%89%ce%bd%ce%af%ce%b1%cf%82-20-11/
LOCATION:Zoom
END:VEVENT
BEGIN:VEVENT
DTSTART;TZID=Europe/Athens:20230114T183000
DTEND;TZID=Europe/Athens:20230114T210000
DTSTAMP:20260425T133800
CREATED:20221225T160314Z
LAST-MODIFIED:20221225T160314Z
UID:10376-1673721000-1673730000@www.faroshelp.gr
SUMMARY:Εργαστήριο (παλαιός κύκλος) - Μόνο δια ζώσης!
DESCRIPTION:Ώρα προσέλευσης 18:00
URL:https://www.faroshelp.gr/event/%ce%b5%cf%81%ce%b3%ce%b1%cf%83%cf%84%ce%ae%cf%81%ce%b9%ce%bf-%cf%80%ce%b1%ce%bb%ce%b1%ce%b9%cf%8c%cf%82-%ce%ba%cf%8d%ce%ba%ce%bb%ce%bf%cf%82-%ce%bc%cf%8c%ce%bd%ce%bf-%ce%b4%ce%b9%ce%b1-%ce%b6-8/
END:VEVENT
BEGIN:VEVENT
DTSTART;TZID=Europe/Athens:20230110T193000
DTEND;TZID=Europe/Athens:20230110T213000
DTSTAMP:20260425T133800
CREATED:20221225T160132Z
LAST-MODIFIED:20221225T160132Z
UID:10370-1673379000-1673386200@www.faroshelp.gr
SUMMARY:Συναντήσεις αρχαίας Ελληνικής Φιλοσοφίας με την Αγγελική Κομποχόλη
DESCRIPTION:Δεν χρειάζεται προηγούμενη γνώση Αρχαίων Ελληνικών\, γιατί πέραν απο τον χαρακτήρα  “μαθήματος ελληνικών”\, πρόκειται για ένα ταξείδι σε άλλους χρόνους και τόπους\, καθώς με την μεταδοτικότητα της και την αγάπη της γι΄αυτό που λειτουργεί\, η διδάσκουσα προσφέρει γνώση πολύτιμη ως να ΄χεις παρακολουθήσει την πιο ευχάριστη ταινία.
URL:https://www.faroshelp.gr/event/%cf%83%cf%85%ce%bd%ce%b1%ce%bd%cf%84%ce%ae%cf%83%ce%b5%ce%b9%cf%82-%ce%b1%cf%81%cf%87%ce%b1%ce%af%ce%b1%cf%82-%ce%b5%ce%bb%ce%bb%ce%b7%ce%bd%ce%b9%ce%ba%ce%ae%cf%82-%cf%86%ce%b9%ce%bb%ce%bf%cf%83/
LOCATION:Zoom
END:VEVENT
BEGIN:VEVENT
DTSTART;TZID=Europe/Athens:20230108T130000
DTEND;TZID=Europe/Athens:20230108T130000
DTSTAMP:20260425T133800
CREATED:20230103T172021Z
LAST-MODIFIED:20230103T172021Z
UID:10381-1673182800-1673182800@www.faroshelp.gr
SUMMARY:Γεύμα & Κοπή Πρωτοχρονιάτικης Πίτας στον Φάρο
DESCRIPTION:Σας περιμένουμε για να καλωσορίσουμε μαζί με αισιοδοξία\, αγκαλιές και χαμόγελα το 2023\, να ανταλλάξουμε ευχές για την νέα χρονιά και να μοιραστούμε το πρώτο κοινό τραπέζι μας για φέτος. \nΘα χαρούμε πολύ να σας δούμε όλους από κοντά!
URL:https://www.faroshelp.gr/event/%ce%b3%ce%b5%cf%8d%ce%bc%ce%b1-%ce%ba%ce%bf%cf%80%ce%ae-%cf%80%cf%81%cf%89%cf%84%ce%bf%cf%87%cf%81%ce%bf%ce%bd%ce%b9%ce%ac%cf%84%ce%b9%ce%ba%ce%b7%cf%82-%cf%80%ce%af%cf%84%ce%b1%cf%82-%cf%83%cf%84/
LOCATION:Κοδριγκτώνος 11\, Αθήνα
END:VEVENT
BEGIN:VEVENT
DTSTART;TZID=Europe/Athens:20230108T130000
DTEND;TZID=Europe/Athens:20230108T130000
DTSTAMP:20260425T133800
CREATED:20221225T160408Z
LAST-MODIFIED:20221225T160408Z
UID:10378-1673182800-1673182800@www.faroshelp.gr
SUMMARY:Γεύμα στον Φάρο & Κοπή πίτας
DESCRIPTION:
URL:https://www.faroshelp.gr/event/%ce%b3%ce%b5%cf%8d%ce%bc%ce%b1-%cf%83%cf%84%ce%bf%ce%bd-%cf%86%ce%ac%cf%81%ce%bf-%ce%ba%ce%bf%cf%80%ce%ae-%cf%80%ce%af%cf%84%ce%b1%cf%82/
LOCATION:Κοδριγκτώνος 11\, Αθήνα
END:VEVENT
END:VCALENDAR