BEGIN:VCALENDAR
VERSION:2.0
PRODID:-//faroshelp.gr - ECPv6.15.20//NONSGML v1.0//EN
CALSCALE:GREGORIAN
METHOD:PUBLISH
X-ORIGINAL-URL:https://www.faroshelp.gr
X-WR-CALDESC:Events for faroshelp.gr
REFRESH-INTERVAL;VALUE=DURATION:PT1H
X-Robots-Tag:noindex
X-PUBLISHED-TTL:PT1H
BEGIN:VTIMEZONE
TZID:Europe/Athens
BEGIN:DAYLIGHT
TZOFFSETFROM:+0200
TZOFFSETTO:+0300
TZNAME:EEST
DTSTART:20210328T010000
END:DAYLIGHT
BEGIN:STANDARD
TZOFFSETFROM:+0300
TZOFFSETTO:+0200
TZNAME:EET
DTSTART:20211031T010000
END:STANDARD
BEGIN:DAYLIGHT
TZOFFSETFROM:+0200
TZOFFSETTO:+0300
TZNAME:EEST
DTSTART:20220327T010000
END:DAYLIGHT
BEGIN:STANDARD
TZOFFSETFROM:+0300
TZOFFSETTO:+0200
TZNAME:EET
DTSTART:20221030T010000
END:STANDARD
BEGIN:DAYLIGHT
TZOFFSETFROM:+0200
TZOFFSETTO:+0300
TZNAME:EEST
DTSTART:20230326T010000
END:DAYLIGHT
BEGIN:STANDARD
TZOFFSETFROM:+0300
TZOFFSETTO:+0200
TZNAME:EET
DTSTART:20231029T010000
END:STANDARD
END:VTIMEZONE
BEGIN:VEVENT
DTSTART;TZID=Europe/Athens:20220710T183000
DTEND;TZID=Europe/Athens:20220710T210000
DTSTAMP:20260425T135434
CREATED:20220627T124620Z
LAST-MODIFIED:20220627T124620Z
UID:10067-1657477800-1657486800@www.faroshelp.gr
SUMMARY:Εργαστήριο (παλαιός κύκλος) - Μόνο δια ζώσης!
DESCRIPTION:Ώρα προσέλευσης 18:00
URL:https://www.faroshelp.gr/event/%ce%b5%cf%81%ce%b3%ce%b1%cf%83%cf%84%ce%ae%cf%81%ce%b9%ce%bf-%cf%80%ce%b1%ce%bb%ce%b1%ce%b9%cf%8c%cf%82-%ce%ba%cf%8d%ce%ba%ce%bb%ce%bf%cf%82-%ce%bc%cf%8c%ce%bd%ce%bf-%ce%b4%ce%b9%ce%b1-%ce%b6-3/
LOCATION:Κοδριγκτώνος 11\, Αθήνα
END:VEVENT
BEGIN:VEVENT
DTSTART;TZID=Europe/Athens:20220704T193000
DTEND;TZID=Europe/Athens:20220704T210000
DTSTAMP:20260425T135434
CREATED:20220627T124402Z
LAST-MODIFIED:20220627T124402Z
UID:10060-1656963000-1656968400@www.faroshelp.gr
SUMMARY:Ανάλυση αρχαίων κειμένων με την Δρ. Αγγελική Κομποχόλη
DESCRIPTION:Δεν χρειάζεται προηγούμενη γνώση Αρχαίων Ελληνικών\, γιατί πέραν απο τον χαρακτήρα  “μαθήματος ελληνικών”\, πρόκειται για ένα ταξείδι σε άλλους χρόνους και τόπους\, καθώς με την μεταδοτικότητα της και την αγάπη της γι΄αυτό που λειτουργεί\, η διδάσκουσα προσφέρει γνώση πολύτιμη ως να ΄χεις παρακολουθήσει την πιο ευχάριστη ταινία.\nΑς γνωρίσουμε καλύτερα την μητρική μας γλώσσα και τους θησαυρούς της.
URL:https://www.faroshelp.gr/event/%ce%b1%ce%bd%ce%ac%ce%bb%cf%85%cf%83%ce%b7-%ce%b1%cf%81%cf%87%ce%b1%ce%af%cf%89%ce%bd-%ce%ba%ce%b5%ce%b9%ce%bc%ce%ad%ce%bd%cf%89%ce%bd-%ce%bc%ce%b5-%cf%84%ce%b7%ce%bd-%ce%b4%cf%81-%ce%b1%ce%b3%ce%b3-7/
LOCATION:Zoom
END:VEVENT
BEGIN:VEVENT
DTSTART;TZID=Europe/Athens:20220627T193000
DTEND;TZID=Europe/Athens:20220627T210000
DTSTAMP:20260425T135434
CREATED:20220524T225725Z
LAST-MODIFIED:20220620T123357Z
UID:9998-1656358200-1656363600@www.faroshelp.gr
SUMMARY:Qi gong με την Δήμητρα Μωϋσιάδου - Μέσω zoom. ΔΩΡΕΑΝ ΣΥΜΜΕΤΟΧΗ ΣΤΑ ΜΑΘΗΜΑΤΑ ΓΝΩΡΙΜΙΑΣ ΙΟΥΝΙΟΥ!
DESCRIPTION:To qi gong είναι  βασικό  κομμάτι  της σωματικής άσκησης  που ονομάζεται  Τ΄άι Τσι Τσ΄ουάν. Δεν ζητάει μεγάλη μυική δύναμη ούτε εξαιρετική αντοχή. Ούτε η ηλικία αποτελεί εμπόδιο. \n‘’Τσι γκόνγκ’’ ( qi gong) σημαίνει ‘’ Εργασία με την Ενέργεια’’ και είναι η πιό λεπτή άποψη της εξωτερικής εξάσκησης . \nΣτο διαδικτυακό  μάθημα  έχουμε τις  ασκήσεις  προθέρμανσης και τα qi gong  τα οποία διαφοροποιούνται ανάλογα με την εποχή και μπορούν να εκτελεστούν ακόμη και σε καθιστή θέση\, η δε προθέρμανση με την βοήθεια καρέκλας για στήριξη εφόσον είναι δύσκολή η όρθια στάση για πολλή ώρα. \nΓια περισσότερες πληροφορίες επικοινωνήστε με την γραμματεία του Φάρου με email: faros.mko@gmail.com ή τηλεφωνικώς στο 2103216803
URL:https://www.faroshelp.gr/event/qigong-%ce%bc%ce%b5-%cf%84%ce%b7%ce%bd-%ce%b4%ce%ae%ce%bc%ce%b7%cf%84%cf%81%ce%b1-%ce%bc%cf%89%cf%8b%cf%83%ce%b9%ce%ac%ce%b4%ce%bf%cf%85-%ce%bc%ce%ad%cf%83%cf%89-zoom/
LOCATION:Zoom
ATTACH;FMTTYPE=image/jpeg:https://www.faroshelp.gr/wp-content/uploads/2022/05/qigong.jpg
END:VEVENT
BEGIN:VEVENT
DTSTART;TZID=Europe/Athens:20220621T203000
DTEND;TZID=Europe/Athens:20220621T220000
DTSTAMP:20260425T135434
CREATED:20220529T170228Z
LAST-MODIFIED:20220529T170506Z
UID:10031-1655843400-1655848800@www.faroshelp.gr
SUMMARY:ΘΕΡΙΝΟ ΗΛΙΟΣΤΑΣΙΟ (κλειστό)
DESCRIPTION:Στην συνάντηση αυτή μπορούν να παρευρεθούν μόνο οι συμμετέχοντες εργαστηρίων! \nΏρα προσέλευσης: 20:00
URL:https://www.faroshelp.gr/event/%ce%b8%ce%b5%cf%81%ce%b9%ce%bd%ce%bf-%ce%b7%ce%bb%ce%b9%ce%bf%cf%83%cf%84%ce%b1%cf%83%ce%b9%ce%bf-%ce%ba%ce%bb%ce%b5%ce%b9%cf%83%cf%84%cf%8c/
LOCATION:Κοδριγκτώνος 11\, Αθήνα
END:VEVENT
BEGIN:VEVENT
DTSTART;TZID=Europe/Athens:20220620T193000
DTEND;TZID=Europe/Athens:20220620T213000
DTSTAMP:20260425T135434
CREATED:20220524T222605Z
LAST-MODIFIED:20220524T222605Z
UID:9968-1655753400-1655760600@www.faroshelp.gr
SUMMARY:Ανάλυση αρχαίων κειμένων με την Δρ. Αγγελική Κομποχόλη
DESCRIPTION:Δεν χρειάζεται προηγούμενη γνώση Αρχαίων Ελληνικών\, γιατί πέραν απο τον χαρακτήρα  “μαθήματος ελληνικών”\, πρόκειται για ένα ταξείδι σε άλλους χρόνους και τόπους\, καθώς με την μεταδοτικότητα της και την αγάπη της γι΄αυτό που λειτουργεί\, η διδάσκουσα προσφέρει γνώση πολύτιμη ως να ΄χεις παρακολουθήσει την πιο ευχάριστη ταινία.\nΑς γνωρίσουμε καλύτερα την μητρική μας γλώσσα και τους θησαυρούς της.
URL:https://www.faroshelp.gr/event/%ce%b1%ce%bd%ce%ac%ce%bb%cf%85%cf%83%ce%b7-%ce%b1%cf%81%cf%87%ce%b1%ce%af%cf%89%ce%bd-%ce%ba%ce%b5%ce%b9%ce%bc%ce%ad%ce%bd%cf%89%ce%bd-%ce%bc%ce%b5-%cf%84%ce%b7%ce%bd-%ce%b4%cf%81-%ce%b1%ce%b3%ce%b3-6/
LOCATION:Zoom
END:VEVENT
BEGIN:VEVENT
DTSTART;TZID=Europe/Athens:20220618T183000
DTEND;TZID=Europe/Athens:20220618T183000
DTSTAMP:20260425T135434
CREATED:20220524T223232Z
LAST-MODIFIED:20220524T223232Z
UID:9980-1655577000-1655577000@www.faroshelp.gr
SUMMARY:Εργαστήριο Συνειδητής Επικοινωνίας (2021)
DESCRIPTION:
URL:https://www.faroshelp.gr/event/%ce%b5%cf%81%ce%b3%ce%b1%cf%83%cf%84%ce%ae%cf%81%ce%b9%ce%bf-%cf%83%cf%85%ce%bd%ce%b5%ce%b9%ce%b4%ce%b7%cf%84%ce%ae%cf%82-%ce%b5%cf%80%ce%b9%ce%ba%ce%bf%ce%b9%ce%bd%cf%89%ce%bd%ce%af%ce%b1%cf%82-202-7/
LOCATION:Zoom
END:VEVENT
BEGIN:VEVENT
DTSTART;TZID=Europe/Athens:20220615T183000
DTEND;TZID=Europe/Athens:20220615T210000
DTSTAMP:20260425T135434
CREATED:20220524T222900Z
LAST-MODIFIED:20220524T222900Z
UID:9973-1655317800-1655326800@www.faroshelp.gr
SUMMARY:Εργαστήριο (παλαιός κύκλος) - Μέσω Zoom!
DESCRIPTION:
URL:https://www.faroshelp.gr/event/%ce%b5%cf%81%ce%b3%ce%b1%cf%83%cf%84%ce%ae%cf%81%ce%b9%ce%bf-%cf%80%ce%b1%ce%bb%ce%b1%ce%b9%cf%8c%cf%82-%ce%ba%cf%8d%ce%ba%ce%bb%ce%bf%cf%82-%ce%bc%ce%ad%cf%83%cf%89-zoom-2/
LOCATION:Zoom
END:VEVENT
BEGIN:VEVENT
DTSTART;TZID=Europe/Athens:20220614T203000
DTEND;TZID=Europe/Athens:20220614T220000
DTSTAMP:20260425T135434
CREATED:20220524T223133Z
LAST-MODIFIED:20220524T223133Z
UID:9978-1655238600-1655244000@www.faroshelp.gr
SUMMARY:πανσέληνος της Φωτίσεως με την Πέγκυ Χριστοφή
DESCRIPTION:Την ημέρα της πανσελήνου\, συνδυάζονται διαλογιστικές πρακτικές και προσευχητική πράξη και παραδίδονται Οδηγίες Διδασκάλων\, αμέσως εφαρμόσιμες\, για το προσωπικό και το συλλογικό Καλό. \nΠερισσότερες πληροφορίες: faros.mko@gmail.com\, 2103216803
URL:https://www.faroshelp.gr/event/%cf%80%ce%b1%ce%bd%cf%83%ce%ad%ce%bb%ce%b7%ce%bd%ce%bf%cf%82-%cf%84%ce%b7%cf%82-%cf%86%cf%89%cf%84%ce%af%cf%83%ce%b5%cf%89%cf%82-%ce%bc%ce%b5-%cf%84%ce%b7%ce%bd-%cf%80%ce%ad%ce%b3%ce%ba%cf%85-%cf%87/
LOCATION:Στον Φάρο & διαδικτυακώς
ATTACH;FMTTYPE=image/jpeg:https://www.faroshelp.gr/wp-content/uploads/2021/11/pansel-e1648307783610.jpg
END:VEVENT
BEGIN:VEVENT
DTSTART;TZID=Europe/Athens:20220613T193000
DTEND;TZID=Europe/Athens:20220613T210000
DTSTAMP:20260425T135434
CREATED:20220524T225657Z
LAST-MODIFIED:20220620T123417Z
UID:9997-1655148600-1655154000@www.faroshelp.gr
SUMMARY:Qi gong με την Δήμητρα Μωϋσιάδου - Μέσω zoom. ΔΩΡΕΑΝ ΣΥΜΜΕΤΟΧΗ ΣΤΑ ΜΑΘΗΜΑΤΑ ΓΝΩΡΙΜΙΑΣ ΙΟΥΝΙΟΥ!
DESCRIPTION:To qi gong είναι  βασικό  κομμάτι  της σωματικής άσκησης  που ονομάζεται  Τ΄άι Τσι Τσ’ουάν. Δεν ζητάει μεγάλη μυική δύναμη ούτε εξαιρετική αντοχή. Ούτε η ηλικία αποτελεί εμπόδιο. \n‘’Tσι γκόνγκ’’ ( qi gong) σημαίνει ‘’ Εργασία με την Ενέργεια’’ και είναι η πιό λεπτή άποψη της εξωτερικής εξάσκησης . \nΣτο διαδικτυακό  μάθημα  έχουμε τις  ασκήσεις  προθέρμανσης και τα qi gong  τα οποία διαφοροποιούνται ανάλογα με την εποχή και μπορούν να εκτελεστούν ακόμη και σε καθιστή θέση\, η δε προθέρμανση με την βοήθεια καρέκλας για στήριξη εφόσον είναι δύσκολή η όρθια στάση για πολλή ώρα. \nΓια περισσότερες πληροφορίες επικοινωνήστε με την γραμματεία του Φάρου με email: faros.mko@gmail.com ή τηλεφωνικώς στο 2103216803
URL:https://www.faroshelp.gr/event/qigong/
LOCATION:Zoom
ATTACH;FMTTYPE=image/jpeg:https://www.faroshelp.gr/wp-content/uploads/2022/05/qigong.jpg
END:VEVENT
BEGIN:VEVENT
DTSTART;TZID=Europe/Athens:20220612T183000
DTEND;TZID=Europe/Athens:20220612T210000
DTSTAMP:20260425T135434
CREATED:20220524T222945Z
LAST-MODIFIED:20220524T222945Z
UID:9975-1655058600-1655067600@www.faroshelp.gr
SUMMARY:Εργαστήριο (παλαιός κύκλος) - Μόνο δια ζώσης!
DESCRIPTION:Ώρα προσέλευσης 18:00
URL:https://www.faroshelp.gr/event/%ce%b5%cf%81%ce%b3%ce%b1%cf%83%cf%84%ce%ae%cf%81%ce%b9%ce%bf-%cf%80%ce%b1%ce%bb%ce%b1%ce%b9%cf%8c%cf%82-%ce%ba%cf%8d%ce%ba%ce%bb%ce%bf%cf%82-%ce%bc%cf%8c%ce%bd%ce%bf-%ce%b4%ce%b9%ce%b1-%ce%b6-2/
LOCATION:Κοδριγκτώνος 11\, Αθήνα
END:VEVENT
BEGIN:VEVENT
DTSTART;TZID=Europe/Athens:20220607T180000
DTEND;TZID=Europe/Athens:20220607T200000
DTSTAMP:20260425T135434
CREATED:20220524T222743Z
LAST-MODIFIED:20220524T222743Z
UID:9970-1654624800-1654632000@www.faroshelp.gr
SUMMARY:Ενεργειακή Θεραπεία\, με τον Χρήστο Μέρμηγκα
DESCRIPTION:Μέσα στη σιωπή αφουγκραζόμαστε τους εαυτούς μας και η δύναμη της ομάδας\, μας βοηθάει να εντοπίσουμε και να φωτίσουμε τα όποια ζητήματα μας αφορούν. \nΠερισσότερες πληροφορίες: faros.mko@gmail.com\, 210 3216803
URL:https://www.faroshelp.gr/event/%ce%b5%ce%bd%ce%b5%cf%81%ce%b3%ce%b5%ce%b9%ce%b1%ce%ba%ce%ae-%ce%b8%ce%b5%cf%81%ce%b1%cf%80%ce%b5%ce%af%ce%b1-%ce%bc%ce%b5-%cf%84%ce%bf%ce%bd-%cf%87%cf%81%ce%ae%cf%83%cf%84%ce%bf-%ce%bc%ce%ad%cf%81/
LOCATION:Κοδριγκτώνος 11\, Αθήνα
END:VEVENT
BEGIN:VEVENT
DTSTART;TZID=Europe/Athens:20220606T193000
DTEND;TZID=Europe/Athens:20220606T213000
DTSTAMP:20260425T135434
CREATED:20220524T222447Z
LAST-MODIFIED:20220524T222447Z
UID:9966-1654543800-1654551000@www.faroshelp.gr
SUMMARY:Ανάλυση αρχαίων κειμένων με την Δρ. Αγγελική Κομποχόλη
DESCRIPTION:Δεν χρειάζεται προηγούμενη γνώση Αρχαίων Ελληνικών\, γιατί πέραν απο τον χαρακτήρα  “μαθήματος ελληνικών”\, πρόκειται για ένα ταξείδι σε άλλους χρόνους και τόπους\, καθώς με την μεταδοτικότητα της και την αγάπη της γι΄αυτό που λειτουργεί\, η διδάσκουσα προσφέρει γνώση πολύτιμη ως να ΄χεις παρακολουθήσει την πιο ευχάριστη ταινία.\nΑς γνωρίσουμε καλύτερα την μητρική μας γλώσσα και τους θησαυρούς της.
URL:https://www.faroshelp.gr/event/%ce%b1%ce%bd%ce%ac%ce%bb%cf%85%cf%83%ce%b7-%ce%b1%cf%81%cf%87%ce%b1%ce%af%cf%89%ce%bd-%ce%ba%ce%b5%ce%b9%ce%bc%ce%ad%ce%bd%cf%89%ce%bd-%ce%bc%ce%b5-%cf%84%ce%b7%ce%bd-%ce%b4%cf%81-%ce%b1%ce%b3%ce%b3-5/
LOCATION:Zoom
END:VEVENT
BEGIN:VEVENT
DTSTART;TZID=Europe/Athens:20220605T190000
DTEND;TZID=Europe/Athens:20220605T210000
DTSTAMP:20260425T135434
CREATED:20220524T224825Z
LAST-MODIFIED:20220524T224825Z
UID:9982-1654455600-1654462800@www.faroshelp.gr
SUMMARY:Πρακτικοί τρόποι καθημερινής προστασίας\, αυτοθεραπείας και διαχείριση καθημερινότητας
DESCRIPTION:Ομιλία του Χρήστου Μέρμηγκα \nΓια περισσότερες πληροφορίες επικοινωνήστε με την γραμματεία του Φάρου με email: faros.mko@gmail.com ή τηλεφωνικώς στο 2103216803
URL:https://www.faroshelp.gr/event/%cf%80%cf%81%ce%b1%ce%ba%cf%84%ce%b9%ce%ba%ce%bf%ce%af-%cf%84%cf%81%cf%8c%cf%80%ce%bf%ce%b9-%ce%ba%ce%b1%ce%b8%ce%b7%ce%bc%ce%b5%cf%81%ce%b9%ce%bd%ce%ae%cf%82-%cf%80%cf%81%ce%bf%cf%83%cf%84%ce%b1/
LOCATION:Zoom
ATTACH;FMTTYPE=image/jpeg:https://www.faroshelp.gr/wp-content/uploads/2021/10/pexels-pixabay-158465-e1653432437512.jpg
END:VEVENT
BEGIN:VEVENT
DTSTART;TZID=Europe/Athens:20220523T193000
DTEND;TZID=Europe/Athens:20220523T210000
DTSTAMP:20260425T135434
CREATED:20220425T130207Z
LAST-MODIFIED:20220425T130207Z
UID:9931-1653334200-1653339600@www.faroshelp.gr
SUMMARY:Ανάλυση αρχαίων κειμένων με την Δρ. Αγγελική Κομποχόλη
DESCRIPTION:Δεν χρειάζεται προηγούμενη γνώση Αρχαίων Ελληνικών\, γιατί πέραν απο τον χαρακτήρα  “μαθήματος ελληνικών”\, πρόκειται για ένα ταξείδι σε άλλους χρόνους και τόπους\, καθώς με την μεταδοτικότητα της και την αγάπη της γι΄αυτό που λειτουργεί\, η διδάσκουσα προσφέρει γνώση πολύτιμη ως να ΄χεις παρακολουθήσει την πιο ευχάριστη ταινία.\nΑς γνωρίσουμε καλύτερα την μητρική μας γλώσσα και τους θησαυρούς της.
URL:https://www.faroshelp.gr/event/%ce%b1%ce%bd%ce%ac%ce%bb%cf%85%cf%83%ce%b7-%ce%b1%cf%81%cf%87%ce%b1%ce%af%cf%89%ce%bd-%ce%ba%ce%b5%ce%b9%ce%bc%ce%ad%ce%bd%cf%89%ce%bd-%ce%bc%ce%b5-%cf%84%ce%b7%ce%bd-%ce%b4%cf%81-%ce%b1%ce%b3%ce%b3-3/
LOCATION:Zoom
END:VEVENT
BEGIN:VEVENT
DTSTART;TZID=Europe/Athens:20220522T183000
DTEND;TZID=Europe/Athens:20220522T213000
DTSTAMP:20260425T135434
CREATED:20220425T131327Z
LAST-MODIFIED:20220425T131327Z
UID:9942-1653244200-1653255000@www.faroshelp.gr
SUMMARY:Εργαστήριο (παλαιός κύκλος) - Μέσω Zoom!
DESCRIPTION:
URL:https://www.faroshelp.gr/event/%ce%b5%cf%81%ce%b3%ce%b1%cf%83%cf%84%ce%ae%cf%81%ce%b9%ce%bf-%cf%80%ce%b1%ce%bb%ce%b1%ce%b9%cf%8c%cf%82-%ce%ba%cf%8d%ce%ba%ce%bb%ce%bf%cf%82-%ce%bc%ce%ad%cf%83%cf%89-zoom/
LOCATION:Zoom
END:VEVENT
BEGIN:VEVENT
DTSTART;TZID=Europe/Athens:20220518T183000
DTEND;TZID=Europe/Athens:20220518T213000
DTSTAMP:20260425T135434
CREATED:20220425T131234Z
LAST-MODIFIED:20220425T131234Z
UID:9940-1652898600-1652909400@www.faroshelp.gr
SUMMARY:Εργαστήριο (παλαιός κύκλος) - Μόνο δια ζώσης!
DESCRIPTION:Ώρα προσέλευσης 18:00
URL:https://www.faroshelp.gr/event/%ce%b5%cf%81%ce%b3%ce%b1%cf%83%cf%84%ce%ae%cf%81%ce%b9%ce%bf-%cf%80%ce%b1%ce%bb%ce%b1%ce%b9%cf%8c%cf%82-%ce%ba%cf%8d%ce%ba%ce%bb%ce%bf%cf%82-%ce%bc%cf%8c%ce%bd%ce%bf-%ce%b4%ce%b9%ce%b1-%ce%b6/
LOCATION:Κοδριγκτώνος 11\, Αθήνα
END:VEVENT
BEGIN:VEVENT
DTSTART;TZID=Europe/Athens:20220516T203000
DTEND;TZID=Europe/Athens:20220516T220000
DTSTAMP:20260425T135434
CREATED:20220425T130654Z
LAST-MODIFIED:20220425T130654Z
UID:9936-1652733000-1652738400@www.faroshelp.gr
SUMMARY:πανσέληνος Ζωής με την Πέγκυ Χριστοφή
DESCRIPTION:Την ημέρα της πανσελήνου\, συνδυάζονται διαλογιστικές πρακτικές και προσευχητική πράξη και παραδίδονται Οδηγίες Διδασκάλων\, αμέσως εφαρμόσιμες\, για το προσωπικό και το συλλογικό Καλό. \nΠερισσότερες πληροφορίες: faros.mko@gmail.com\, 2103216803
URL:https://www.faroshelp.gr/event/%cf%80%ce%b1%ce%bd%cf%83%ce%ad%ce%bb%ce%b7%ce%bd%ce%bf%cf%82-%ce%b6%cf%89%ce%ae%cf%82-%ce%bc%ce%b5-%cf%84%ce%b7%ce%bd-%cf%80%ce%ad%ce%b3%ce%ba%cf%85-%cf%87%cf%81%ce%b9%cf%83%cf%84%ce%bf%cf%86%ce%ae/
LOCATION:Στον Φάρο έως 10 συμμετοχές & διαδικτυακώς
ATTACH;FMTTYPE=image/jpeg:https://www.faroshelp.gr/wp-content/uploads/2021/11/pansel-e1648307783610.jpg
END:VEVENT
BEGIN:VEVENT
DTSTART;TZID=Europe/Athens:20220515T183000
DTEND;TZID=Europe/Athens:20220515T210000
DTSTAMP:20260425T135434
CREATED:20220425T130837Z
LAST-MODIFIED:20220425T130837Z
UID:9938-1652639400-1652648400@www.faroshelp.gr
SUMMARY:Εργαστήριο Συνειδητής Επικοινωνίας (2021)
DESCRIPTION:
URL:https://www.faroshelp.gr/event/%ce%b5%cf%81%ce%b3%ce%b1%cf%83%cf%84%ce%ae%cf%81%ce%b9%ce%bf-%cf%83%cf%85%ce%bd%ce%b5%ce%b9%ce%b4%ce%b7%cf%84%ce%ae%cf%82-%ce%b5%cf%80%ce%b9%ce%ba%ce%bf%ce%b9%ce%bd%cf%89%ce%bd%ce%af%ce%b1%cf%82-202-6/
LOCATION:Zoom
END:VEVENT
BEGIN:VEVENT
DTSTART;TZID=Europe/Athens:20220511T190000
DTEND;TZID=Europe/Athens:20220511T210000
DTSTAMP:20260425T135434
CREATED:20220503T144827Z
LAST-MODIFIED:20220503T144827Z
UID:9946-1652295600-1652302800@www.faroshelp.gr
SUMMARY:Η εργασία μας στις συνθήκες της παρούσης - Πέγκυ Χριστοφή - Παράδοση εσωτερικής διδασκαλίας
DESCRIPTION:Όσα χρειάζεται να έχουμε υπ΄όψιν μας για τις δυσκολίες\, τις προκλήσεις και τις ευκαιρίες της παρούσης περιόδου. \n\nαδράνεια και αντίδραση\nφαινομενικότητα και διάκριση\nισορροπίες αιχμής και αντιστάτες ροπής
URL:https://www.faroshelp.gr/event/%ce%b7-%ce%b5%cf%81%ce%b3%ce%b1%cf%83%ce%af%ce%b1-%ce%bc%ce%b1%cf%82-%cf%83%cf%84%ce%b9%cf%82-%cf%83%cf%85%ce%bd%ce%b8%ce%ae%ce%ba%ce%b5%cf%82-%cf%84%ce%b7%cf%82-%cf%80%ce%b1%cf%81%ce%bf%cf%8d%cf%83/
LOCATION:Zoom
ATTACH;FMTTYPE=image/jpeg:https://www.faroshelp.gr/wp-content/uploads/2022/05/fantasy-gf1b253eb5_1280-e1651588925456.jpg
END:VEVENT
BEGIN:VEVENT
DTSTART;TZID=Europe/Athens:20220509T193000
DTEND;TZID=Europe/Athens:20220509T210000
DTSTAMP:20260425T135434
CREATED:20220425T130210Z
LAST-MODIFIED:20220425T130210Z
UID:9930-1652124600-1652130000@www.faroshelp.gr
SUMMARY:Ανάλυση αρχαίων κειμένων με την Δρ. Αγγελική Κομποχόλη
DESCRIPTION:Δεν χρειάζεται προηγούμενη γνώση Αρχαίων Ελληνικών\, γιατί πέραν απο τον χαρακτήρα  “μαθήματος ελληνικών”\, πρόκειται για ένα ταξείδι σε άλλους χρόνους και τόπους\, καθώς με την μεταδοτικότητα της και την αγάπη της γι΄αυτό που λειτουργεί\, η διδάσκουσα προσφέρει γνώση πολύτιμη ως να ΄χεις παρακολουθήσει την πιο ευχάριστη ταινία.\nΑς γνωρίσουμε καλύτερα την μητρική μας γλώσσα και τους θησαυρούς της.
URL:https://www.faroshelp.gr/event/%ce%b1%ce%bd%ce%ac%ce%bb%cf%85%cf%83%ce%b7-%ce%b1%cf%81%cf%87%ce%b1%ce%af%cf%89%ce%bd-%ce%ba%ce%b5%ce%b9%ce%bc%ce%ad%ce%bd%cf%89%ce%bd-%ce%bc%ce%b5-%cf%84%ce%b7%ce%bd-%ce%b4%cf%81-%ce%b1%ce%b3%ce%b3-4/
LOCATION:Zoom
END:VEVENT
BEGIN:VEVENT
DTSTART;TZID=Europe/Athens:20220507T180000
DTEND;TZID=Europe/Athens:20220507T210000
DTSTAMP:20260425T135434
CREATED:20220326T150133Z
LAST-MODIFIED:20220401T172246Z
UID:9844-1651946400-1651957200@www.faroshelp.gr
SUMMARY:Τελικά μήπως ξέρω να σχεδιάζω; - 3ωρο σεμινάριο με την εικαστικό Νίνα Παππά
DESCRIPTION:Όλοι μπορούμε να κατακτήσουμε τις βασικές τεχνικές σχεδίου και να ζωγραφίσουμε κάτι.\nΣε αυτό το 3ωρο σεμινάριο θα εφαρμόσουμε τα βασικά βήματα του σχεδίου με μολύβι\, σε μία άσκηση που θα ενδυναμώσει την παρατήρηση μας και θα μας εκπλήξει με το αποτέλεσμα (θετικά ή αρνητικά…).\nΤο βέβαιο είναι ότι θα διασκεδάσουμε με τις επιδόσεις μας!\nΝα είστε σίγουροι όμως\, ότι θα φύγετε με κάτι παραπάνω για κάποιον από τους τοίχους του σπιτιού σας. \nΔεν χρειάζονται προηγούμενες γνώσεις σχεδίου.\nΤα υλικά θα υπάρχουν στον Φάρο και συμπεριλαμβάνονται στο κόστος συμμετοχής.
URL:https://www.faroshelp.gr/event/%cf%84%ce%b5%ce%bb%ce%b9%ce%ba%ce%ac-%ce%bc%ce%ae%cf%80%cf%89%cf%82-%ce%be%ce%ad%cf%81%cf%89-%ce%bd%ce%b1-%cf%83%cf%87%ce%b5%ce%b4%ce%b9%ce%ac%ce%b6%cf%89-3%cf%89%cf%81%ce%bf-%cf%83%ce%b5%ce%bc/
LOCATION:Κοδριγκτώνος 11\, Αθήνα
ATTACH;FMTTYPE=image/png:https://www.faroshelp.gr/wp-content/uploads/2022/03/renovation-1262389_640-e1648307035916.png
END:VEVENT
BEGIN:VEVENT
DTSTART;TZID=Europe/Athens:20220503T180000
DTEND;TZID=Europe/Athens:20220503T200000
DTSTAMP:20260425T135434
CREATED:20220425T130413Z
LAST-MODIFIED:20220425T130413Z
UID:9934-1651600800-1651608000@www.faroshelp.gr
SUMMARY:Ενεργειακή Θεραπεία – Εξισορρόπηση\, με τον Χρήστο Μέρμηγκα
DESCRIPTION:Μέσα στη σιωπή αφουγκραζόμαστε τους εαυτούς μας και η δύναμη της ομάδας\, μας βοηθάει να εντοπίσουμε και να φωτίσουμε τα όποια ζητήματα μας αφορούν. \nΠερισσότερες πληροφορίες: faros.mko@gmail.com\, 210 3216803
URL:https://www.faroshelp.gr/event/%ce%b5%ce%bd%ce%b5%cf%81%ce%b3%ce%b5%ce%b9%ce%b1%ce%ba%ce%ae-%ce%b8%ce%b5%cf%81%ce%b1%cf%80%ce%b5%ce%af%ce%b1-%ce%b5%ce%be%ce%b9%cf%83%ce%bf%cf%81%cf%81%cf%8c%cf%80%ce%b7%cf%83%ce%b7-%ce%bc/
LOCATION:Κοδριγκτώνος 11\, Αθήνα
END:VEVENT
BEGIN:VEVENT
DTSTART;TZID=Europe/Athens:20220429T193000
DTEND;TZID=Europe/Athens:20220429T213000
DTSTAMP:20260425T135434
CREATED:20220326T173050Z
LAST-MODIFIED:20220328T162538Z
UID:9864-1651260600-1651267800@www.faroshelp.gr
SUMMARY:Ανάλυση αρχαίων κειμένων με την Δρ. Αγγελική Κομποχόλη
DESCRIPTION:Δεν χρειάζεται προηγούμενη γνώση Αρχαίων Ελληνικών\, γιατί πέραν απο τον χαρακτήρα  “μαθήματος ελληνικών”\, πρόκειται για ένα ταξείδι σε άλλους χρόνους και τόπους\, καθώς με την μεταδοτικότητα της και την αγάπη της γι΄αυτό που λειτουργεί\, η διδάσκουσα προσφέρει γνώση πολύτιμη ως να ΄χεις παρακολουθήσει την πιο ευχάριστη ταινία.\nΑς γνωρίσουμε καλύτερα την μητρική μας γλώσσα και τους θησαυρούς της.
URL:https://www.faroshelp.gr/event/%ce%b1%ce%bd%ce%ac%ce%bb%cf%85%cf%83%ce%b7-%ce%b1%cf%81%cf%87%ce%b1%ce%af%cf%89%ce%bd-%ce%ba%ce%b5%ce%b9%ce%bc%ce%ad%ce%bd%cf%89%ce%bd-%ce%bc%ce%b5-%cf%84%ce%b7%ce%bd-%ce%b4%cf%81-%ce%b1%ce%b3%ce%b3-2/
LOCATION:Zoom
END:VEVENT
BEGIN:VEVENT
DTSTART;TZID=Europe/Athens:20220417T183000
DTEND;TZID=Europe/Athens:20220417T210000
DTSTAMP:20260425T135434
CREATED:20220326T173738Z
LAST-MODIFIED:20220326T173738Z
UID:9872-1650220200-1650229200@www.faroshelp.gr
SUMMARY:Εργαστήριο Συνειδητής Επικοινωνίας (2021)
DESCRIPTION:
URL:https://www.faroshelp.gr/event/%ce%b5%cf%81%ce%b3%ce%b1%cf%83%cf%84%ce%ae%cf%81%ce%b9%ce%bf-%cf%83%cf%85%ce%bd%ce%b5%ce%b9%ce%b4%ce%b7%cf%84%ce%ae%cf%82-%ce%b5%cf%80%ce%b9%ce%ba%ce%bf%ce%b9%ce%bd%cf%89%ce%bd%ce%af%ce%b1%cf%82-202-5/
LOCATION:Zoom
END:VEVENT
BEGIN:VEVENT
DTSTART;TZID=Europe/Athens:20220416T203000
DTEND;TZID=Europe/Athens:20220416T220000
DTSTAMP:20260425T135434
CREATED:20220326T173436Z
LAST-MODIFIED:20220326T173436Z
UID:9866-1650141000-1650146400@www.faroshelp.gr
SUMMARY:πανσέληνος Αναστάσεως\, με την Πέγκυ Χριστοφή
DESCRIPTION:Την ημέρα της πανσελήνου\, συνδυάζονται διαλογιστικές πρακτικές και προσευχητική πράξη και παραδίδονται Οδηγίες Διδασκάλων\, αμέσως εφαρμόσιμες\, για το προσωπικό και το συλλογικό Καλό. \nΠερισσότερες πληροφορίες: faros.mko@gmail.com\, 2103216803
URL:https://www.faroshelp.gr/event/%cf%80%ce%b1%ce%bd%cf%83%ce%ad%ce%bb%ce%b7%ce%bd%ce%bf%cf%82-%ce%b1%ce%bd%ce%b1%cf%83%cf%84%ce%ac%cf%83%ce%b5%cf%89%cf%82-%ce%bc%ce%b5-%cf%84%ce%b7%ce%bd-%cf%80%ce%ad%ce%b3%ce%ba%cf%85-%cf%87%cf%81/
LOCATION:Στον Φάρο έως 10 συμμετοχές & διαδικτυακώς
END:VEVENT
BEGIN:VEVENT
DTSTART;TZID=Europe/Athens:20220413T183000
DTEND;TZID=Europe/Athens:20220413T210000
DTSTAMP:20260425T135434
CREATED:20220326T173630Z
LAST-MODIFIED:20220326T173630Z
UID:9870-1649874600-1649883600@www.faroshelp.gr
SUMMARY:Εργαστήριο (παλαιός κύκλος)
DESCRIPTION:
URL:https://www.faroshelp.gr/event/%ce%b5%cf%81%ce%b3%ce%b1%cf%83%cf%84%ce%ae%cf%81%ce%b9%ce%bf-%cf%80%ce%b1%ce%bb%ce%b1%ce%b9%cf%8c%cf%82-%ce%ba%cf%8d%ce%ba%ce%bb%ce%bf%cf%82-10/
LOCATION:Στον Φάρο έως 10 συμμετοχές & διαδικτυακώς
END:VEVENT
BEGIN:VEVENT
DTSTART;TZID=Europe/Athens:20220411T183000
DTEND;TZID=Europe/Athens:20220411T210000
DTSTAMP:20260425T135434
CREATED:20220326T173554Z
LAST-MODIFIED:20220326T173554Z
UID:9868-1649701800-1649710800@www.faroshelp.gr
SUMMARY:Εργαστήριο (παλαιός κύκλος)
DESCRIPTION:
URL:https://www.faroshelp.gr/event/%ce%b5%cf%81%ce%b3%ce%b1%cf%83%cf%84%ce%ae%cf%81%ce%b9%ce%bf-%cf%80%ce%b1%ce%bb%ce%b1%ce%b9%cf%8c%cf%82-%ce%ba%cf%8d%ce%ba%ce%bb%ce%bf%cf%82-9/
LOCATION:Στον Φάρο έως 10 συμμετοχές & διαδικτυακώς
END:VEVENT
BEGIN:VEVENT
DTSTART;TZID=Europe/Athens:20220410T193000
DTEND;TZID=Europe/Athens:20220410T213000
DTSTAMP:20260425T135434
CREATED:20220405T103100Z
LAST-MODIFIED:20220405T103151Z
UID:9894-1649619000-1649626200@www.faroshelp.gr
SUMMARY:1η Διαδικτυακή Εκδήλωση Πνευματικών Ομάδων Για την Παγκόσμια Ειρήνη και την Αδελφοσύνη των Λαών
DESCRIPTION:Φίλες και φίλοι της Πνευματικής Αναζήτησης και της Αυτογνωσίας\, \nΜε χαρά και πολλή αγάπη σας καλούμε να συμμετάσχετε στην πρώτη κοινή εκδήλωση πνευματικών ομάδων από την Ελλάδα και την Κύπρο. Σκοπός μας είναι να μεταφέρουμε ένα μήνυμα ενότητας\, ειρήνης\, αγάπης και αλληλεγγύης\, εκπέμποντας παράλληλα τη θετική μας ενέργεια για το Παγκόσμιο Καλό. \nΗ εκδήλωση περιλαμβάνει ομιλίες\, ομαδική προσευχή και οραματισμό\, δρώμενα και μουσικές παρεμβάσεις. \nΠερισσότερες πληροφορίες: https://www.faroshelp.gr/10-4-2022/
URL:https://www.faroshelp.gr/event/1%ce%b7-%ce%b4%ce%b9%ce%b1%ce%b4%ce%b9%ce%ba%cf%84%cf%85%ce%b1%ce%ba%ce%ae-%ce%b5%ce%ba%ce%b4%ce%ae%ce%bb%cf%89%cf%83%ce%b7-%cf%80%ce%bd%ce%b5%cf%85%ce%bc%ce%b1%cf%84%ce%b9%ce%ba%cf%8e%ce%bd-%ce%bf/
LOCATION:Διαδικτυακώς
ATTACH;FMTTYPE=image/jpeg:https://www.faroshelp.gr/wp-content/uploads/2022/04/ΕΙΡΗΝΗ1200Χ6302-1.jpg
END:VEVENT
BEGIN:VEVENT
DTSTART;TZID=Europe/Athens:20220405T180000
DTEND;TZID=Europe/Athens:20220405T200000
DTSTAMP:20260425T135434
CREATED:20220326T174008Z
LAST-MODIFIED:20220401T143006Z
UID:9874-1649181600-1649188800@www.faroshelp.gr
SUMMARY:Ενεργειακή εξισορρόπηση - Ομαδική θεραπεία με τον Χρήστο Μέρμηγκα
DESCRIPTION:Μέσα στη σιωπή αφουγκραζόμαστε τους εαυτούς μας και η δύναμη της ομάδας\, μας βοηθάει να εντοπίσουμε και να φωτίσουμε τα όποια ζητήματα μας αφορούν. \nΠερισσότερες πληροφορίες: faros.mko@gmail.com\, 210 3216803
URL:https://www.faroshelp.gr/event/%ce%b5%ce%bd%ce%b5%cf%81%ce%b3%ce%b5%ce%b9%ce%b1%ce%ba%ce%ae-%ce%b5%ce%be%ce%b9%cf%83%ce%bf%cf%81%cf%81%cf%8c%cf%80%ce%b7%cf%83%ce%b7-%ce%bf%ce%bc%ce%b1%ce%b4%ce%b9%ce%ba%ce%ae-%ce%b8%ce%b5%cf%81-3/
LOCATION:Κοδριγκτώνος 11\, Αθήνα
END:VEVENT
BEGIN:VEVENT
DTSTART;TZID=Europe/Athens:20220404T193000
DTEND;TZID=Europe/Athens:20220404T213000
DTSTAMP:20260425T135434
CREATED:20220326T172949Z
LAST-MODIFIED:20220326T172949Z
UID:9862-1649100600-1649107800@www.faroshelp.gr
SUMMARY:Ανάλυση αρχαίων κειμένων με την Δρ. Αγγελική Κομποχόλη
DESCRIPTION:Δεν χρειάζεται προηγούμενη γνώση Αρχαίων Ελληνικών\, γιατί πέραν απο τον χαρακτήρα  “μαθήματος ελληνικών”\, πρόκειται για ένα ταξείδι σε άλλους χρόνους και τόπους\, καθώς με την μεταδοτικότητα της και την αγάπη της γι΄αυτό που λειτουργεί\, η διδάσκουσα προσφέρει γνώση πολύτιμη ως να ΄χεις παρακολουθήσει την πιο ευχάριστη ταινία.\nΑς γνωρίσουμε καλύτερα την μητρική μας γλώσσα και τους θησαυρούς της.
URL:https://www.faroshelp.gr/event/%ce%b1%ce%bd%ce%ac%ce%bb%cf%85%cf%83%ce%b7-%ce%b1%cf%81%cf%87%ce%b1%ce%af%cf%89%ce%bd-%ce%ba%ce%b5%ce%b9%ce%bc%ce%ad%ce%bd%cf%89%ce%bd-%ce%bc%ce%b5-%cf%84%ce%b7%ce%bd-%ce%b4%cf%81-%ce%b1%ce%b3%ce%b3/
LOCATION:Zoom
END:VEVENT
END:VCALENDAR