BEGIN:VCALENDAR
VERSION:2.0
PRODID:-//faroshelp.gr - ECPv6.15.20//NONSGML v1.0//EN
CALSCALE:GREGORIAN
METHOD:PUBLISH
X-ORIGINAL-URL:https://www.faroshelp.gr
X-WR-CALDESC:Events for faroshelp.gr
REFRESH-INTERVAL;VALUE=DURATION:PT1H
X-Robots-Tag:noindex
X-PUBLISHED-TTL:PT1H
BEGIN:VTIMEZONE
TZID:Europe/Athens
BEGIN:DAYLIGHT
TZOFFSETFROM:+0200
TZOFFSETTO:+0300
TZNAME:EEST
DTSTART:20200329T010000
END:DAYLIGHT
BEGIN:STANDARD
TZOFFSETFROM:+0300
TZOFFSETTO:+0200
TZNAME:EET
DTSTART:20201025T010000
END:STANDARD
BEGIN:DAYLIGHT
TZOFFSETFROM:+0200
TZOFFSETTO:+0300
TZNAME:EEST
DTSTART:20210328T010000
END:DAYLIGHT
BEGIN:STANDARD
TZOFFSETFROM:+0300
TZOFFSETTO:+0200
TZNAME:EET
DTSTART:20211031T010000
END:STANDARD
BEGIN:DAYLIGHT
TZOFFSETFROM:+0200
TZOFFSETTO:+0300
TZNAME:EEST
DTSTART:20220327T010000
END:DAYLIGHT
BEGIN:STANDARD
TZOFFSETFROM:+0300
TZOFFSETTO:+0200
TZNAME:EET
DTSTART:20221030T010000
END:STANDARD
BEGIN:DAYLIGHT
TZOFFSETFROM:+0200
TZOFFSETTO:+0300
TZNAME:EEST
DTSTART:20230326T010000
END:DAYLIGHT
BEGIN:STANDARD
TZOFFSETFROM:+0300
TZOFFSETTO:+0200
TZNAME:EET
DTSTART:20231029T010000
END:STANDARD
END:VTIMEZONE
BEGIN:VEVENT
DTSTART;TZID=Europe/Athens:20220314T193000
DTEND;TZID=Europe/Athens:20220314T213000
DTSTAMP:20260425T182934
CREATED:20220225T113023Z
LAST-MODIFIED:20220225T113023Z
UID:9818-1647286200-1647293400@www.faroshelp.gr
SUMMARY:Μάθημα Ελληνικών
DESCRIPTION:Παραδίδονται αρχαία κείμενα\, τα οποία αναλύει σε βάθος η διδάσκουσα Αγγελική Κομποχόλη ταξιδεύοντας μας μέσα σε ιστορίες χαμένες στους αιώνες\, που είναι κατανοητές απ΄τον καθέναν μας. \nΔεν χρειάζεται προηγούμενη γνώση Αρχαίων Ελληνικών\, γιατί πέραν της ονομασίας αυτής καθεαυτής ως “μάθημα”\, πρόκειται για ένα ταξείδι σε άλλους χρόνους και τόπους\, καθώς με την μεταδοτικότητα της και την αγάπη της γι΄αυτό που λειτουργεί\, η διδάσκουσα προσφέρει γνώση πολύτιμη ως να ΄χεις παρακολουθήσει την πιο ευχάριστη ταινία.\nΑς γνωρίσουμε καλύτερα την Μητρική μας γλώσσα και τους θησαυρούς της.
URL:https://www.faroshelp.gr/event/%ce%bc%ce%ac%ce%b8%ce%b7%ce%bc%ce%b1-%ce%b5%ce%bb%ce%bb%ce%b7%ce%bd%ce%b9%ce%ba%cf%8e%ce%bd-7/
LOCATION:Zoom
END:VEVENT
BEGIN:VEVENT
DTSTART;TZID=Europe/Athens:20220313T183000
DTEND;TZID=Europe/Athens:20220313T210000
DTSTAMP:20260425T182934
CREATED:20220223T134559Z
LAST-MODIFIED:20220223T134808Z
UID:9800-1647196200-1647205200@www.faroshelp.gr
SUMMARY:Εργαστήριο (παλαιός κύκλος)
DESCRIPTION:
URL:https://www.faroshelp.gr/event/%ce%b5%cf%81%ce%b3%ce%b1%cf%83%cf%84%ce%ae%cf%81%ce%b9%ce%bf-%cf%80%ce%b1%ce%bb%ce%b1%ce%b9%cf%8c%cf%82-%ce%ba%cf%8d%ce%ba%ce%bb%ce%bf%cf%82-7/
LOCATION:Στον Φάρο έως 10 συμμετοχές & διαδικτυακώς
END:VEVENT
BEGIN:VEVENT
DTSTART;TZID=Europe/Athens:20220312T183000
DTEND;TZID=Europe/Athens:20220312T210000
DTSTAMP:20260425T182934
CREATED:20220223T134937Z
LAST-MODIFIED:20220223T134937Z
UID:9805-1647109800-1647118800@www.faroshelp.gr
SUMMARY:Εργαστήριο Συνειδητής Επικοινωνίας (2021)
DESCRIPTION:
URL:https://www.faroshelp.gr/event/%ce%b5%cf%81%ce%b3%ce%b1%cf%83%cf%84%ce%ae%cf%81%ce%b9%ce%bf-%cf%83%cf%85%ce%bd%ce%b5%ce%b9%ce%b4%ce%b7%cf%84%ce%ae%cf%82-%ce%b5%cf%80%ce%b9%ce%ba%ce%bf%ce%b9%ce%bd%cf%89%ce%bd%ce%af%ce%b1%cf%82-202-4/
LOCATION:Zoom
END:VEVENT
BEGIN:VEVENT
DTSTART;TZID=Europe/Athens:20220309T183000
DTEND;TZID=Europe/Athens:20220309T203000
DTSTAMP:20260425T182934
CREATED:20220301T122414Z
LAST-MODIFIED:20220301T122414Z
UID:9840-1646850600-1646857800@www.faroshelp.gr
SUMMARY:Ενεργειακή εξισορρόπηση - Ομαδική θεραπεία με τον Χρήστο Μέρμηγκα
DESCRIPTION:Μέσα στη σιωπή αφουγκραζόμαστε τους εαυτούς μας και η δύναμη της ομάδας\, μας βοηθάει να εντοπίσουμε και να φωτίσουμε τα όποια ζητήματα μας αφορούν. \nΠερισσότερες πληροφορίες: faros.mko@gmail.com\, 210 3216803
URL:https://www.faroshelp.gr/event/%ce%b5%ce%bd%ce%b5%cf%81%ce%b3%ce%b5%ce%b9%ce%b1%ce%ba%ce%ae-%ce%b5%ce%be%ce%b9%cf%83%ce%bf%cf%81%cf%81%cf%8c%cf%80%ce%b7%cf%83%ce%b7-%ce%bf%ce%bc%ce%b1%ce%b4%ce%b9%ce%ba%ce%ae-%ce%b8%ce%b5%cf%81-2/
LOCATION:Γραφεία του Σωματείου\, Κοδριγκτώνος 11\, Αθήνα\, Αττικής
END:VEVENT
BEGIN:VEVENT
DTSTART;TZID=Europe/Athens:20220304T100000
DTEND;TZID=Europe/Athens:20220304T120000
DTSTAMP:20260425T182934
CREATED:20220223T140202Z
LAST-MODIFIED:20220223T140202Z
UID:9815-1646388000-1646395200@www.faroshelp.gr
SUMMARY:Τακτική Συνεδρίαση Δ.Σ. Φάρου
DESCRIPTION:
URL:https://www.faroshelp.gr/event/%cf%84%ce%b1%ce%ba%cf%84%ce%b9%ce%ba%ce%ae-%cf%83%cf%85%ce%bd%ce%b5%ce%b4%cf%81%ce%af%ce%b1%cf%83%ce%b7-%ce%b4-%cf%83-%cf%86%ce%ac%cf%81%ce%bf%cf%85/
LOCATION:Στον Φάρο & διαδικτυακώς
END:VEVENT
BEGIN:VEVENT
DTSTART;TZID=Europe/Athens:20220228T193000
DTEND;TZID=Europe/Athens:20220228T213000
DTSTAMP:20260425T182934
CREATED:20220120T184904Z
LAST-MODIFIED:20220120T185058Z
UID:9741-1646076600-1646083800@www.faroshelp.gr
SUMMARY:Μάθημα Ελληνικών με την Αγγελική Κομποχόλη
DESCRIPTION:Παραδίδονται αρχαία κείμενα\, τα οποία αναλύει σε βάθος η διδάσκουσα Αγγελική Κομποχόλη ταξιδεύοντας μας μέσα σε ιστορίες χαμένες στους αιώνες\, είναι κατανοητές απ΄τον καθέναν μας. \nΔεν χρειάζεται προηγούμενη γνώση Αρχαίων Ελληνικών
URL:https://www.faroshelp.gr/event/%ce%bc%ce%ac%ce%b8%ce%b7%ce%bc%ce%b1-%ce%b5%ce%bb%ce%bb%ce%b7%ce%bd%ce%b9%ce%ba%cf%8e%ce%bd-%ce%bc%ce%b5-%cf%84%ce%b7%ce%bd-%ce%b1%ce%b3%ce%b3%ce%b5%ce%bb%ce%b9%ce%ba%ce%ae-%ce%ba%ce%bf%ce%bc%cf%80-2/
LOCATION:Zoom
END:VEVENT
BEGIN:VEVENT
DTSTART;TZID=Europe/Athens:20220223T183000
DTEND;TZID=Europe/Athens:20220223T213000
DTSTAMP:20260425T182934
CREATED:20220120T185538Z
LAST-MODIFIED:20220120T185538Z
UID:9748-1645641000-1645651800@www.faroshelp.gr
SUMMARY:Εργαστήριο (παλαιός κύκλος)
DESCRIPTION:
URL:https://www.faroshelp.gr/event/%ce%b5%cf%81%ce%b3%ce%b1%cf%83%cf%84%ce%ae%cf%81%ce%b9%ce%bf-%cf%80%ce%b1%ce%bb%ce%b1%ce%b9%cf%8c%cf%82-%ce%ba%cf%8d%ce%ba%ce%bb%ce%bf%cf%82-6/
LOCATION:Zoom
END:VEVENT
BEGIN:VEVENT
DTSTART;TZID=Europe/Athens:20220221T180000
DTEND;TZID=Europe/Athens:20220221T193000
DTSTAMP:20260425T182934
CREATED:20220217T181418Z
LAST-MODIFIED:20220217T181418Z
UID:9795-1645466400-1645471800@www.faroshelp.gr
SUMMARY:Συνάντηση της ομάδας Θεραπείας/Κάθαρσης (διαλύσεων αποτυπωμάτων) στον Φάρο
DESCRIPTION:Στην συνάντηση μπορούν να συμμετάσχουν μέλη και φίλοι του ΦΑΡΟΥ\, όσοι εργάζονται ήδη για τις διαλύσεις αποτυπωμάτων\, προσωπικά ή με ομάδα.\n\nΑπαιτείται η δήλωση συμμετοχής\nΕάν οι συμμετοχές με φυσική παρουσία υπερβαίνουν τις 10\, θα υπάρξει και διαδικτυακή σύνδεση.\n\n 
URL:https://www.faroshelp.gr/event/%cf%83%cf%85%ce%bd%ce%ac%ce%bd%cf%84%ce%b7%cf%83%ce%b7-%cf%84%ce%b7%cf%82-%ce%bf%ce%bc%ce%ac%ce%b4%ce%b1%cf%82-%ce%b8%ce%b5%cf%81%ce%b1%cf%80%ce%b5%ce%af%ce%b1%cf%82-%ce%ba%ce%ac%ce%b8%ce%b1%cf%81/
LOCATION:Στον Φάρο & διαδικτυακώς αν ξεπεραστούν οι 10 συμμετοχές
END:VEVENT
BEGIN:VEVENT
DTSTART;TZID=Europe/Athens:20220220T183000
DTEND;TZID=Europe/Athens:20220220T210000
DTSTAMP:20260425T182934
CREATED:20220120T185451Z
LAST-MODIFIED:20220120T185451Z
UID:9746-1645381800-1645390800@www.faroshelp.gr
SUMMARY:Εργαστήριο (παλαιός κύκλος)
DESCRIPTION:
URL:https://www.faroshelp.gr/event/%ce%b5%cf%81%ce%b3%ce%b1%cf%83%cf%84%ce%ae%cf%81%ce%b9%ce%bf-%cf%80%ce%b1%ce%bb%ce%b1%ce%b9%cf%8c%cf%82-%ce%ba%cf%8d%ce%ba%ce%bb%ce%bf%cf%82-5/
LOCATION:Zoom
END:VEVENT
BEGIN:VEVENT
DTSTART;TZID=Europe/Athens:20220219T190000
DTEND;TZID=Europe/Athens:20220219T200000
DTSTAMP:20260425T182934
CREATED:20220203T200711Z
LAST-MODIFIED:20220203T200711Z
UID:9776-1645297200-1645300800@www.faroshelp.gr
SUMMARY:"Η Αγία Φιλοθέη η Αθηναία"  - Παρουσίαση της ομώνυμης εργασίας του Νικόλαου Αλευρή
DESCRIPTION:          “…Η Αγία Φιλοθέη με το έργο της\, χάραξε το δρόμο της ανιδιοτελούς προσφοράς και άφησε πίσω της μια μορφωτική παράδοση\, την οποία ακολούθησαν και οι επόμενες μοναχές του Αγίου Ανδρέα. Η κόρη του Άγγελου Μπενιζέλου και της Σηρίγης Παλαιολογίνας\, με την τολμηρή παρουσία της\, την εξυπνάδα της και την φιλανθρωπία της\, συμπαραστάθηκε στους πολίτες της Αθήνας τον 16ο αι. Το επιστέγασμα του έργου της είναι η αγιοκατάταξή της  από την Εκκλησία\, λίγες μόνο μέρες μετά τον μαρτυρικό της θάνατο…”
URL:https://www.faroshelp.gr/event/%ce%b7-%ce%b1%ce%b3%ce%af%ce%b1-%cf%86%ce%b9%ce%bb%ce%bf%ce%b8%ce%ad%ce%b7-%ce%b7-%ce%b1%ce%b8%ce%b7%ce%bd%ce%b1%ce%af%ce%b1-%cf%80%ce%b1%cf%81%ce%bf%cf%85%cf%83%ce%af%ce%b1%cf%83%ce%b7-%cf%84/
LOCATION:Zoom
END:VEVENT
BEGIN:VEVENT
DTSTART;TZID=Europe/Athens:20220216T203000
DTEND;TZID=Europe/Athens:20220216T213000
DTSTAMP:20260425T182934
CREATED:20220120T185655Z
LAST-MODIFIED:20220120T190209Z
UID:9750-1645043400-1645047000@www.faroshelp.gr
SUMMARY:Πανσέληνος "Πραγμάτωση Αληθείας" με την Πέγκυ Χριστοφή
DESCRIPTION:Την ημέρα της πανσελήνου\, συνδυάζονται διαλογιστικές πρακτικές και προσευχητική πράξη και παραδίδονται Οδηγίες Διδασκάλων\, αμέσως εφαρμόσιμες\, για το προσωπικό και το συλλογικό Καλό. \nΠερισσότερες πληροφορίες: faros.mko@gmail.com\, 2103216803
URL:https://www.faroshelp.gr/event/%cf%80%ce%b1%ce%bd%cf%83%ce%ad%ce%bb%ce%b7%ce%bd%ce%bf%cf%82-%cf%80%cf%81%ce%b1%ce%b3%ce%bc%ce%ac%cf%84%cf%89%cf%83%ce%b7-%ce%b1%ce%bb%ce%b7%ce%b8%ce%b5%ce%af%ce%b1%cf%82/
LOCATION:Zoom
END:VEVENT
BEGIN:VEVENT
DTSTART;TZID=Europe/Athens:20220214T193000
DTEND;TZID=Europe/Athens:20220214T213000
DTSTAMP:20260425T182934
CREATED:20220120T184755Z
LAST-MODIFIED:20220120T184755Z
UID:9739-1644867000-1644874200@www.faroshelp.gr
SUMMARY:Μάθημα Ελληνικών με την Αγγελική Κομποχόλη
DESCRIPTION:Παραδίδονται αρχαία κείμενα\, τα οποία αναλύει σε βάθος η διδάσκουσα Αγγελική Κομποχόλη ταξιδεύοντας μας μέσα σε ιστορίες χαμένες στους αιώνες\, είναι κατανοητές απ΄τον καθέναν μας. \nΔεν χρειάζεται προηγούμενη γνώση Αρχαίων Ελληνικών
URL:https://www.faroshelp.gr/event/%ce%bc%ce%ac%ce%b8%ce%b7%ce%bc%ce%b1-%ce%b5%ce%bb%ce%bb%ce%b7%ce%bd%ce%b9%ce%ba%cf%8e%ce%bd-%ce%bc%ce%b5-%cf%84%ce%b7%ce%bd-%ce%b1%ce%b3%ce%b3%ce%b5%ce%bb%ce%b9%ce%ba%ce%ae-%ce%ba%ce%bf%ce%bc%cf%80/
LOCATION:Zoom
END:VEVENT
BEGIN:VEVENT
DTSTART;TZID=Europe/Athens:20220212T063000
DTEND;TZID=Europe/Athens:20220212T210000
DTSTAMP:20260425T182934
CREATED:20220120T185315Z
LAST-MODIFIED:20220123T173405Z
UID:9744-1644647400-1644699600@www.faroshelp.gr
SUMMARY:Εργαστήριο Συνειδητής Επικοινωνίας (2021)
DESCRIPTION:
URL:https://www.faroshelp.gr/event/%ce%b5%cf%81%ce%b3%ce%b1%cf%83%cf%84%ce%ae%cf%81%ce%b9%ce%bf-%cf%83%cf%85%ce%bd%ce%b5%ce%b9%ce%b4%ce%b7%cf%84%ce%ae%cf%82-%ce%b5%cf%80%ce%b9%ce%ba%ce%bf%ce%b9%ce%bd%cf%89%ce%bd%ce%af%ce%b1%cf%82-202-3/
LOCATION:Zoom
END:VEVENT
BEGIN:VEVENT
DTSTART;TZID=Europe/Athens:20220208T183000
DTEND;TZID=Europe/Athens:20220208T203000
DTSTAMP:20260425T182934
CREATED:20220120T184331Z
LAST-MODIFIED:20220120T184405Z
UID:9736-1644345000-1644352200@www.faroshelp.gr
SUMMARY:Ενεργειακή εξισορρόπηση - Ομαδική θεραπεία με τον Χρήστο Μέρμηγκα
DESCRIPTION:Μέσα στη σιωπή αφουγκραζόμαστε τους εαυτούς μας και η δύναμη της ομάδας\, μας βοηθάει να εντοπίσουμε και να φωτίσουμε τα όποια ζητήματα μας αφορούν. \nΠερισσότερες πληροφορίες: faros.mko@gmail.com\, 210 3216803
URL:https://www.faroshelp.gr/event/%ce%b5%ce%bd%ce%b5%cf%81%ce%b3%ce%b5%ce%b9%ce%b1%ce%ba%ce%ae-%ce%b5%ce%be%ce%b9%cf%83%ce%bf%cf%81%cf%81%cf%8c%cf%80%ce%b7%cf%83%ce%b7-%ce%bf%ce%bc%ce%b1%ce%b4%ce%b9%ce%ba%ce%ae-%ce%b8%ce%b5%cf%81/
LOCATION:Γραφεία του Σωματείου\, Κοδριγκτώνος 11\, Αθήνα\, Αττικής
END:VEVENT
BEGIN:VEVENT
DTSTART;TZID=Europe/Athens:20220130T190000
DTEND;TZID=Europe/Athens:20220130T210000
DTSTAMP:20260425T182934
CREATED:20220120T183552Z
LAST-MODIFIED:20220120T183552Z
UID:9734-1643569200-1643576400@www.faroshelp.gr
SUMMARY:“ΑΛΜΑ ΣΥΝΕΙΔΗΤΟΤΗΤΟΣ” - Σεμινάριο με την Πέγκυ Χριστοφή
DESCRIPTION:Ὅλα τά μηνύματα τῶν τελευταίων ἐτῶν καί μάλιστα τῶν τελευταίων μηνῶν ὑπαινίσονται ἤ ὁμιλοῦν γιά ἀλλαγές στήν Συνειδητότητα τῶν ἀνθρώπων\, ἄλλες ἐκ τῶν ὁποίων συμβαίνουν ἤδη καί ἄλλες ἐπίκεινται. Ἀλλαγές πού συμβαίνουν ἐκ τοῦ Νόμου\, ἐπηρεάζουν τό σύνολο τῆς Ἀνθρωπότητος καί ἐκφράζονται στό προσωπικό καί στό συλλογικό ἐπίπεδο.\nὉ μόνος -καί ὁ καλύτερος- τρόπος ν’ἀντιμετωπισθοῦν μέ τήν μέγιστη δυνατόν Ἀβλάβεια καί ἐπ’ὠφελείᾳ μας εἶναι νά τίς δοῦμε ὡς προκλήσεις καί εὐκαιρίες καί νά τίς διαχειρισθοῦμε μέ Γνώση.\nἩ Γνώση προσφέρεται\, οἱ πληροφορίες δίδονται.\nἌς βρεθοῦμε ἕτοιμοι.
URL:https://www.faroshelp.gr/event/alma_syneidhtothtos_30-1-2022/
LOCATION:Zoom
END:VEVENT
BEGIN:VEVENT
DTSTART;TZID=Europe/Athens:20220124T193000
DTEND;TZID=Europe/Athens:20220124T213000
DTSTAMP:20260425T182934
CREATED:20220101T133457Z
LAST-MODIFIED:20220101T133457Z
UID:9697-1643052600-1643059800@www.faroshelp.gr
SUMMARY:Μάθημα Ελληνικών
DESCRIPTION:Παραδίδονται αρχαία κείμενα\, τα οποία αναλύει σε βάθος η διδάσκουσα Αγγελική Κομποχόλη ταξιδεύοντας μας μέσα σε ιστορίες χαμένες στους αιώνες\, που είναι κατανοητές απ΄τον καθέναν μας. \nΔεν χρειάζεται προηγούμενη γνώση Αρχαίων Ελληνικών\, γιατί πέραν της ονομασίας αυτής καθεαυτής ως “μάθημα”\, πρόκειται για ένα ταξείδι σε άλλους χρόνους και τόπους\, καθώς με την μεταδοτικότητα της και την αγάπη της γι΄αυτό που λειτουργεί\, η διδάσκουσα προσφέρει γνώση πολύτιμη ως να ΄χεις παρακολουθήσει την πιο ευχάριστη ταινία.\nΑς γνωρίσουμε καλύτερα την Μητρική μας γλώσσα και τους θησαυρούς της.
URL:https://www.faroshelp.gr/event/%ce%bc%ce%ac%ce%b8%ce%b7%ce%bc%ce%b1-%ce%b5%ce%bb%ce%bb%ce%b7%ce%bd%ce%b9%ce%ba%cf%8e%ce%bd-6/
LOCATION:Zoom
END:VEVENT
BEGIN:VEVENT
DTSTART;TZID=Europe/Athens:20220119T183000
DTEND;TZID=Europe/Athens:20220119T210000
DTSTAMP:20260425T182934
CREATED:20220101T133650Z
LAST-MODIFIED:20220101T141802Z
UID:9701-1642617000-1642626000@www.faroshelp.gr
SUMMARY:Εργαστήριο (παλαιός κύκλος)
DESCRIPTION:Συμμετοχή με μικρή ομάδα στον Φάρο\, με σειρά προτεραιότητος έως και την εξάντληση των επιτρεπτών θέσεων.
URL:https://www.faroshelp.gr/event/%ce%b5%cf%81%ce%b3%ce%b1%cf%83%cf%84%ce%ae%cf%81%ce%b9%ce%bf-%cf%80%ce%b1%ce%bb%ce%b1%ce%b9%cf%8c%cf%82-%ce%ba%cf%8d%ce%ba%ce%bb%ce%bf%cf%82-4/
END:VEVENT
BEGIN:VEVENT
DTSTART;TZID=Europe/Athens:20220118T203000
DTEND;TZID=Europe/Athens:20220118T213000
DTSTAMP:20260425T182934
CREATED:20220101T134121Z
LAST-MODIFIED:20220101T134121Z
UID:9703-1642537800-1642541400@www.faroshelp.gr
SUMMARY:Πανσέληνος Αναπτύξεως
DESCRIPTION:Την ημέρα της πανσελήνου\, συνδυάζονται διαλογιστικές πρακτικές και προσευχητική πράξη και παραδίδονται Οδηγίες Διδασκάλων\, αμέσως εφαρμόσιμες\, για το προσωπικό και το συλλογικό Καλό. \nΠερισσότερες πληροφορίες: faros.mko@gmail.com\, 2103216803
URL:https://www.faroshelp.gr/event/%cf%80%ce%b1%ce%bd%cf%83%ce%ad%ce%bb%ce%b7%ce%bd%ce%bf%cf%82-%ce%b1%ce%bd%ce%b1%cf%80%cf%84%cf%8d%ce%be%ce%b5%cf%89%cf%82/
LOCATION:Zoom
END:VEVENT
BEGIN:VEVENT
DTSTART;TZID=Europe/Athens:20220116T183000
DTEND;TZID=Europe/Athens:20220116T210000
DTSTAMP:20260425T182934
CREATED:20220101T133611Z
LAST-MODIFIED:20220101T141820Z
UID:9699-1642357800-1642366800@www.faroshelp.gr
SUMMARY:Εργαστήριο (παλαιός κύκλος)
DESCRIPTION:Συμμετοχή με μικρή ομάδα στον Φάρο\, με σειρά προτεραιότητος έως και την εξάντληση των επιτρεπτών θέσεων.
URL:https://www.faroshelp.gr/event/%ce%b5%cf%81%ce%b3%ce%b1%cf%83%cf%84%ce%ae%cf%81%ce%b9%ce%bf-%cf%80%ce%b1%ce%bb%ce%b1%ce%b9%cf%8c%cf%82-%ce%ba%cf%8d%ce%ba%ce%bb%ce%bf%cf%82-3/
END:VEVENT
BEGIN:VEVENT
DTSTART;TZID=Europe/Athens:20220112T183000
DTEND;TZID=Europe/Athens:20220112T203000
DTSTAMP:20260425T182934
CREATED:20220101T134550Z
LAST-MODIFIED:20220101T134550Z
UID:9705-1642012200-1642019400@www.faroshelp.gr
SUMMARY:Ομαδική θεραπεία - Ενεργειακή εξισορρόπηση
DESCRIPTION:Μέσα στη σιωπή αφουγκραζόμαστε τους εαυτούς μας και η στήριξη της ομάδας μας βοηθάει να εντοπίσουμε και να φωτίσουμε τα όποια ζητήματα μας αφορούν. \nΠερισσότερες πληροφορίες: faros.mko@gmail.com\, 210 3216803
URL:https://www.faroshelp.gr/event/%ce%bf%ce%bc%ce%b1%ce%b4%ce%b9%ce%ba%ce%ae-%ce%b8%ce%b5%cf%81%ce%b1%cf%80%ce%b5%ce%af%ce%b1-%ce%b5%ce%bd%ce%b5%cf%81%ce%b3%ce%b5%ce%b9%ce%b1%ce%ba%ce%ae-%ce%b5%ce%be%ce%b9%cf%83%ce%bf%cf%81%cf%81/
LOCATION:Γραφεία του Σωματείου\, Κοδριγκτώνος 11\, Αθήνα\, Αττικής
END:VEVENT
BEGIN:VEVENT
DTSTART;TZID=Europe/Athens:20220110T193000
DTEND;TZID=Europe/Athens:20220110T213000
DTSTAMP:20260425T182934
CREATED:20220101T133350Z
LAST-MODIFIED:20220101T133350Z
UID:9695-1641843000-1641850200@www.faroshelp.gr
SUMMARY:Μάθημα Ελληνικών
DESCRIPTION:Παραδίδονται αρχαία κείμενα\, τα οποία αναλύει σε βάθος η διδάσκουσα Αγγελική Κομποχόλη ταξιδεύοντας μας μέσα σε ιστορίες χαμένες στους αιώνες\, που είναι κατανοητές απ΄τον καθέναν μας. \nΔεν χρειάζεται προηγούμενη γνώση Αρχαίων Ελληνικών\, γιατί πέραν της ονομασίας αυτής καθεαυτής ως “μάθημα”\, πρόκειται για ένα ταξείδι σε άλλους χρόνους και τόπους\, καθώς με την μεταδοτικότητα της και την αγάπη της γι΄αυτό που λειτουργεί\, η διδάσκουσα προσφέρει γνώση πολύτιμη ως να ΄χεις παρακολουθήσει την πιο ευχάριστη ταινία.\nΑς γνωρίσουμε καλύτερα την Μητρική μας γλώσσα και τους θησαυρούς της.
URL:https://www.faroshelp.gr/event/%ce%bc%ce%ac%ce%b8%ce%b7%ce%bc%ce%b1-%ce%b5%ce%bb%ce%bb%ce%b7%ce%bd%ce%b9%ce%ba%cf%8e%ce%bd-5/
LOCATION:Zoom
END:VEVENT
BEGIN:VEVENT
DTSTART;TZID=Europe/Athens:20220109T183000
DTEND;TZID=Europe/Athens:20220109T210000
DTSTAMP:20260425T182934
CREATED:20220101T134647Z
LAST-MODIFIED:20220101T134647Z
UID:9707-1641753000-1641762000@www.faroshelp.gr
SUMMARY:Εργαστήριο Συνειδητής Επικοινωνίας (2021)
DESCRIPTION:
URL:https://www.faroshelp.gr/event/%ce%b5%cf%81%ce%b3%ce%b1%cf%83%cf%84%ce%ae%cf%81%ce%b9%ce%bf-%cf%83%cf%85%ce%bd%ce%b5%ce%b9%ce%b4%ce%b7%cf%84%ce%ae%cf%82-%ce%b5%cf%80%ce%b9%ce%ba%ce%bf%ce%b9%ce%bd%cf%89%ce%bd%ce%af%ce%b1%cf%82-202-2/
LOCATION:Zoom
END:VEVENT
BEGIN:VEVENT
DTSTART;TZID=Europe/Athens:20211222T183000
DTEND;TZID=Europe/Athens:20211222T203000
DTSTAMP:20260425T182934
CREATED:20211204T164808Z
LAST-MODIFIED:20211204T165540Z
UID:9652-1640197800-1640205000@www.faroshelp.gr
SUMMARY:Εργαστήριο (παλαιός κύκλος)
DESCRIPTION:Συμμετοχή με μικρή ομάδα στον Φάρο\, με σειρά προτεραιότητος έως και την εξάντληση των επιτρεπτών θέσων\,
URL:https://www.faroshelp.gr/event/%ce%b5%cf%81%ce%b3%ce%b1%cf%83%cf%84%ce%ae%cf%81%ce%b9%ce%bf-%cf%80%ce%b1%ce%bb%ce%b1%ce%b9%cf%8c%cf%82-%ce%ba%cf%8d%ce%ba%ce%bb%ce%bf%cf%82-2/
END:VEVENT
BEGIN:VEVENT
DTSTART;TZID=Europe/Athens:20211221T203000
DTEND;TZID=Europe/Athens:20211221T213000
DTSTAMP:20260425T182934
CREATED:20211204T165345Z
LAST-MODIFIED:20211204T165345Z
UID:9660-1640118600-1640122200@www.faroshelp.gr
SUMMARY:Ηλιοστάσιο
DESCRIPTION:Δεν θα υπάρξει διαδικτυακή κάλυψη. \nΣυμμετοχή με μικρή ομάδα στον Φάρο\, με σειρά προτεραιότητος έως και την εξάντληση των επιτρεπτών θέσων\,
URL:https://www.faroshelp.gr/event/%ce%b7%ce%bb%ce%b9%ce%bf%cf%83%cf%84%ce%ac%cf%83%ce%b9%ce%bf/
LOCATION:Γραφεία του Σωματείου\, Κοδριγκτώνος 11\, Αθήνα\, Αττικής
END:VEVENT
BEGIN:VEVENT
DTSTART;TZID=Europe/Athens:20211220T193000
DTEND;TZID=Europe/Athens:20211220T213000
DTSTAMP:20260425T182934
CREATED:20211201T201535Z
LAST-MODIFIED:20211201T201535Z
UID:9644-1640028600-1640035800@www.faroshelp.gr
SUMMARY:Μάθημα Ελληνικών
DESCRIPTION:Παραδίδονται αρχαία κείμενα\, τα οποία αναλύει σε βάθος η διδάσκουσα Αγγελική Κομποχόλη ταξιδεύοντας μας μέσα σε ιστορίες χαμένες στους αιώνες\, που είναι κατανοητές απ΄τον καθέναν μας. \nΔεν χρειάζεται προηγούμενη γνώση Αρχαίων Ελληνικών\, γιατί πέραν της ονομασίας αυτής καθεαυτής ως “μάθημα”\, πρόκειται για ένα ταξείδι σε άλλους χρόνους και τόπους\, καθώς με την μεταδοτικότητα της και την αγάπη της γι΄αυτό που λειτουργεί\, η διδάσκουσα προσφέρει γνώση πολύτιμη ως να ΄χεις παρακολουθήσει την πιο ευχάριστη ταινία.\nΑς γνωρίσουμε καλύτερα την Μητρική μας γλώσσα και τους θησαυρούς της.
URL:https://www.faroshelp.gr/event/%ce%bc%ce%ac%ce%b8%ce%b7%ce%bc%ce%b1-%ce%b5%ce%bb%ce%bb%ce%b7%ce%bd%ce%b9%ce%ba%cf%8e%ce%bd-4/
LOCATION:Zoom
CATEGORIES:Μάθημα Ελληνικών
END:VEVENT
BEGIN:VEVENT
DTSTART;TZID=Europe/Athens:20211219T183000
DTEND;TZID=Europe/Athens:20211219T203000
DTSTAMP:20260425T182934
CREATED:20211204T164748Z
LAST-MODIFIED:20211204T165501Z
UID:9651-1639938600-1639945800@www.faroshelp.gr
SUMMARY:Εργαστήριο (παλαιός κύκλος)
DESCRIPTION:Συμμετοχή με μικρή ομάδα στον Φάρο\, με σειρά προτεραιότητος έως και την εξάντληση των επιτρεπτών θέσων.
URL:https://www.faroshelp.gr/event/%ce%b5%cf%81%ce%b3%ce%b1%cf%83%cf%84%ce%ae%cf%81%ce%b9%ce%bf-%cf%80%ce%b1%ce%bb%ce%b1%ce%b9%cf%8c%cf%82-%ce%ba%cf%8d%ce%ba%ce%bb%ce%bf%cf%82/
END:VEVENT
BEGIN:VEVENT
DTSTART;TZID=Europe/Athens:20211218T203000
DTEND;TZID=Europe/Athens:20211218T220000
DTSTAMP:20260425T182934
CREATED:20211204T165016Z
LAST-MODIFIED:20211204T165016Z
UID:9655-1639859400-1639864800@www.faroshelp.gr
SUMMARY:Πανσέληνος Αναγεννήσεως
DESCRIPTION:
URL:https://www.faroshelp.gr/event/%cf%80%ce%b1%ce%bd%cf%83%ce%ad%ce%bb%ce%b7%ce%bd%ce%bf%cf%82-%ce%b1%ce%bd%ce%b1%ce%b3%ce%b5%ce%bd%ce%bd%ce%ae%cf%83%ce%b5%cf%89%cf%82/
END:VEVENT
BEGIN:VEVENT
DTSTART;TZID=Europe/Athens:20211215T190000
DTEND;TZID=Europe/Athens:20211215T210000
DTSTAMP:20260425T182934
CREATED:20211204T165133Z
LAST-MODIFIED:20211206T152412Z
UID:9658-1639594800-1639602000@www.faroshelp.gr
SUMMARY:"ΔΥΝΑΜΗ ΚΑΙ ΠΡΟΣΤΑΣΙΑ - τα δικά μας όπλα σ΄ έναν ακήρυκτο πόλεμο" εισηγηση: Πέγκυ Χριστοφή
DESCRIPTION:….οι παράγοντες διαμορφώσεως των «εσωτερικών μας τοπίων»  – προσωπική και συλλογική συνειδητότητα – το σύμπλεγμα επιθυμίας και φόβου στο πλαίσιο του συλλογικού συνειδητού και υποσυνειδήτου –οι μηχανισμοί ελέγχου και οι αντιστάτες ροπής….
URL:https://www.faroshelp.gr/event/%cf%80%ce%b1%cf%81%ce%ac%ce%b4%ce%bf%cf%83%ce%b7-%ce%b1%cf%80%ce%bf-%cf%84%ce%b7%ce%bd-%cf%80%ce%ad%ce%b3%ce%ba%cf%85-%cf%87%cf%81%ce%b9%cf%83%cf%84%ce%bf%cf%86%ce%ae/
END:VEVENT
BEGIN:VEVENT
DTSTART;TZID=Europe/Athens:20211213T183000
DTEND;TZID=Europe/Athens:20211213T203000
DTSTAMP:20260425T182934
CREATED:20211204T164557Z
LAST-MODIFIED:20211204T164557Z
UID:9649-1639420200-1639427400@www.faroshelp.gr
SUMMARY:Ομαδική Θεραπεία
DESCRIPTION:
URL:https://www.faroshelp.gr/event/%ce%bf%ce%bc%ce%b1%ce%b4%ce%b9%ce%ba%ce%ae-%ce%b8%ce%b5%cf%81%ce%b1%cf%80%ce%b5%ce%af%ce%b1/
LOCATION:Γραφεία του Σωματείου\, Κοδριγκτώνος 11\, Αθήνα\, Αττικής
END:VEVENT
BEGIN:VEVENT
DTSTART;TZID=Europe/Athens:20211212T183000
DTEND;TZID=Europe/Athens:20211212T203000
DTSTAMP:20260425T182934
CREATED:20211204T164224Z
LAST-MODIFIED:20211204T164224Z
UID:9646-1639333800-1639341000@www.faroshelp.gr
SUMMARY:Εργαστήριο Συνειδητής Επικοινωνίας (2021)
DESCRIPTION:
URL:https://www.faroshelp.gr/event/%ce%b5%cf%81%ce%b3%ce%b1%cf%83%cf%84%ce%ae%cf%81%ce%b9%ce%bf-%cf%83%cf%85%ce%bd%ce%b5%ce%b9%ce%b4%ce%b7%cf%84%ce%ae%cf%82-%ce%b5%cf%80%ce%b9%ce%ba%ce%bf%ce%b9%ce%bd%cf%89%ce%bd%ce%af%ce%b1%cf%82-2021/
LOCATION:Zoom
END:VEVENT
END:VCALENDAR