BEGIN:VCALENDAR
VERSION:2.0
PRODID:-//faroshelp.gr - ECPv6.15.20//NONSGML v1.0//EN
CALSCALE:GREGORIAN
METHOD:PUBLISH
X-WR-CALNAME:faroshelp.gr
X-ORIGINAL-URL:https://www.faroshelp.gr
X-WR-CALDESC:Events for faroshelp.gr
REFRESH-INTERVAL;VALUE=DURATION:PT1H
X-Robots-Tag:noindex
X-PUBLISHED-TTL:PT1H
BEGIN:VTIMEZONE
TZID:Europe/Athens
BEGIN:DAYLIGHT
TZOFFSETFROM:+0200
TZOFFSETTO:+0300
TZNAME:EEST
DTSTART:20200329T010000
END:DAYLIGHT
BEGIN:STANDARD
TZOFFSETFROM:+0300
TZOFFSETTO:+0200
TZNAME:EET
DTSTART:20201025T010000
END:STANDARD
BEGIN:DAYLIGHT
TZOFFSETFROM:+0200
TZOFFSETTO:+0300
TZNAME:EEST
DTSTART:20210328T010000
END:DAYLIGHT
BEGIN:STANDARD
TZOFFSETFROM:+0300
TZOFFSETTO:+0200
TZNAME:EET
DTSTART:20211031T010000
END:STANDARD
BEGIN:DAYLIGHT
TZOFFSETFROM:+0200
TZOFFSETTO:+0300
TZNAME:EEST
DTSTART:20220327T010000
END:DAYLIGHT
BEGIN:STANDARD
TZOFFSETFROM:+0300
TZOFFSETTO:+0200
TZNAME:EET
DTSTART:20221030T010000
END:STANDARD
END:VTIMEZONE
BEGIN:VEVENT
DTSTART;TZID=Europe/Athens:20211220T193000
DTEND;TZID=Europe/Athens:20211220T213000
DTSTAMP:20260425T212458
CREATED:20211201T201535Z
LAST-MODIFIED:20211201T201535Z
UID:9644-1640028600-1640035800@www.faroshelp.gr
SUMMARY:Μάθημα Ελληνικών
DESCRIPTION:Παραδίδονται αρχαία κείμενα\, τα οποία αναλύει σε βάθος η διδάσκουσα Αγγελική Κομποχόλη ταξιδεύοντας μας μέσα σε ιστορίες χαμένες στους αιώνες\, που είναι κατανοητές απ΄τον καθέναν μας. \nΔεν χρειάζεται προηγούμενη γνώση Αρχαίων Ελληνικών\, γιατί πέραν της ονομασίας αυτής καθεαυτής ως “μάθημα”\, πρόκειται για ένα ταξείδι σε άλλους χρόνους και τόπους\, καθώς με την μεταδοτικότητα της και την αγάπη της γι΄αυτό που λειτουργεί\, η διδάσκουσα προσφέρει γνώση πολύτιμη ως να ΄χεις παρακολουθήσει την πιο ευχάριστη ταινία.\nΑς γνωρίσουμε καλύτερα την Μητρική μας γλώσσα και τους θησαυρούς της.
URL:https://www.faroshelp.gr/event/%ce%bc%ce%ac%ce%b8%ce%b7%ce%bc%ce%b1-%ce%b5%ce%bb%ce%bb%ce%b7%ce%bd%ce%b9%ce%ba%cf%8e%ce%bd-4/
LOCATION:Zoom
CATEGORIES:Μάθημα Ελληνικών
END:VEVENT
BEGIN:VEVENT
DTSTART;TZID=Europe/Athens:20211219T183000
DTEND;TZID=Europe/Athens:20211219T203000
DTSTAMP:20260425T212458
CREATED:20211204T164748Z
LAST-MODIFIED:20211204T165501Z
UID:9651-1639938600-1639945800@www.faroshelp.gr
SUMMARY:Εργαστήριο (παλαιός κύκλος)
DESCRIPTION:Συμμετοχή με μικρή ομάδα στον Φάρο\, με σειρά προτεραιότητος έως και την εξάντληση των επιτρεπτών θέσων.
URL:https://www.faroshelp.gr/event/%ce%b5%cf%81%ce%b3%ce%b1%cf%83%cf%84%ce%ae%cf%81%ce%b9%ce%bf-%cf%80%ce%b1%ce%bb%ce%b1%ce%b9%cf%8c%cf%82-%ce%ba%cf%8d%ce%ba%ce%bb%ce%bf%cf%82/
END:VEVENT
BEGIN:VEVENT
DTSTART;TZID=Europe/Athens:20211218T203000
DTEND;TZID=Europe/Athens:20211218T220000
DTSTAMP:20260425T212458
CREATED:20211204T165016Z
LAST-MODIFIED:20211204T165016Z
UID:9655-1639859400-1639864800@www.faroshelp.gr
SUMMARY:Πανσέληνος Αναγεννήσεως
DESCRIPTION:
URL:https://www.faroshelp.gr/event/%cf%80%ce%b1%ce%bd%cf%83%ce%ad%ce%bb%ce%b7%ce%bd%ce%bf%cf%82-%ce%b1%ce%bd%ce%b1%ce%b3%ce%b5%ce%bd%ce%bd%ce%ae%cf%83%ce%b5%cf%89%cf%82/
END:VEVENT
BEGIN:VEVENT
DTSTART;TZID=Europe/Athens:20211215T190000
DTEND;TZID=Europe/Athens:20211215T210000
DTSTAMP:20260425T212458
CREATED:20211204T165133Z
LAST-MODIFIED:20211206T152412Z
UID:9658-1639594800-1639602000@www.faroshelp.gr
SUMMARY:"ΔΥΝΑΜΗ ΚΑΙ ΠΡΟΣΤΑΣΙΑ - τα δικά μας όπλα σ΄ έναν ακήρυκτο πόλεμο" εισηγηση: Πέγκυ Χριστοφή
DESCRIPTION:….οι παράγοντες διαμορφώσεως των «εσωτερικών μας τοπίων»  – προσωπική και συλλογική συνειδητότητα – το σύμπλεγμα επιθυμίας και φόβου στο πλαίσιο του συλλογικού συνειδητού και υποσυνειδήτου –οι μηχανισμοί ελέγχου και οι αντιστάτες ροπής….
URL:https://www.faroshelp.gr/event/%cf%80%ce%b1%cf%81%ce%ac%ce%b4%ce%bf%cf%83%ce%b7-%ce%b1%cf%80%ce%bf-%cf%84%ce%b7%ce%bd-%cf%80%ce%ad%ce%b3%ce%ba%cf%85-%cf%87%cf%81%ce%b9%cf%83%cf%84%ce%bf%cf%86%ce%ae/
END:VEVENT
BEGIN:VEVENT
DTSTART;TZID=Europe/Athens:20211213T183000
DTEND;TZID=Europe/Athens:20211213T203000
DTSTAMP:20260425T212458
CREATED:20211204T164557Z
LAST-MODIFIED:20211204T164557Z
UID:9649-1639420200-1639427400@www.faroshelp.gr
SUMMARY:Ομαδική Θεραπεία
DESCRIPTION:
URL:https://www.faroshelp.gr/event/%ce%bf%ce%bc%ce%b1%ce%b4%ce%b9%ce%ba%ce%ae-%ce%b8%ce%b5%cf%81%ce%b1%cf%80%ce%b5%ce%af%ce%b1/
LOCATION:Γραφεία του Σωματείου\, Κοδριγκτώνος 11\, Αθήνα\, Αττικής
END:VEVENT
BEGIN:VEVENT
DTSTART;TZID=Europe/Athens:20211212T183000
DTEND;TZID=Europe/Athens:20211212T203000
DTSTAMP:20260425T212458
CREATED:20211204T164224Z
LAST-MODIFIED:20211204T164224Z
UID:9646-1639333800-1639341000@www.faroshelp.gr
SUMMARY:Εργαστήριο Συνειδητής Επικοινωνίας (2021)
DESCRIPTION:
URL:https://www.faroshelp.gr/event/%ce%b5%cf%81%ce%b3%ce%b1%cf%83%cf%84%ce%ae%cf%81%ce%b9%ce%bf-%cf%83%cf%85%ce%bd%ce%b5%ce%b9%ce%b4%ce%b7%cf%84%ce%ae%cf%82-%ce%b5%cf%80%ce%b9%ce%ba%ce%bf%ce%b9%ce%bd%cf%89%ce%bd%ce%af%ce%b1%cf%82-2021/
LOCATION:Zoom
END:VEVENT
BEGIN:VEVENT
DTSTART;TZID=Europe/Athens:20211206T193000
DTEND;TZID=Europe/Athens:20211206T213000
DTSTAMP:20260425T212458
CREATED:20211201T201310Z
LAST-MODIFIED:20211201T201508Z
UID:9642-1638819000-1638826200@www.faroshelp.gr
SUMMARY:Μάθημα Ελληνικών
DESCRIPTION:Παραδίδονται αρχαία κείμενα\, τα οποία αναλύει σε βάθος η διδάσκουσα Αγγελική Κομποχόλη ταξιδεύοντας μας μέσα σε ιστορίες χαμένες στους αιώνες\, που είναι κατανοητές απ΄τον καθέναν μας. \nΔεν χρειάζεται προηγούμενη γνώση Αρχαίων Ελληνικών\, γιατί πέραν της ονομασίας αυτής καθεαυτής ως “μάθημα”\, πρόκειται για ένα ταξείδι σε άλλους χρόνους και τόπους\, καθώς με την μεταδοτικότητα της και την αγάπη της γι΄αυτό που λειτουργεί\, η διδάσκουσα προσφέρει γνώση πολύτιμη ως να ΄χεις παρακολουθήσει την πιο ευχάριστη ταινία.\nΑς γνωρίσουμε καλύτερα την Μητρική μας γλώσσα και τους θησαυρούς της.
URL:https://www.faroshelp.gr/event/%ce%bc%ce%ac%ce%b8%ce%b7%ce%bc%ce%b1-%ce%b5%ce%bb%ce%bb%ce%b7%ce%bd%ce%b9%ce%ba%cf%8e%ce%bd-3/
LOCATION:Zoom
CATEGORIES:Μάθημα Ελληνικών
END:VEVENT
BEGIN:VEVENT
DTSTART;TZID=Europe/Athens:20211128T183000
DTEND;TZID=Europe/Athens:20211128T213000
DTSTAMP:20260425T212458
CREATED:20211030T124042Z
LAST-MODIFIED:20211118T114143Z
UID:8901-1638124200-1638135000@www.faroshelp.gr
SUMMARY:Παλαιό εργαστήριο (κλειστό)
DESCRIPTION:….
URL:https://www.faroshelp.gr/event/%cf%80%ce%b1%ce%bb%ce%b1%ce%b9%cf%8c-%ce%b5%cf%81%ce%b3%ce%b1%cf%83%cf%84%ce%ae%cf%81%ce%b9%ce%bf-%ce%ba%ce%bb%ce%b5%ce%b9%cf%83%cf%84%cf%8c-2/
LOCATION:Zoom
END:VEVENT
BEGIN:VEVENT
DTSTART;TZID=Europe/Athens:20211127T190000
DTEND;TZID=Europe/Athens:20211127T200000
DTSTAMP:20260425T212458
CREATED:20211030T123943Z
LAST-MODIFIED:20211118T113933Z
UID:8899-1638039600-1638043200@www.faroshelp.gr
SUMMARY:Ομιλία Λήδας Παπαδοπούλου -Οι Αγωνιστές του 21' - Μέρος β'
DESCRIPTION:……
URL:https://www.faroshelp.gr/event/%ce%bf%ce%bc%ce%b9%ce%bb%ce%af%ce%b1-%ce%bb%ce%ae%ce%b4%ce%b1%cf%82-%cf%80%ce%b1%cf%80%ce%b1%ce%b4%ce%bf%cf%80%ce%bf%cf%8d%ce%bb%ce%bf%cf%85-%ce%bc%ce%ad%cf%81%ce%bf%cf%82-%ce%b2/
LOCATION:Zoom
END:VEVENT
BEGIN:VEVENT
DTSTART;TZID=Europe/Athens:20211124T183000
DTEND;TZID=Europe/Athens:20211124T213000
DTSTAMP:20260425T212458
CREATED:20211030T123812Z
LAST-MODIFIED:20211118T114022Z
UID:8897-1637778600-1637789400@www.faroshelp.gr
SUMMARY:Παλαιό εργαστήριο (κλειστό)
DESCRIPTION:…..
URL:https://www.faroshelp.gr/event/%cf%80%ce%b1%ce%bb%ce%b1%ce%b9%cf%8c-%ce%b5%cf%81%ce%b3%ce%b1%cf%83%cf%84%ce%ae%cf%81%ce%b9%ce%bf-%ce%ba%ce%bb%ce%b5%ce%b9%cf%83%cf%84%cf%8c/
LOCATION:Zoom
END:VEVENT
BEGIN:VEVENT
DTSTART;TZID=Europe/Athens:20211122T193000
DTEND;TZID=Europe/Athens:20211122T213000
DTSTAMP:20260425T212458
CREATED:20211030T122400Z
LAST-MODIFIED:20211030T122400Z
UID:8885-1637609400-1637616600@www.faroshelp.gr
SUMMARY:Μάθημα Ελληνικών
DESCRIPTION:Παραδίδονται αρχαία κείμενα\, τα οποία αναλύει σε βάθος η διδάσκουσα Αγγελική Κομποχόλη ταξιδεύοντας μας μέσα σε ιστορίες χαμένες στους αιώνες\, που είναι κατανοητές απ΄τον καθέναν μας. \nΔεν χρειάζεται προηγούμενη γνώση Αρχαίων Ελληνικών\, γιατί πέραν της ονομασίας αυτής καθεαυτής ως “μάθημα”\, πρόκειται για ένα ταξείδι σε άλλους χρόνους και τόπους\, καθώς με την μεταδοτικότητα της και την αγάπη της γι΄αυτό που λειτουργεί\, η διδάσκουσα προσφέρει γνώση πολύτιμη ως να ΄χεις παρακολουθήσει την πιο ευχάριστη ταινία.\nΑς γνωρίσουμε καλύτερα την Μητρική μας γλώσσα και τους θησαυρούς της.
URL:https://www.faroshelp.gr/event/%ce%bc%ce%ac%ce%b8%ce%b7%ce%bc%ce%b1-%ce%b5%ce%bb%ce%bb%ce%b7%ce%bd%ce%b9%ce%ba%cf%8e%ce%bd-2/
LOCATION:Zoom
END:VEVENT
BEGIN:VEVENT
DTSTART;TZID=Europe/Athens:20211121T183000
DTEND;TZID=Europe/Athens:20211121T210000
DTSTAMP:20260425T212458
CREATED:20211030T123659Z
LAST-MODIFIED:20211118T114254Z
UID:8895-1637519400-1637528400@www.faroshelp.gr
SUMMARY:Εργαστήριο Συνειδητής Επικοινωνίας (νέο & κλειστό)
DESCRIPTION:…..
URL:https://www.faroshelp.gr/event/%ce%b5%cf%81%ce%b3%ce%b1%cf%83%cf%84%ce%ae%cf%81%ce%b9%ce%bf-%cf%83%cf%85%ce%bd%ce%b5%ce%b9%ce%b4%ce%b7%cf%84%ce%ae%cf%82-%ce%b5%cf%80%ce%b9%ce%ba%ce%bf%ce%b9%ce%bd%cf%89%ce%bd%ce%af%ce%b1%cf%82/
LOCATION:Zoom
END:VEVENT
BEGIN:VEVENT
DTSTART;TZID=Europe/Athens:20211119T203000
DTEND;TZID=Europe/Athens:20211119T213000
DTSTAMP:20260425T212458
CREATED:20211030T123501Z
LAST-MODIFIED:20211030T123501Z
UID:8893-1637353800-1637357400@www.faroshelp.gr
SUMMARY:Πανσέληνος Δικαιοσύνης
DESCRIPTION:……..
URL:https://www.faroshelp.gr/event/%cf%80%ce%b1%ce%bd%cf%83%ce%ad%ce%bb%ce%b7%ce%bd%ce%bf%cf%82-%ce%b4%ce%b9%ce%ba%ce%b1%ce%b9%ce%bf%cf%83%cf%8d%ce%bd%ce%b7%cf%82/
LOCATION:Zoom
END:VEVENT
BEGIN:VEVENT
DTSTART;TZID=Europe/Athens:20211115T183000
DTEND;TZID=Europe/Athens:20211115T203000
DTSTAMP:20260425T212458
CREATED:20211030T123242Z
LAST-MODIFIED:20211030T123243Z
UID:8891-1637001000-1637008200@www.faroshelp.gr
SUMMARY:Ομαδική Θεραπεία - Χρήστος Μέρμηγκας
DESCRIPTION:Ομαδική Θεραπεία με την ενέργεια του Φωτός. Η διαδικασία είναι δυναμική και μπορεί να αποτελέσει το πρώτο βήμα της πλήρους αποθεραπείας. Μέσα στη σιωπή αφουγκραζόμαστε τους εαυτούς μας και η στήριξη της ομάδας μας βοηθάει να εντοπίσουμε και να φωτίσουμε τα όποια ζητήματα μας αφορούν.
URL:https://www.faroshelp.gr/event/%ce%bf%ce%bc%ce%b1%ce%b4%ce%b9%ce%ba%ce%ae-%ce%b8%ce%b5%cf%81%ce%b1%cf%80%ce%b5%ce%af%ce%b1-%cf%87%cf%81%ce%ae%cf%83%cf%84%ce%bf%cf%82-%ce%bc%ce%ad%cf%81%ce%bc%ce%b7%ce%b3%ce%ba%ce%b1%cf%82/
LOCATION:Γραφεία του Σωματείου\, Κοδριγκτώνος 11\, Αθήνα\, Αττικής
END:VEVENT
BEGIN:VEVENT
DTSTART;TZID=Europe/Athens:20211113T183000
DTEND;TZID=Europe/Athens:20211113T193000
DTSTAMP:20260425T212458
CREATED:20211030T122927Z
LAST-MODIFIED:20211030T122927Z
UID:8889-1636828200-1636831800@www.faroshelp.gr
SUMMARY:Συνάντηση επίλυσης ερωτήσεων για το εργαστήριο Συνειδητής Επικοινωνίας
DESCRIPTION:…….
URL:https://www.faroshelp.gr/event/%cf%83%cf%85%ce%bd%ce%ac%ce%bd%cf%84%ce%b7%cf%83%ce%b7-%ce%b5%cf%80%ce%af%ce%bb%cf%85%cf%83%ce%b7%cf%82-%ce%b5%cf%81%cf%89%cf%84%ce%ae%cf%83%ce%b5%cf%89%ce%bd-%ce%b3%ce%b9%ce%b1-%cf%84%ce%bf-%ce%b5/
LOCATION:Zoom
END:VEVENT
BEGIN:VEVENT
DTSTART;TZID=Europe/Athens:20211112T190000
DTEND;TZID=Europe/Athens:20211112T190000
DTSTAMP:20260425T212458
CREATED:20211030T122632Z
LAST-MODIFIED:20211030T124111Z
UID:8887-1636743600-1636743600@www.faroshelp.gr
SUMMARY:Ομιλία Λήδας Παπαδοπούλου - Οι Αγωνιστές του 21'- Μέρος α'
DESCRIPTION:…
URL:https://www.faroshelp.gr/event/%ce%bf%ce%bc%ce%b9%ce%bb%ce%af%ce%b1-%ce%bb%ce%ae%ce%b4%ce%b1%cf%82-%cf%80%ce%b1%cf%80%ce%b1%ce%b4%ce%bf%cf%80%ce%bf%cf%8d%ce%bb%ce%bf%cf%85-%ce%bf%ce%b9-%ce%b1%ce%b3%cf%89%ce%bd%ce%b9%cf%83%cf%84/
LOCATION:Zoom
END:VEVENT
BEGIN:VEVENT
DTSTART;TZID=Europe/Athens:20211108T193000
DTEND;TZID=Europe/Athens:20211108T213000
DTSTAMP:20260425T212458
CREATED:20211030T122321Z
LAST-MODIFIED:20211031T141645Z
UID:8881-1636399800-1636407000@www.faroshelp.gr
SUMMARY:Μάθημα Ελληνικών
DESCRIPTION:Παραδίδονται αρχαία κείμενα\, τα οποία αναλύει σε βάθος η διδάσκουσα Αγγελική Κομποχόλη ταξιδεύοντας μας μέσα σε ιστορίες χαμένες στους αιώνες\, που είναι κατανοητές απ΄τον καθέναν μας. \nΔεν χρειάζεται προηγούμενη γνώση Αρχαίων Ελληνικών\, γιατί πέραν της ονομασίας αυτής καθεαυτής ως “μάθημα”\, πρόκειται για ένα ταξείδι σε άλλους χρόνους και τόπους\, καθώς με την μεταδοτικότητα της και την αγάπη της γι΄αυτό που λειτουργεί\, η διδάσκουσα προσφέρει γνώση πολύτιμη ως να ΄χεις παρακολουθήσει την πιο ευχάριστη ταινία.\nΑς γνωρίσουμε καλύτερα την Μητρική μας γλώσσα και τους θησαυρούς της.
URL:https://www.faroshelp.gr/event/%ce%bc%ce%ac%ce%b8%ce%b7%ce%bc%ce%b1-%ce%b5%ce%bb%ce%bb%ce%b7%ce%bd%ce%b9%ce%ba%cf%8e%ce%bd/
LOCATION:Zoom
END:VEVENT
BEGIN:VEVENT
DTSTART;TZID=Europe/Athens:20211106T170000
DTEND;TZID=Europe/Athens:20211106T210000
DTSTAMP:20260425T212458
CREATED:20210430T114327Z
LAST-MODIFIED:20211030T121657Z
UID:8762-1636218000-1636232400@www.faroshelp.gr
SUMMARY:Εκλογές Αρχαιρεσιών Σωματείου
DESCRIPTION:Καλούνται τα μέλη του Σωματείου σε Γενική Συνέλευση Αρχαιρεσιών το Σάββατο 6 Νοεμβρίου 2021 και ώρα 17:00. \nΛόγω των γνωστών υγειονομικών μέτρων η Συνέλευση θα πραγματοποιηθεί διαδικτυακώς μέσω της πλατφόρμας τηλεδιασκέψεων Zoom\, με παρουσία στα γραφεία του Σωματείου\, στην οδό Κοδριγκτώνος 11\, έως 9 μελών\, εκ των οποίων θα εκλεγεί Πρόεδρος και Γραμματέας της Συνελεύσεως και Εφορευτική Επιτροπή των Αρχαιρεσιών. \nΗ διεξαγωγή της διαδικτυακής ψηφοφορίας έχει ανατεθεί στην πιστοποιημένη πλατφόρμα διεξαγωγής ασφαλών ψηφιακών εκλογών “electobox secure online voting” \nΠεριμένουμε να σας δούμε όλους για να εκλέξουμε το νέο μας Διοικητικό Συμβούλιο.
URL:https://www.faroshelp.gr/event/8762/
LOCATION:Γραφεία του Σωματείου\, Κοδριγκτώνος 11\, Αθήνα\, Αττικής
END:VEVENT
END:VCALENDAR