BEGIN:VCALENDAR
VERSION:2.0
PRODID:-//faroshelp.gr - ECPv6.15.20//NONSGML v1.0//EN
CALSCALE:GREGORIAN
METHOD:PUBLISH
X-WR-CALNAME:faroshelp.gr
X-ORIGINAL-URL:https://www.faroshelp.gr
X-WR-CALDESC:Events for faroshelp.gr
REFRESH-INTERVAL;VALUE=DURATION:PT1H
X-Robots-Tag:noindex
X-PUBLISHED-TTL:PT1H
BEGIN:VTIMEZONE
TZID:Europe/Athens
BEGIN:DAYLIGHT
TZOFFSETFROM:+0200
TZOFFSETTO:+0300
TZNAME:EEST
DTSTART:20200329T010000
END:DAYLIGHT
BEGIN:STANDARD
TZOFFSETFROM:+0300
TZOFFSETTO:+0200
TZNAME:EET
DTSTART:20201025T010000
END:STANDARD
BEGIN:DAYLIGHT
TZOFFSETFROM:+0200
TZOFFSETTO:+0300
TZNAME:EEST
DTSTART:20210328T010000
END:DAYLIGHT
BEGIN:STANDARD
TZOFFSETFROM:+0300
TZOFFSETTO:+0200
TZNAME:EET
DTSTART:20211031T010000
END:STANDARD
BEGIN:DAYLIGHT
TZOFFSETFROM:+0200
TZOFFSETTO:+0300
TZNAME:EEST
DTSTART:20220327T010000
END:DAYLIGHT
BEGIN:STANDARD
TZOFFSETFROM:+0300
TZOFFSETTO:+0200
TZNAME:EET
DTSTART:20221030T010000
END:STANDARD
END:VTIMEZONE
BEGIN:VEVENT
DTSTART;TZID=Europe/Athens:20211119T203000
DTEND;TZID=Europe/Athens:20211119T213000
DTSTAMP:20260425T224846
CREATED:20211030T123501Z
LAST-MODIFIED:20211030T123501Z
UID:8893-1637353800-1637357400@www.faroshelp.gr
SUMMARY:Πανσέληνος Δικαιοσύνης
DESCRIPTION:……..
URL:https://www.faroshelp.gr/event/%cf%80%ce%b1%ce%bd%cf%83%ce%ad%ce%bb%ce%b7%ce%bd%ce%bf%cf%82-%ce%b4%ce%b9%ce%ba%ce%b1%ce%b9%ce%bf%cf%83%cf%8d%ce%bd%ce%b7%cf%82/
LOCATION:Zoom
END:VEVENT
BEGIN:VEVENT
DTSTART;TZID=Europe/Athens:20211115T183000
DTEND;TZID=Europe/Athens:20211115T203000
DTSTAMP:20260425T224846
CREATED:20211030T123242Z
LAST-MODIFIED:20211030T123243Z
UID:8891-1637001000-1637008200@www.faroshelp.gr
SUMMARY:Ομαδική Θεραπεία - Χρήστος Μέρμηγκας
DESCRIPTION:Ομαδική Θεραπεία με την ενέργεια του Φωτός. Η διαδικασία είναι δυναμική και μπορεί να αποτελέσει το πρώτο βήμα της πλήρους αποθεραπείας. Μέσα στη σιωπή αφουγκραζόμαστε τους εαυτούς μας και η στήριξη της ομάδας μας βοηθάει να εντοπίσουμε και να φωτίσουμε τα όποια ζητήματα μας αφορούν.
URL:https://www.faroshelp.gr/event/%ce%bf%ce%bc%ce%b1%ce%b4%ce%b9%ce%ba%ce%ae-%ce%b8%ce%b5%cf%81%ce%b1%cf%80%ce%b5%ce%af%ce%b1-%cf%87%cf%81%ce%ae%cf%83%cf%84%ce%bf%cf%82-%ce%bc%ce%ad%cf%81%ce%bc%ce%b7%ce%b3%ce%ba%ce%b1%cf%82/
LOCATION:Γραφεία του Σωματείου\, Κοδριγκτώνος 11\, Αθήνα\, Αττικής
END:VEVENT
BEGIN:VEVENT
DTSTART;TZID=Europe/Athens:20211113T183000
DTEND;TZID=Europe/Athens:20211113T193000
DTSTAMP:20260425T224846
CREATED:20211030T122927Z
LAST-MODIFIED:20211030T122927Z
UID:8889-1636828200-1636831800@www.faroshelp.gr
SUMMARY:Συνάντηση επίλυσης ερωτήσεων για το εργαστήριο Συνειδητής Επικοινωνίας
DESCRIPTION:…….
URL:https://www.faroshelp.gr/event/%cf%83%cf%85%ce%bd%ce%ac%ce%bd%cf%84%ce%b7%cf%83%ce%b7-%ce%b5%cf%80%ce%af%ce%bb%cf%85%cf%83%ce%b7%cf%82-%ce%b5%cf%81%cf%89%cf%84%ce%ae%cf%83%ce%b5%cf%89%ce%bd-%ce%b3%ce%b9%ce%b1-%cf%84%ce%bf-%ce%b5/
LOCATION:Zoom
END:VEVENT
BEGIN:VEVENT
DTSTART;TZID=Europe/Athens:20211112T190000
DTEND;TZID=Europe/Athens:20211112T190000
DTSTAMP:20260425T224846
CREATED:20211030T122632Z
LAST-MODIFIED:20211030T124111Z
UID:8887-1636743600-1636743600@www.faroshelp.gr
SUMMARY:Ομιλία Λήδας Παπαδοπούλου - Οι Αγωνιστές του 21'- Μέρος α'
DESCRIPTION:…
URL:https://www.faroshelp.gr/event/%ce%bf%ce%bc%ce%b9%ce%bb%ce%af%ce%b1-%ce%bb%ce%ae%ce%b4%ce%b1%cf%82-%cf%80%ce%b1%cf%80%ce%b1%ce%b4%ce%bf%cf%80%ce%bf%cf%8d%ce%bb%ce%bf%cf%85-%ce%bf%ce%b9-%ce%b1%ce%b3%cf%89%ce%bd%ce%b9%cf%83%cf%84/
LOCATION:Zoom
END:VEVENT
BEGIN:VEVENT
DTSTART;TZID=Europe/Athens:20211108T193000
DTEND;TZID=Europe/Athens:20211108T213000
DTSTAMP:20260425T224846
CREATED:20211030T122321Z
LAST-MODIFIED:20211031T141645Z
UID:8881-1636399800-1636407000@www.faroshelp.gr
SUMMARY:Μάθημα Ελληνικών
DESCRIPTION:Παραδίδονται αρχαία κείμενα\, τα οποία αναλύει σε βάθος η διδάσκουσα Αγγελική Κομποχόλη ταξιδεύοντας μας μέσα σε ιστορίες χαμένες στους αιώνες\, που είναι κατανοητές απ΄τον καθέναν μας. \nΔεν χρειάζεται προηγούμενη γνώση Αρχαίων Ελληνικών\, γιατί πέραν της ονομασίας αυτής καθεαυτής ως “μάθημα”\, πρόκειται για ένα ταξείδι σε άλλους χρόνους και τόπους\, καθώς με την μεταδοτικότητα της και την αγάπη της γι΄αυτό που λειτουργεί\, η διδάσκουσα προσφέρει γνώση πολύτιμη ως να ΄χεις παρακολουθήσει την πιο ευχάριστη ταινία.\nΑς γνωρίσουμε καλύτερα την Μητρική μας γλώσσα και τους θησαυρούς της.
URL:https://www.faroshelp.gr/event/%ce%bc%ce%ac%ce%b8%ce%b7%ce%bc%ce%b1-%ce%b5%ce%bb%ce%bb%ce%b7%ce%bd%ce%b9%ce%ba%cf%8e%ce%bd/
LOCATION:Zoom
END:VEVENT
BEGIN:VEVENT
DTSTART;TZID=Europe/Athens:20211106T170000
DTEND;TZID=Europe/Athens:20211106T210000
DTSTAMP:20260425T224846
CREATED:20210430T114327Z
LAST-MODIFIED:20211030T121657Z
UID:8762-1636218000-1636232400@www.faroshelp.gr
SUMMARY:Εκλογές Αρχαιρεσιών Σωματείου
DESCRIPTION:Καλούνται τα μέλη του Σωματείου σε Γενική Συνέλευση Αρχαιρεσιών το Σάββατο 6 Νοεμβρίου 2021 και ώρα 17:00. \nΛόγω των γνωστών υγειονομικών μέτρων η Συνέλευση θα πραγματοποιηθεί διαδικτυακώς μέσω της πλατφόρμας τηλεδιασκέψεων Zoom\, με παρουσία στα γραφεία του Σωματείου\, στην οδό Κοδριγκτώνος 11\, έως 9 μελών\, εκ των οποίων θα εκλεγεί Πρόεδρος και Γραμματέας της Συνελεύσεως και Εφορευτική Επιτροπή των Αρχαιρεσιών. \nΗ διεξαγωγή της διαδικτυακής ψηφοφορίας έχει ανατεθεί στην πιστοποιημένη πλατφόρμα διεξαγωγής ασφαλών ψηφιακών εκλογών “electobox secure online voting” \nΠεριμένουμε να σας δούμε όλους για να εκλέξουμε το νέο μας Διοικητικό Συμβούλιο.
URL:https://www.faroshelp.gr/event/8762/
LOCATION:Γραφεία του Σωματείου\, Κοδριγκτώνος 11\, Αθήνα\, Αττικής
END:VEVENT
END:VCALENDAR