BEGIN:VCALENDAR
VERSION:2.0
PRODID:-//faroshelp.gr - ECPv6.15.20//NONSGML v1.0//EN
CALSCALE:GREGORIAN
METHOD:PUBLISH
X-WR-CALNAME:faroshelp.gr
X-ORIGINAL-URL:https://www.faroshelp.gr
X-WR-CALDESC:Events for faroshelp.gr
REFRESH-INTERVAL;VALUE=DURATION:PT1H
X-Robots-Tag:noindex
X-PUBLISHED-TTL:PT1H
BEGIN:VTIMEZONE
TZID:Europe/Athens
BEGIN:DAYLIGHT
TZOFFSETFROM:+0200
TZOFFSETTO:+0300
TZNAME:EEST
DTSTART:20250330T010000
END:DAYLIGHT
BEGIN:STANDARD
TZOFFSETFROM:+0300
TZOFFSETTO:+0200
TZNAME:EET
DTSTART:20251026T010000
END:STANDARD
BEGIN:DAYLIGHT
TZOFFSETFROM:+0200
TZOFFSETTO:+0300
TZNAME:EEST
DTSTART:20260329T010000
END:DAYLIGHT
BEGIN:STANDARD
TZOFFSETFROM:+0300
TZOFFSETTO:+0200
TZNAME:EET
DTSTART:20261025T010000
END:STANDARD
BEGIN:DAYLIGHT
TZOFFSETFROM:+0200
TZOFFSETTO:+0300
TZNAME:EEST
DTSTART:20270328T010000
END:DAYLIGHT
BEGIN:STANDARD
TZOFFSETFROM:+0300
TZOFFSETTO:+0200
TZNAME:EET
DTSTART:20271031T010000
END:STANDARD
END:VTIMEZONE
BEGIN:VEVENT
DTSTART;TZID=Europe/Athens:20260922T203000
DTEND;TZID=Europe/Athens:20260922T213000
DTSTAMP:20260424T182142
CREATED:20260404T130407Z
LAST-MODIFIED:20260404T130407Z
UID:11414-1790109000-1790112600@www.faroshelp.gr
SUMMARY:Συγκέντρωση-Διαλογισμός Φθινοπωρινής Ισημερίας
DESCRIPTION:ΕΝΑΡΞΗ 20:30\nΔηλώνετε εγκαίρως την συμμετοχή σας. \nΕΛΕΥΘΕΡΗ ΣΥΜΜΕΤΟΧΗ
URL:https://www.faroshelp.gr/event/%cf%83%cf%85%ce%b3%ce%ba%ce%ad%ce%bd%cf%84%cf%81%cf%89%cf%83%ce%b7-%ce%b4%ce%b9%ce%b1%ce%bb%ce%bf%ce%b3%ce%b9%cf%83%ce%bc%cf%8c%cf%82-%cf%86%ce%b8%ce%b9%ce%bd%ce%bf%cf%80%cf%89%cf%81%ce%b9%ce%bd-2/
END:VEVENT
BEGIN:VEVENT
DTSTART;TZID=Europe/Athens:20260926T203000
DTEND;TZID=Europe/Athens:20260926T220000
DTSTAMP:20260424T182142
CREATED:20260401T095637Z
LAST-MODIFIED:20260401T095637Z
UID:11361-1790454600-1790460000@www.faroshelp.gr
SUMMARY:Ομιλία & Διαλογισμός Πανσελήνου Αληθείας
DESCRIPTION:Zoom \nΕΝΑΡΞΗ 20:30 \nΔηλώνετε εγκαίρως την συμμετοχή σας. \nΓια περισσότερες πληροφορίες μπορείτε να στέλνετε μήνυμα στο faros.mko@gmail.com ή τηλεφωνικώς στο 6989648727 (Μελίνα)
URL:https://www.faroshelp.gr/event/%ce%bf%ce%bc%ce%b9%ce%bb%ce%af%ce%b1-%ce%b4%ce%b9%ce%b1%ce%bb%ce%bf%ce%b3%ce%b9%cf%83%ce%bc%cf%8c%cf%82-%cf%80%ce%b1%ce%bd%cf%83%ce%b5%ce%bb%ce%ae%ce%bd%ce%bf%cf%85-%ce%b1%ce%bb%ce%b7%ce%b8%ce%b5-2/
END:VEVENT
END:VCALENDAR