BEGIN:VCALENDAR
VERSION:2.0
PRODID:-//faroshelp.gr - ECPv6.15.20//NONSGML v1.0//EN
CALSCALE:GREGORIAN
METHOD:PUBLISH
X-WR-CALNAME:faroshelp.gr
X-ORIGINAL-URL:https://www.faroshelp.gr
X-WR-CALDESC:Events for faroshelp.gr
REFRESH-INTERVAL;VALUE=DURATION:PT1H
X-Robots-Tag:noindex
X-PUBLISHED-TTL:PT1H
BEGIN:VTIMEZONE
TZID:Europe/Athens
BEGIN:DAYLIGHT
TZOFFSETFROM:+0200
TZOFFSETTO:+0300
TZNAME:EEST
DTSTART:20230326T010000
END:DAYLIGHT
BEGIN:STANDARD
TZOFFSETFROM:+0300
TZOFFSETTO:+0200
TZNAME:EET
DTSTART:20231029T010000
END:STANDARD
BEGIN:DAYLIGHT
TZOFFSETFROM:+0200
TZOFFSETTO:+0300
TZNAME:EEST
DTSTART:20240331T010000
END:DAYLIGHT
BEGIN:STANDARD
TZOFFSETFROM:+0300
TZOFFSETTO:+0200
TZNAME:EET
DTSTART:20241027T010000
END:STANDARD
BEGIN:DAYLIGHT
TZOFFSETFROM:+0200
TZOFFSETTO:+0300
TZNAME:EEST
DTSTART:20250330T010000
END:DAYLIGHT
BEGIN:STANDARD
TZOFFSETFROM:+0300
TZOFFSETTO:+0200
TZNAME:EET
DTSTART:20251026T010000
END:STANDARD
END:VTIMEZONE
BEGIN:VEVENT
DTSTART;TZID=Europe/Athens:20240915T110000
DTEND;TZID=Europe/Athens:20240915T130000
DTSTAMP:20260425T145050
CREATED:20240913T141621Z
LAST-MODIFIED:20240913T141621Z
UID:10787-1726398000-1726405200@www.faroshelp.gr
SUMMARY:ΣΥΝΕΡΓΑΣΙΑ - ΠΡΟΣΚΛΗΣΗ ΓΙΑ ΤΟΝ ΟΡΑΜΑΤΙΣΜΟ ΓΙΑ ΤΗΝ ΕΛΛΑΔΑ - ΠΑ.ΔΙ.ΣΥ
DESCRIPTION:Πρόσκληση για συμμετοχή στον Οραματισμό για την Ελλάδα \, την Κύπρο και τον Ελληνισμό\, που γίνεται μέσω ζοομ την Κυριακή 15/09/2024. \nΓια να συμμετάσχετε\, να λάβετε τα στοιχεία σύνδεσης παρακαλούμε επικοινωνήστε με το ΠΑ.ΔΙ.ΣΥ\, \nΖαχαροπούλου Μαρία  697 2072326 \nΠαπακανέλλου Κωνσταντίνα 697 7208659 \nΜαυροπούλου Σοφία 697 8410904
URL:https://www.faroshelp.gr/event/%cf%83%cf%85%ce%bd%ce%b5%cf%81%ce%b3%ce%b1%cf%83%ce%b9%ce%b1-%cf%80%cf%81%ce%bf%cf%83%ce%ba%ce%bb%ce%b7%cf%83%ce%b7-%ce%b3%ce%b9%ce%b1-%cf%84%ce%bf%ce%bd-%ce%bf%cf%81%ce%b1%ce%bc%ce%b1%cf%84%ce%b9/
END:VEVENT
BEGIN:VEVENT
DTSTART;TZID=Europe/Athens:20240908T190000
DTEND;TZID=Europe/Athens:20240908T210000
DTSTAMP:20260425T145050
CREATED:20240817T114048Z
LAST-MODIFIED:20240817T114048Z
UID:10772-1725822000-1725829200@www.faroshelp.gr
SUMMARY:3ο Εργαστήριο Χάριτος – ΖΟΟΜ\, με την Πέγκυ Χριστοφή
DESCRIPTION:“Λόγῳ τῶν ἰδιαιτέρων συνθηκῶν τῆς τρέχουσας περιόδου\, ἡ συμμετοχή εἶναι ἀνοικτή γιά ὅλους\, εἴτε ἔχουν εἴτε δέν ἔχουν προηγούμενη ἐμπειρία «ἐπίσκεψης στό Πῦρ τῆς Χάριτος”. \nΌποιος παρακολουθήσει για πρώτη φορά αυτή την εργασία\, μπορεί αν θέλει να συμμετάσχει και στις δυο συναντήσεις\, με έκπτωση για την δεύτερη συμμετοχή. \nΈναρξη:19:00 / Μόνο διαδικτυακώς \nΣυνδέεστε εγκαίρως τουλάχιστον 5 λεοτά νωρίτερα. \nΓια περισσότερες πληροφορίες επικοινωνείστε με την γραμματεία.
URL:https://www.faroshelp.gr/event/3%ce%bf-%ce%b5%cf%81%ce%b3%ce%b1%cf%83%cf%84%ce%ae%cf%81%ce%b9%ce%bf-%cf%87%ce%ac%cf%81%ce%b9%cf%84%ce%bf%cf%82-%ce%b6%ce%bf%ce%bf%ce%bc-%ce%bc%ce%b5-%cf%84%ce%b7%ce%bd-%cf%80%ce%ad%ce%b3/
LOCATION:Zoom
END:VEVENT
BEGIN:VEVENT
DTSTART;TZID=Europe/Athens:20240904T190000
DTEND;TZID=Europe/Athens:20240904T190000
DTSTAMP:20260425T145050
CREATED:20240817T113836Z
LAST-MODIFIED:20240817T113836Z
UID:10766-1725476400-1725476400@www.faroshelp.gr
SUMMARY:2ο Εργαστήριο Χάριτος- ΔΙΑ ΖΩΣΗΣ\, με την Πέγκυ Χριστοφή
DESCRIPTION:“Λόγῳ τῶν ἰδιαιτέρων συνθηκῶν τῆς τρέχουσας περιόδου\, ἡ συμμετοχή εἶναι ἀνοικτή γιά ὅλους\, εἴτε ἔχουν εἴτε δέν ἔχουν προηγούμενη ἐμπειρία «ἐπίσκεψης στό Πῦρ τῆς Χάριτος”. \nΌποιος παρακολουθήσει για πρώτη φορά αυτή την εργασία\, μπορεί αν θέλει να συμμετάσχει και στις δυο συναντήσεις\, με έκπτωση για την δεύτερη συμμετοχή. \nΈναρξη:19:00 / Ώρα προσέλευσης: 18:30-19:45 \nΓια περισσότερες πληροφορίες επικοινωνείστε με την γραμματεία.
URL:https://www.faroshelp.gr/event/2%ce%bf-%ce%b5%cf%81%ce%b3%ce%b1%cf%83%cf%84%ce%ae%cf%81%ce%b9%ce%bf-%cf%87%ce%ac%cf%81%ce%b9%cf%84%ce%bf%cf%82-%ce%b4%ce%b9%ce%b1-%ce%b6%cf%89%cf%83%ce%b7%cf%83-%ce%bc%ce%b5-%cf%84%ce%b7%ce%bd/
LOCATION:Παράσχου Αχ. 59-61\, Παράσχου Αχ.\, Αθήνα\, Αττικής\, 11474\, Ελλάδα
END:VEVENT
BEGIN:VEVENT
DTSTART;TZID=Europe/Athens:20240821T190000
DTEND;TZID=Europe/Athens:20240821T210000
DTSTAMP:20260425T145050
CREATED:20240817T113806Z
LAST-MODIFIED:20240817T113806Z
UID:10765-1724266800-1724274000@www.faroshelp.gr
SUMMARY:1ο Εργαστήριο Χάριτος - ΖΟΟΜ\, με την Πέγκυ Χριστοφή
DESCRIPTION:“Λόγῳ τῶν ἰδιαιτέρων συνθηκῶν τῆς τρέχουσας περιόδου\, ἡ συμμετοχή εἶναι ἀνοικτή γιά ὅλους\, εἴτε ἔχουν εἴτε δέν ἔχουν προηγούμενη ἐμπειρία «ἐπίσκεψης στό Πῦρ τῆς Χάριτος”. \nΌποιος παρακολουθήσει για πρώτη φορά αυτή την εργασία\, μπορεί αν θέλει να συμμετάσχει και στις δυο συναντήσεις\, με έκπτωση για την δεύτερη συμμετοχή. \nΈναρξη:19:00 / Μόνο διαδικτυακώς \nΣυνδέεστε εγκαίρως τουλάχιστον 5 λεοτά νωρίτερα. \nΓια περισσότερες πληροφορίες επικοινωνείστε με την γραμματεία.
URL:https://www.faroshelp.gr/event/1%ce%bf-%ce%b5%cf%81%ce%b3%ce%b1%cf%83%cf%84%ce%ae%cf%81%ce%b9%ce%bf-%cf%87%ce%ac%cf%81%ce%b9%cf%84%ce%bf%cf%82-%ce%b6%ce%bf%ce%bf%ce%bc-%ce%bc%ce%b5-%cf%84%ce%b7%ce%bd-%cf%80%ce%ad%ce%b3%ce%ba/
LOCATION:Zoom
ATTACH;FMTTYPE=image/jpeg:https://www.faroshelp.gr/wp-content/uploads/2024/08/xaritos.jpg
END:VEVENT
BEGIN:VEVENT
DTSTART;TZID=Europe/Athens:20240819T203000
DTEND;TZID=Europe/Athens:20240819T213000
DTSTAMP:20260425T145050
CREATED:20240817T113032Z
LAST-MODIFIED:20240817T113116Z
UID:10760-1724099400-1724103000@www.faroshelp.gr
SUMMARY:πανσέληνος Χάριτος\, με την Π. Χριστοφή
DESCRIPTION:Για περισσότερες πληροφορίες επικοινωνείστε με την γραμματεία \n2103216803 \nΏρα ενάρξεως: 20:30 \nΠαρακαλούμε να συνδέεστε εγκαίρως
URL:https://www.faroshelp.gr/event/%cf%80%ce%b1%ce%bd%cf%83%ce%ad%ce%bb%ce%b7%ce%bd%ce%bf%cf%82-%cf%87%ce%ac%cf%81%ce%b9%cf%84%ce%bf%cf%82-%ce%bc%ce%b5-%cf%84%ce%b7%ce%bd-%cf%80-%cf%87%cf%81%ce%b9%cf%83%cf%84%ce%bf%cf%86%ce%ae/
LOCATION:Zoom
ATTACH;FMTTYPE=image/jpeg:https://www.faroshelp.gr/wp-content/uploads/2024/08/pans.jpg
END:VEVENT
BEGIN:VEVENT
DTSTART;TZID=Europe/Athens:20240808T190000
DTEND;TZID=Europe/Athens:20240808T190000
DTSTAMP:20260425T145050
CREATED:20240817T113915Z
LAST-MODIFIED:20240817T113915Z
UID:10767-1723143600-1723143600@www.faroshelp.gr
SUMMARY:3ο Εργαστήριο Χάριτος- ΖΟΟΜ\, με την Πέγκυ Χριστοφή
DESCRIPTION:“Λόγῳ τῶν ἰδιαιτέρων συνθηκῶν τῆς τρέχουσας περιόδου\, ἡ συμμετοχή εἶναι ἀνοικτή γιά ὅλους\, εἴτε ἔχουν εἴτε δέν ἔχουν προηγούμενη ἐμπειρία «ἐπίσκεψης στό Πῦρ τῆς Χάριτος”. \nΌποιος παρακολουθήσει για πρώτη φορά αυτή την εργασία\, μπορεί αν θέλει να συμμετάσχει και στις δυο συναντήσεις\, με έκπτωση για την δεύτερη συμμετοχή. \nΈναρξη:19:00 / Μόνο διαδικτυακώς \nΣυνδέεστε εγκαίρως τουλάχιστον 5 λεοτά νωρίτερα. \nΓια περισσότερες πληροφορίες επικοινωνείστε με την γραμματεία.
URL:https://www.faroshelp.gr/event/3%ce%bf-%ce%b5%cf%81%ce%b3%ce%b1%cf%83%cf%84%ce%ae%cf%81%ce%b9%ce%bf-%cf%87%ce%ac%cf%81%ce%b9%cf%84%ce%bf%cf%82-%ce%b6%ce%bf%ce%bf%ce%bc-%ce%bc%ce%b5-%cf%84%ce%b7%ce%bd-%cf%80%ce%ad%ce%b3%ce%ba/
LOCATION:Παράσχου Αχ. 59-61\, Παράσχου Αχ.\, Αθήνα\, Αττικής\, 11474\, Ελλάδα
END:VEVENT
BEGIN:VEVENT
DTSTART;TZID=Europe/Athens:20240729T190000
DTEND;TZID=Europe/Athens:20240729T210000
DTSTAMP:20260425T145050
CREATED:20240607T151029Z
LAST-MODIFIED:20240607T151029Z
UID:10750-1722279600-1722286800@www.faroshelp.gr
SUMMARY:παράδοση: Περί Μαγείας\, με την Π. Χριστοφή
DESCRIPTION:Προσεχώς περισσότερες πληροφορίες \nΈναρξη 19:00 \nμέσω Zoom \n 
URL:https://www.faroshelp.gr/event/%cf%80%ce%b1%cf%81%ce%ac%ce%b4%ce%bf%cf%83%ce%b7-%cf%80%ce%b5%cf%81%ce%af-%ce%bc%ce%b1%ce%b3%ce%b5%ce%af%ce%b1%cf%82-%ce%bc%ce%b5-%cf%84%ce%b7%ce%bd-%cf%80-%cf%87%cf%81%ce%b9%cf%83%cf%84%ce%bf/
LOCATION:Zoom
END:VEVENT
BEGIN:VEVENT
DTSTART;TZID=Europe/Athens:20240721T203000
DTEND;TZID=Europe/Athens:20240721T220000
DTSTAMP:20260425T145050
CREATED:20240607T150749Z
LAST-MODIFIED:20240607T150749Z
UID:10746-1721593800-1721599200@www.faroshelp.gr
SUMMARY:πανσέληνος Ελέους\, με την Π. Χριστοφή
DESCRIPTION:Για περισσότερες πληροφορίες επικοινωνείστε με την γραμματεία \n2103216803 \nΏρα ενάρξεως: 20:30 \nΠαρακαλούμε να συνδέεστε εγκαίρως
URL:https://www.faroshelp.gr/event/%cf%80%ce%b1%ce%bd%cf%83%ce%ad%ce%bb%ce%b7%ce%bd%ce%bf%cf%82-%ce%b5%ce%bb%ce%ad%ce%bf%cf%85%cf%82-%ce%bc%ce%b5-%cf%84%ce%b7%ce%bd-%cf%80-%cf%87%cf%81%ce%b9%cf%83%cf%84%ce%bf%cf%86%ce%ae/
LOCATION:Στον Φάρο έως 10 συμμετοχές & διαδικτυακώς
END:VEVENT
BEGIN:VEVENT
DTSTART;TZID=Europe/Athens:20240717T183000
DTEND;TZID=Europe/Athens:20240717T210000
DTSTAMP:20260425T145050
CREATED:20240607T150533Z
LAST-MODIFIED:20240607T150533Z
UID:10742-1721241000-1721250000@www.faroshelp.gr
SUMMARY:Εργαστήριο (παλαιός κύκλος) - Μέσω Zoom!
DESCRIPTION:
URL:https://www.faroshelp.gr/event/%ce%b5%cf%81%ce%b3%ce%b1%cf%83%cf%84%ce%ae%cf%81%ce%b9%ce%bf-%cf%80%ce%b1%ce%bb%ce%b1%ce%b9%cf%8c%cf%82-%ce%ba%cf%8d%ce%ba%ce%bb%ce%bf%cf%82-%ce%bc%ce%ad%cf%83%cf%89-zoom-24/
LOCATION:Διαδικτυακώς
END:VEVENT
BEGIN:VEVENT
DTSTART;TZID=Europe/Athens:20240626T190000
DTEND;TZID=Europe/Athens:20240626T210000
DTSTAMP:20260425T145050
CREATED:20240607T150936Z
LAST-MODIFIED:20240607T150936Z
UID:10749-1719428400-1719435600@www.faroshelp.gr
SUMMARY:παράδοση "Δομές: Ενεργειακή ταυτότητα"\, με την Π.Χριστοφή
DESCRIPTION:Προσεχώς περισσότερες πληροφορίες \nΈναρξη 19:00 \nμέσω Zoom \n 
URL:https://www.faroshelp.gr/event/%cf%80%ce%b1%cf%81%ce%ac%ce%b4%ce%bf%cf%83%ce%b7-%ce%b4%ce%bf%ce%bc%ce%ad%cf%82-%ce%b5%ce%bd%ce%b5%cf%81%ce%b3%ce%b5%ce%b9%ce%b1%ce%ba%ce%ae-%cf%84%ce%b1%cf%85%cf%84%cf%8c%cf%84%ce%b7%cf%84%ce%b1/
LOCATION:Zoom
END:VEVENT
BEGIN:VEVENT
DTSTART;TZID=Europe/Athens:20240622T203000
DTEND;TZID=Europe/Athens:20240622T220000
DTSTAMP:20260425T145050
CREATED:20240607T150712Z
LAST-MODIFIED:20240607T150712Z
UID:10745-1719088200-1719093600@www.faroshelp.gr
SUMMARY:πανσέληνος της Φωτίσεως\, με την Π. Χριστοφή
DESCRIPTION:Για περισσότερες πληροφορίες επικοινωνείστε με την γραμματεία \n2103216803 \nΏρα ενάρξεως: 20:30 \nΠαρακαλούμε να συνδέεστε εγκαίρως
URL:https://www.faroshelp.gr/event/%cf%80%ce%b1%ce%bd%cf%83%ce%ad%ce%bb%ce%b7%ce%bd%ce%bf%cf%82-%cf%84%ce%b7%cf%82-%cf%86%cf%89%cf%84%ce%af%cf%83%ce%b5%cf%89%cf%82-%ce%bc%ce%b5-%cf%84%ce%b7%ce%bd-%cf%80-%cf%87%cf%81%ce%b9%cf%83%cf%84/
LOCATION:Στον Φάρο έως 10 συμμετοχές & διαδικτυακώς
END:VEVENT
BEGIN:VEVENT
DTSTART;TZID=Europe/Athens:20240621T203000
DTEND;TZID=Europe/Athens:20240621T203000
DTSTAMP:20260425T145050
CREATED:20240607T151824Z
LAST-MODIFIED:20240607T151824Z
UID:10754-1719001800-1719001800@www.faroshelp.gr
SUMMARY:ΘΕΡΙΝΟ ΗΛΙΟΣΤΑΣΙΟ
DESCRIPTION:Θα σταλεί σχετική ενημέρωση.
URL:https://www.faroshelp.gr/event/%ce%b8%ce%b5%cf%81%ce%b9%ce%bd%ce%bf-%ce%b7%ce%bb%ce%b9%ce%bf%cf%83%cf%84%ce%b1%cf%83%ce%b9%ce%bf/
END:VEVENT
BEGIN:VEVENT
DTSTART;TZID=Europe/Athens:20240612T183000
DTEND;TZID=Europe/Athens:20240612T210000
DTSTAMP:20260425T145050
CREATED:20240607T150510Z
LAST-MODIFIED:20240607T150510Z
UID:10741-1718217000-1718226000@www.faroshelp.gr
SUMMARY:Εργαστήριο (παλαιός κύκλος) - Μέσω Zoom!
DESCRIPTION:
URL:https://www.faroshelp.gr/event/%ce%b5%cf%81%ce%b3%ce%b1%cf%83%cf%84%ce%ae%cf%81%ce%b9%ce%bf-%cf%80%ce%b1%ce%bb%ce%b1%ce%b9%cf%8c%cf%82-%ce%ba%cf%8d%ce%ba%ce%bb%ce%bf%cf%82-%ce%bc%ce%ad%cf%83%cf%89-zoom-23/
LOCATION:Διαδικτυακώς
END:VEVENT
BEGIN:VEVENT
DTSTART;TZID=Europe/Athens:20240602T190000
DTEND;TZID=Europe/Athens:20240602T210000
DTSTAMP:20260425T145050
CREATED:20240521T140726Z
LAST-MODIFIED:20240529T145924Z
UID:10725-1717354800-1717362000@www.faroshelp.gr
SUMMARY:παράδοση\, "Ἐνεργειακή ταυτότητα - Δομές"\, με την Π.Χριστοφή
DESCRIPTION:« … Ἀναφερόμενοι στήν Ἐνεργειακή Ταυτότητα ὅποιας δομῆς\, τό ἐνδιαφέρον μετατίθεται ἀπό τό γνωστό καί προφανές\, στό ἄδηλο\, στό ἀόρατο\, στό ἀδιάγνωστο\, στίς περιοχές ἐκεῖνες πού ἀποτελοῦν terra incognita γιά τούς περισσότερους ἀνθρώπους: στά αἰθερικά πεδία. \n   »Ὅσο ὅμως τεράστιο καί δυσπρόσιτο τό θέμα τοῦτο\, ἄλλο τόσο σπουδαῖο καί καθοριστικό… Ὅσο δύσκολο φαίνεται -καί εἶναι- ν’ἀλλάξετε τήν δική σας καί τῶν κοινωνικῶν σας δομῶν τίς ταυτότητες στό ἐκδηλωμένο\, τόσο ἁπλούστερο θ’ἀποδειχθεῖ νά διαφοροποιήσετε τά πάντα στά αἰθερικά πεδία. Ὄχι «εὔκολο»\, ἀλλά ἁπλό…» \nΈναρξη 19:00 \nμέσω Zoom
URL:https://www.faroshelp.gr/event/%cf%80%ce%b1%cf%81%ce%ac%ce%b4%ce%bf%cf%83%ce%b7-%cf%84%ce%bf-%ce%b8%ce%ad%ce%bc%ce%b1-%ce%b8%ce%b1-%ce%b1%ce%bd%ce%b1%ce%ba%ce%bf%ce%b9%ce%bd%cf%89%ce%b8%ce%b5%ce%af-%cf%83%cf%8d%ce%bd%cf%84%ce%bf-4/
LOCATION:Διαδικτυακώς
ATTACH;FMTTYPE=image/jpeg:https://www.faroshelp.gr/wp-content/uploads/2024/05/par_.jpg
END:VEVENT
BEGIN:VEVENT
DTSTART;TZID=Europe/Athens:20240526T190000
DTEND;TZID=Europe/Athens:20240526T210000
DTSTAMP:20260425T145050
CREATED:20240430T184559Z
LAST-MODIFIED:20240521T140538Z
UID:10717-1716750000-1716757200@www.faroshelp.gr
SUMMARY:ΑΝΑΒΑΛΛΕΤΑΙ! ΝΕΑ ΗΜΕΡΟΜΗΝΙΑ- ΚΥΡΙΑΚΗ 2 ΙΟΥΝΙΟΥ παράδοση (το θέμα θα ανακοινωθεί σύντομα)\, με την Π.Χριστοφή
DESCRIPTION:Προσεχώς περισσότερες πληροφορίες \nΈναρξη 19:00 \nμέσω Zoom \n 
URL:https://www.faroshelp.gr/event/%cf%80%ce%b1%cf%81%ce%ac%ce%b4%ce%bf%cf%83%ce%b7-%cf%84%ce%bf-%ce%b8%ce%ad%ce%bc%ce%b1-%ce%b8%ce%b1-%ce%b1%ce%bd%ce%b1%ce%ba%ce%bf%ce%b9%ce%bd%cf%89%ce%b8%ce%b5%ce%af-%cf%83%cf%8d%ce%bd%cf%84%ce%bf-3/
LOCATION:Zoom
END:VEVENT
BEGIN:VEVENT
DTSTART;TZID=Europe/Athens:20240523T203000
DTEND;TZID=Europe/Athens:20240523T220000
DTSTAMP:20260425T145050
CREATED:20240430T184443Z
LAST-MODIFIED:20240430T184443Z
UID:10718-1716496200-1716501600@www.faroshelp.gr
SUMMARY:πανσέληνος Ζωής\, με την Π. Χριστοφή
DESCRIPTION:Για περισσότερες πληροφορίες επικοινωνείστε με την γραμματεία \n2103216803 \nΏρα ενάρξεως: 20:30 \nΠαρακαλούμε να συνδέεστε εγκαίρως
URL:https://www.faroshelp.gr/event/%cf%80%ce%b1%ce%bd%cf%83%ce%ad%ce%bb%ce%b7%ce%bd%ce%bf%cf%82-%ce%b6%cf%89%ce%ae%cf%82-%ce%bc%ce%b5-%cf%84%ce%b7%ce%bd-%cf%80-%cf%87%cf%81%ce%b9%cf%83%cf%84%ce%bf%cf%86%ce%ae/
LOCATION:Στον Φάρο έως 10 συμμετοχές & διαδικτυακώς
END:VEVENT
BEGIN:VEVENT
DTSTART;TZID=Europe/Athens:20240518T183000
DTEND;TZID=Europe/Athens:20240518T210000
DTSTAMP:20260425T145050
CREATED:20240430T184330Z
LAST-MODIFIED:20240430T184330Z
UID:10716-1716057000-1716066000@www.faroshelp.gr
SUMMARY:Εργαστήριο (παλαιός κύκλος) - Μόνο δια ζώσης!
DESCRIPTION:
URL:https://www.faroshelp.gr/event/%ce%b5%cf%81%ce%b3%ce%b1%cf%83%cf%84%ce%ae%cf%81%ce%b9%ce%bf-%cf%80%ce%b1%ce%bb%ce%b1%ce%b9%cf%8c%cf%82-%ce%ba%cf%8d%ce%ba%ce%bb%ce%bf%cf%82-%ce%bc%cf%8c%ce%bd%ce%bf-%ce%b4%ce%b9%ce%b1-%ce%b6-21/
LOCATION:Παράσχου Αχ. 59-61\, Παράσχου Αχ.\, Αθήνα\, Αττικής\, 11474\, Ελλάδα
END:VEVENT
BEGIN:VEVENT
DTSTART;TZID=Europe/Athens:20240515T183000
DTEND;TZID=Europe/Athens:20240515T210000
DTSTAMP:20260425T145050
CREATED:20240430T184214Z
LAST-MODIFIED:20240430T184214Z
UID:10715-1715797800-1715806800@www.faroshelp.gr
SUMMARY:Εργαστήριο (παλαιός κύκλος) - Μέσω Zoom!
DESCRIPTION:
URL:https://www.faroshelp.gr/event/%ce%b5%cf%81%ce%b3%ce%b1%cf%83%cf%84%ce%ae%cf%81%ce%b9%ce%bf-%cf%80%ce%b1%ce%bb%ce%b1%ce%b9%cf%8c%cf%82-%ce%ba%cf%8d%ce%ba%ce%bb%ce%bf%cf%82-%ce%bc%ce%ad%cf%83%cf%89-zoom-22/
END:VEVENT
BEGIN:VEVENT
DTSTART;VALUE=DATE:20240505
DTEND;VALUE=DATE:20240506
DTSTAMP:20260425T145050
CREATED:20240430T183934Z
LAST-MODIFIED:20240430T183934Z
UID:10714-1714867200-1714953599@www.faroshelp.gr
SUMMARY:ΚΑΛΗΝ ΑΝΑΣΤΑΣΗΝ!
DESCRIPTION:
URL:https://www.faroshelp.gr/event/%ce%ba%ce%b1%ce%bb%ce%b7%ce%bd-%ce%b1%ce%bd%ce%b1%cf%83%cf%84%ce%b1%cf%83%ce%b7%ce%bd/
END:VEVENT
BEGIN:VEVENT
DTSTART;TZID=Europe/Athens:20240429T190000
DTEND;TZID=Europe/Athens:20240429T210000
DTSTAMP:20260425T145050
CREATED:20240402T160428Z
LAST-MODIFIED:20240430T183424Z
UID:10710-1714417200-1714424400@www.faroshelp.gr
SUMMARY:παράδοση: Η ενεργειακή ταυτότητα\, το ενεργειακό αποτύπωμα και η αθανασία\, με την Π.Χριστοφή
DESCRIPTION:Προσεχώς περισσότερες πληροφορίες \nΈναρξη 19:00 \nμέσω Zoom \n 
URL:https://www.faroshelp.gr/event/%cf%80%ce%b1%cf%81%ce%ac%ce%b4%ce%bf%cf%83%ce%b7-%cf%84%ce%bf-%ce%b8%ce%ad%ce%bc%ce%b1-%ce%b8%ce%b1-%ce%b1%ce%bd%ce%b1%ce%ba%ce%bf%ce%b9%ce%bd%cf%89%ce%b8%ce%b5%ce%af-%cf%83%cf%8d%ce%bd%cf%84%ce%bf-2/
LOCATION:Διαδικτυακώς
END:VEVENT
BEGIN:VEVENT
DTSTART;TZID=Europe/Athens:20240424T203000
DTEND;TZID=Europe/Athens:20240424T220000
DTSTAMP:20260425T145050
CREATED:20240402T160153Z
LAST-MODIFIED:20240402T160153Z
UID:10704-1713990600-1713996000@www.faroshelp.gr
SUMMARY:πανσέληνος Αναστάσεως\, με την Π. Χριστοφή
DESCRIPTION:Για περισσότερες πληροφορίες επικοινωνείστε με την γραμματεία \n2103216803 \nΏρα ενάρξεως: 20:30 \nΠαρακαλούμε να συνδέεστε εγκαίρως
URL:https://www.faroshelp.gr/event/%cf%80%ce%b1%ce%bd%cf%83%ce%ad%ce%bb%ce%b7%ce%bd%ce%bf%cf%82-%ce%b1%ce%bd%ce%b1%cf%83%cf%84%ce%ac%cf%83%ce%b5%cf%89%cf%82-%ce%bc%ce%b5-%cf%84%ce%b7%ce%bd-%cf%80-%cf%87%cf%81%ce%b9%cf%83%cf%84%ce%bf/
LOCATION:Στον Φάρο έως 10 συμμετοχές & διαδικτυακώς
END:VEVENT
BEGIN:VEVENT
DTSTART;TZID=Europe/Athens:20240417T183000
DTEND;TZID=Europe/Athens:20240417T210000
DTSTAMP:20260425T145050
CREATED:20240402T160241Z
LAST-MODIFIED:20240402T160241Z
UID:10706-1713378600-1713387600@www.faroshelp.gr
SUMMARY:Εργαστήριο (παλαιός κύκλος) - Μέσω Zoom!
DESCRIPTION:
URL:https://www.faroshelp.gr/event/%ce%b5%cf%81%ce%b3%ce%b1%cf%83%cf%84%ce%ae%cf%81%ce%b9%ce%bf-%cf%80%ce%b1%ce%bb%ce%b1%ce%b9%cf%8c%cf%82-%ce%ba%cf%8d%ce%ba%ce%bb%ce%bf%cf%82-%ce%bc%ce%ad%cf%83%cf%89-zoom-21/
LOCATION:Διαδικτυακώς
END:VEVENT
BEGIN:VEVENT
DTSTART;TZID=Europe/Athens:20240413T183000
DTEND;TZID=Europe/Athens:20240413T210000
DTSTAMP:20260425T145050
CREATED:20240402T160326Z
LAST-MODIFIED:20240402T160326Z
UID:10708-1713033000-1713042000@www.faroshelp.gr
SUMMARY:Εργαστήριο (παλαιός κύκλος) - Μόνο δια ζώσης!
DESCRIPTION:
URL:https://www.faroshelp.gr/event/%ce%b5%cf%81%ce%b3%ce%b1%cf%83%cf%84%ce%ae%cf%81%ce%b9%ce%bf-%cf%80%ce%b1%ce%bb%ce%b1%ce%b9%cf%8c%cf%82-%ce%ba%cf%8d%ce%ba%ce%bb%ce%bf%cf%82-%ce%bc%cf%8c%ce%bd%ce%bf-%ce%b4%ce%b9%ce%b1-%ce%b6-20/
LOCATION:Παράσχου Αχ. 59-61\, Παράσχου Αχ.\, Αθήνα\, Αττικής\, 11474\, Ελλάδα
END:VEVENT
BEGIN:VEVENT
DTSTART;TZID=Europe/Athens:20240406T190000
DTEND;TZID=Europe/Athens:20240406T210000
DTSTAMP:20260425T145050
CREATED:20240402T160012Z
LAST-MODIFIED:20240402T160012Z
UID:10702-1712430000-1712437200@www.faroshelp.gr
SUMMARY:Ας το σκεφθούμε καλύτερα- Παράδοση με την Π. Χριστοφή
DESCRIPTION:Ἄς τό σκεφθοῦμε καλύτερα! \nἘλεύθερη σκέψη – μέ ὁδηγό τήν Γλώσσα \nΚαλλιέργεια  Διακρίσεως \nἘπαναπροσέγγιση ἰδεῶν\, θεωριῶν\, πεποιθήσεων\, ἀποκατάσταση ἀρχετύπων \nΘεραπεία προσωπικοῦ καί συλλογικοῦ ὑποσυνειδήτου \n  \nΈναρξη 19:00 \nμέσω Zoom
URL:https://www.faroshelp.gr/event/%ce%b1%cf%82-%cf%84%ce%bf-%cf%83%ce%ba%ce%b5%cf%86%ce%b8%ce%bf%cf%8d%ce%bc%ce%b5-%ce%ba%ce%b1%ce%bb%cf%8d%cf%84%ce%b5%cf%81%ce%b1-%cf%80%ce%b1%cf%81%ce%ac%ce%b4%ce%bf%cf%83%ce%b7-%ce%bc%ce%b5-%cf%84/
LOCATION:Διαδικτυακώς
END:VEVENT
BEGIN:VEVENT
DTSTART;TZID=Europe/Athens:20240330T190000
DTEND;TZID=Europe/Athens:20240330T210000
DTSTAMP:20260425T145050
CREATED:20240312T220926Z
LAST-MODIFIED:20240521T140523Z
UID:10698-1711825200-1711832400@www.faroshelp.gr
SUMMARY:ΑΝΑΒΑΛΛΕΤΑΙ! ΝΕΑ ΗΜΕΡΟΜΗΝΙΑ- ΣΑΒΒΑΤΟ 6 ΑΠΡΙΛΙΟΥ παράδοση (το θέμα θα ανακοινωθεί σύντομα)\, με την Π.Χριστοφή
DESCRIPTION:Προσεχώς περισσότερες πληροφορίες \nΈναρξη 19:00 \nμέσω Zoom \n 
URL:https://www.faroshelp.gr/event/%cf%80%ce%b1%cf%81%ce%ac%ce%b4%ce%bf%cf%83%ce%b7-%cf%84%ce%bf-%ce%b8%ce%ad%ce%bc%ce%b1-%ce%b8%ce%b1-%ce%b1%ce%bd%ce%b1%ce%ba%ce%bf%ce%b9%ce%bd%cf%89%ce%b8%ce%b5%ce%af-%cf%83%cf%8d%ce%bd%cf%84%ce%bf/
LOCATION:Zoom
END:VEVENT
BEGIN:VEVENT
DTSTART;TZID=Europe/Athens:20240325T203000
DTEND;TZID=Europe/Athens:20240325T220000
DTSTAMP:20260425T145050
CREATED:20240312T220637Z
LAST-MODIFIED:20240312T220637Z
UID:10691-1711398600-1711404000@www.faroshelp.gr
SUMMARY:πανσέληνος της Ισορροπίας με την Π. Χριστοφή
DESCRIPTION:Για περισσότερες πληροφορίες επικοινωνείστε με την γραμματεία \n2103216803 \nΏρα ενάρξεως: 20:30 \nΠαρακαλούμε να συνδέεστε εγκαίρως
URL:https://www.faroshelp.gr/event/%cf%80%ce%b1%ce%bd%cf%83%ce%ad%ce%bb%ce%b7%ce%bd%ce%bf%cf%82-%cf%84%ce%b7%cf%82-%ce%b9%cf%83%ce%bf%cf%81%cf%81%ce%bf%cf%80%ce%af%ce%b1%cf%82-%ce%bc%ce%b5-%cf%84%ce%b7%ce%bd-%cf%80-%cf%87%cf%81%ce%b9/
LOCATION:Στον Φάρο & διαδικτυακώς
END:VEVENT
BEGIN:VEVENT
DTSTART;TZID=Europe/Athens:20240320T183000
DTEND;TZID=Europe/Athens:20240320T210000
DTSTAMP:20260425T145050
CREATED:20240312T220731Z
LAST-MODIFIED:20240312T220731Z
UID:10694-1710959400-1710968400@www.faroshelp.gr
SUMMARY:Εργαστήριο (παλαιός κύκλος) - Μέσω Zoom!
DESCRIPTION:
URL:https://www.faroshelp.gr/event/%ce%b5%cf%81%ce%b3%ce%b1%cf%83%cf%84%ce%ae%cf%81%ce%b9%ce%bf-%cf%80%ce%b1%ce%bb%ce%b1%ce%b9%cf%8c%cf%82-%ce%ba%cf%8d%ce%ba%ce%bb%ce%bf%cf%82-%ce%bc%ce%ad%cf%83%cf%89-zoom-20/
LOCATION:Zoom
END:VEVENT
BEGIN:VEVENT
DTSTART;TZID=Europe/Athens:20240316T183000
DTEND;TZID=Europe/Athens:20240316T210000
DTSTAMP:20260425T145050
CREATED:20240312T220810Z
LAST-MODIFIED:20240312T220826Z
UID:10696-1710613800-1710622800@www.faroshelp.gr
SUMMARY:Εργαστήριο (παλαιός κύκλος) - Μόνο δια ζώσης!
DESCRIPTION:
URL:https://www.faroshelp.gr/event/%ce%b5%cf%81%ce%b3%ce%b1%cf%83%cf%84%ce%ae%cf%81%ce%b9%ce%bf-%cf%80%ce%b1%ce%bb%ce%b1%ce%b9%cf%8c%cf%82-%ce%ba%cf%8d%ce%ba%ce%bb%ce%bf%cf%82-%ce%bc%cf%8c%ce%bd%ce%bf-%ce%b4%ce%b9%ce%b1-%ce%b6-19/
LOCATION:Παράσχου Αχ. 59-61\, Παράσχου Αχ.\, Αθήνα\, Αττικής\, 11474\, Ελλάδα
END:VEVENT
BEGIN:VEVENT
DTSTART;TZID=Europe/Athens:20240127T190000
DTEND;TZID=Europe/Athens:20240127T210000
DTSTAMP:20260425T145050
CREATED:20240112T133059Z
LAST-MODIFIED:20240112T133622Z
UID:10663-1706382000-1706389200@www.faroshelp.gr
SUMMARY:παράδοση (το θέμα θα ανακοινωθεί σύντομα)\, με την Π.Χριστοφή
DESCRIPTION:Προσεχώς περισσότερες πληροφορίες \nΈναρξη 19:00 \nμέσω Zoom \n 
URL:https://www.faroshelp.gr/event/%cf%80%ce%b1%ce%bd%cf%83%ce%ad%ce%bb%ce%b7%ce%bd%ce%bf%cf%82-%cf%84%ce%b7%cf%82-%ce%b1%ce%bd%ce%b1%cf%80%cf%84%cf%8d%ce%be%ce%b5%cf%89%cf%82-%ce%bc%ce%b5-%cf%84%ce%b7%ce%bd-%cf%80-%cf%87%cf%81%ce%b9/
LOCATION:Διαδικτυακώς
END:VEVENT
BEGIN:VEVENT
DTSTART;TZID=Europe/Athens:20240125T203000
DTEND;TZID=Europe/Athens:20240125T220000
DTSTAMP:20260425T145050
CREATED:20240112T133821Z
LAST-MODIFIED:20240112T133821Z
UID:10668-1706214600-1706220000@www.faroshelp.gr
SUMMARY:πανσέληνος της Αναπτύξεως με την Π. Χριστοφή
DESCRIPTION:Για περισσότερες πληροφορίες επικοινωνείστε με την γραμματεία \n2103216803 \nΏρα ενάρξεως: 20:30 \nΠαρακαλούμε να συνδέεστε εγκαίρως
URL:https://www.faroshelp.gr/event/%cf%80%ce%b1%ce%bd%cf%83%ce%ad%ce%bb%ce%b7%ce%bd%ce%bf%cf%82-%cf%84%ce%b7%cf%82-%ce%b1%ce%bd%ce%b1%cf%80%cf%84%cf%8d%ce%be%ce%b5%cf%89%cf%82-%ce%bc%ce%b5-%cf%84%ce%b7%ce%bd-%cf%80-%cf%87%cf%81%ce%b9-2/
LOCATION:Διαδικτυακώς
END:VEVENT
END:VCALENDAR