BEGIN:VCALENDAR
VERSION:2.0
PRODID:-//faroshelp.gr - ECPv6.15.20//NONSGML v1.0//EN
CALSCALE:GREGORIAN
METHOD:PUBLISH
X-WR-CALNAME:faroshelp.gr
X-ORIGINAL-URL:https://www.faroshelp.gr
X-WR-CALDESC:Events for faroshelp.gr
REFRESH-INTERVAL;VALUE=DURATION:PT1H
X-Robots-Tag:noindex
X-PUBLISHED-TTL:PT1H
BEGIN:VTIMEZONE
TZID:Europe/Athens
BEGIN:DAYLIGHT
TZOFFSETFROM:+0200
TZOFFSETTO:+0300
TZNAME:EEST
DTSTART:20250330T010000
END:DAYLIGHT
BEGIN:STANDARD
TZOFFSETFROM:+0300
TZOFFSETTO:+0200
TZNAME:EET
DTSTART:20251026T010000
END:STANDARD
BEGIN:DAYLIGHT
TZOFFSETFROM:+0200
TZOFFSETTO:+0300
TZNAME:EEST
DTSTART:20260329T010000
END:DAYLIGHT
BEGIN:STANDARD
TZOFFSETFROM:+0300
TZOFFSETTO:+0200
TZNAME:EET
DTSTART:20261025T010000
END:STANDARD
BEGIN:DAYLIGHT
TZOFFSETFROM:+0200
TZOFFSETTO:+0300
TZNAME:EEST
DTSTART:20270328T010000
END:DAYLIGHT
BEGIN:STANDARD
TZOFFSETFROM:+0300
TZOFFSETTO:+0200
TZNAME:EET
DTSTART:20271031T010000
END:STANDARD
END:VTIMEZONE
BEGIN:VEVENT
DTSTART;TZID=Europe/Athens:20260303T203000
DTEND;TZID=Europe/Athens:20260303T220000
DTSTAMP:20260424T093016
CREATED:20251018T111903Z
LAST-MODIFIED:20251018T111903Z
UID:11183-1772569800-1772575200@www.faroshelp.gr
SUMMARY:Ομιλία & Διαλογισμός Πανσελήνου Ισορροπίας
DESCRIPTION:Zoom \nΕΝΑΡΞΗ 20:30 \nΔηλώνετε εγκαίρως την συμμετοχή σας. \nΓια περισσότερες πληροφορίες μπορείτε να στέλνετε μήνυμα στο faros.mko@gmail.com ή τηλεφωνικώς στο 6989648727 (Μελίνα)
URL:https://www.faroshelp.gr/event/%ce%bf%ce%bc%ce%b9%ce%bb%ce%af%ce%b1-%ce%b4%ce%b9%ce%b1%ce%bb%ce%bf%ce%b3%ce%b9%cf%83%ce%bc%cf%8c%cf%82-%cf%80%ce%b1%ce%bd%cf%83%ce%b5%ce%bb%ce%ae%ce%bd%ce%bf%cf%85-%ce%b9%cf%83%ce%bf%cf%81%cf%81/
LOCATION:Διαδικτυακώς
END:VEVENT
BEGIN:VEVENT
DTSTART;TZID=Europe/Athens:20260319T203000
DTEND;TZID=Europe/Athens:20260319T213000
DTSTAMP:20260424T093016
CREATED:20251018T112659Z
LAST-MODIFIED:20251018T112659Z
UID:11195-1773952200-1773955800@www.faroshelp.gr
SUMMARY:ΕΛΕΥΘΕΡΗ ΣΥΜΜΕΤΟΧΗ - ΝΕΑ ΣΕΛΗΝΗ: ΔΙΑΛΟΓΙΣΤΙΚΗ ΠΡΑΞΗ ΑΦΙΕΡΩΜΕΝΗ ΣΤΑ ΠΑΙΔΙΑ ΤΟΥ ΑΝΘΡΩΠΟΥ
DESCRIPTION:ΓΙΑ ΝΑ ΛΑΒΕΤΕ ΤΑ ΣΤΟΙΧΕΙΑ ΣΥΝΔΕΣΕΩΣ\, ΜΕΣΩ ΖΟΟΜ:  ΣΤΕΙΛΕΤΕ mail στο ηλ. ταχυδρομείο faros.mko@gmail.com ή εγγραφείτε στο παρόν \nἈνταποκρινόμενοι στήν Ἀνάγκη\, κατά μέτρον καί δυνατότητα\, ἐνισχύουμε τόν  κύκλο Ὑπηρεσίας μας. Λειτουργοῦμε γιά τήν Ἑλλάδα\, γιά τόν λαό μας\, γιά τόν Ἄνθρωπο καί τήν Γαία\, στά Ἡλιοστάσια\, στίς Ἰσημερίες καί  στήν πανσέληνο. \nἈπό τόν Ὀκτώβριο 2024 καί κάθε μῆνα\, στήν Νέα Σελήνη\, καθιερώνουμε\nΔιαλογιστική πράξη ἀφιερωμένη στά παιδιά τοῦ λαοῦ μας\, στά παιδιά τοῦ Ἀνθρώπου. \nΓια περισσότερες πληροφορίες μπορείτε να στέλνετε μήνυμα στο faros.mko@gmail.com ή τηλεφωνικώς 6989648727 (Μελίνα)
URL:https://www.faroshelp.gr/event/%ce%b5%ce%bb%ce%b5%cf%85%ce%b8%ce%b5%cf%81%ce%b7-%cf%83%cf%85%ce%bc%ce%bc%ce%b5%cf%84%ce%bf%cf%87%ce%b7-%ce%bd%ce%b5%ce%b1-%cf%83%ce%b5%ce%bb%ce%b7%ce%bd%ce%b7-%ce%b4%ce%b9%ce%b1%ce%bb%ce%bf%ce%b3-10/
LOCATION:Διαδικτυακώς
END:VEVENT
BEGIN:VEVENT
DTSTART;TZID=Europe/Athens:20260320T203000
DTEND;TZID=Europe/Athens:20260320T220000
DTSTAMP:20260424T093016
CREATED:20251018T113111Z
LAST-MODIFIED:20251018T113111Z
UID:11204-1774038600-1774044000@www.faroshelp.gr
SUMMARY:ΕΑΡΙΝΗ ΙΣΗΜΕΡΙΑ 2026
DESCRIPTION:ΠΕΡΙΣΣΟΤΕΡΕΣ ΠΛΗΡΟΦΟΡΙΕΣ ΣΥΝΤΟΜΑ
URL:https://www.faroshelp.gr/event/%ce%b5%ce%b1%cf%81%ce%b9%ce%bd%ce%b7-%ce%b9%cf%83%ce%b7%ce%bc%ce%b5%cf%81%ce%b9%ce%b1-2026/
LOCATION:Διαδικτυακώς
END:VEVENT
BEGIN:VEVENT
DTSTART;TZID=Europe/Athens:20260322T190000
DTEND;TZID=Europe/Athens:20260322T210000
DTSTAMP:20260424T093016
CREATED:20251018T121305Z
LAST-MODIFIED:20251018T121537Z
UID:11229-1774206000-1774213200@www.faroshelp.gr
SUMMARY:6Η ΠΑΡΑΔΟΣΗ ΣΤΗΝ ΣΕΙΡΑ "ΑΠΟΤΥΠΩΜΑΤΑ\, Ο ΝΟΜΟΣ ΤΗΣ ΕΝΑΡΜΟΝΙΣΗΣ"\, με την συγγραφέα Πέγκυ Χριστοφή
DESCRIPTION:ΓΕΝΙΚΩΣ: \nΗ συμμετοχή σε μία μεμονωμένη παράδοση ΔΕΝ καθίσταται δυνατή\, ΑΝ ΠΡΟΗΓΟΥΜΕΝΩΣ ΔΕΝ έχετε παρακολουθήσει τις προηγηθείσες. \nΗ συμμετοχή σε μία μεμονωμένη παράδοση ΠΕΡΑΝ ΤΗΣ ΠΡΩΤΗΣ ΕΙΝΑΙ δυνατή\, ΜΟΝΟ ΓΙΑ ΕΚΕΙΝΟΥΣ ΠΟΥ ΕΧΟΥΝ ΗΔΗ ΠΑΡΑΚΟΛΟΥΘΗΣΕΙ το σεμινάριο Αποτυπωμάτων\, σε προηγούμενο χρόνο. \nΆν θέλετε να καλύψετε τυχόν κενά\, μπορείτε να προμηθευτείτε το βιβλίο της διδάσκουσας “Ο Νόμος της Εναρμόνισης: Αποτυπώματα”\, με κόστος 15€. \nΕπικοινωνία με την Μελίνα στο τηλέφωνο 6989648727 \n  \nΤρίτη συνάντηση: \nΚΥΡΙΑΚΗ 14 ΔΕΚΕΜΒΡΙΟΥ 2025  \nΕΝΑΡΞΗ: 19:00 ( διάρκεια 120’) \n  \nΈκτη συνάντηση: \nΚΥΡΙΑΚΗ 22 ΦΕΒΡΟΥΑΡΙΟΥ 2026  \nΕΝΑΡΞΗ: 19:00 ( διάρκεια 120’) \n  \nΟΙΚΟΝΟΜΙΚΗ ΕΝΗΜΕΡΩΣΗ: \nΗ συμμετοχή σε μία μεμονωμένη παράδοση οριζεται στο ποσό των 25 ευρώ. \nΕΝΗΜΕΡΩΣΗ ΑΠΟ ΤΗΝ ΓΡΑΜΜΑΤΕΙΑ: \nΓια να λαμβάνετε τις σχετικές ενημερώσεις\, για την εκάστοτε δράση παρακαλούμε να εγγραφείτε στο σημείο “ΕΠΙΚΟΙΝΩΝΙΑ” \nΚάτω δεξιά στο “Εγγραφείτε τώρα” (Ελέγχετε όλες τις κατηγορίες του ηλεκτρονικού σας ταχυδρομείο.). \nΤέλος\, μπορείτε να ενημερώνεστε ανα πάσα στιγμή για το μηνιαίο πρόγραμμα στην ιστοσελίδα. \nΓια περισσότερες πληροφορίες μπορείτε να στέλνετε μήνυμα στο faros.mko@gmail.com ή τηλεφωνικώς στο 6989648727 (Μελίνα)
URL:https://www.faroshelp.gr/event/6%ce%b7-%cf%80%ce%b1%cf%81%ce%b1%ce%b4%ce%bf%cf%83%ce%b7-%cf%83%cf%84%ce%b7%ce%bd-%cf%83%ce%b5%ce%b9%cf%81%ce%b1-%ce%b1%cf%80%ce%bf%cf%84%cf%85%cf%80%cf%89%ce%bc%ce%b1%cf%84%ce%b1-%ce%bf-%ce%bd/
LOCATION:Διαδικτυακώς
END:VEVENT
END:VCALENDAR