BEGIN:VCALENDAR
VERSION:2.0
PRODID:-//faroshelp.gr - ECPv6.15.20//NONSGML v1.0//EN
CALSCALE:GREGORIAN
METHOD:PUBLISH
X-WR-CALNAME:faroshelp.gr
X-ORIGINAL-URL:https://www.faroshelp.gr
X-WR-CALDESC:Events for faroshelp.gr
REFRESH-INTERVAL;VALUE=DURATION:PT1H
X-Robots-Tag:noindex
X-PUBLISHED-TTL:PT1H
BEGIN:VTIMEZONE
TZID:Europe/Athens
BEGIN:DAYLIGHT
TZOFFSETFROM:+0200
TZOFFSETTO:+0300
TZNAME:EEST
DTSTART:20250330T010000
END:DAYLIGHT
BEGIN:STANDARD
TZOFFSETFROM:+0300
TZOFFSETTO:+0200
TZNAME:EET
DTSTART:20251026T010000
END:STANDARD
BEGIN:DAYLIGHT
TZOFFSETFROM:+0200
TZOFFSETTO:+0300
TZNAME:EEST
DTSTART:20260329T010000
END:DAYLIGHT
BEGIN:STANDARD
TZOFFSETFROM:+0300
TZOFFSETTO:+0200
TZNAME:EET
DTSTART:20261025T010000
END:STANDARD
BEGIN:DAYLIGHT
TZOFFSETFROM:+0200
TZOFFSETTO:+0300
TZNAME:EEST
DTSTART:20270328T010000
END:DAYLIGHT
BEGIN:STANDARD
TZOFFSETFROM:+0300
TZOFFSETTO:+0200
TZNAME:EET
DTSTART:20271031T010000
END:STANDARD
END:VTIMEZONE
BEGIN:VEVENT
DTSTART;TZID=Europe/Athens:20260427T190000
DTEND;TZID=Europe/Athens:20260427T210000
DTSTAMP:20260424T080808
CREATED:20260404T124210Z
LAST-MODIFIED:20260404T131419Z
UID:11397-1777316400-1777323600@www.faroshelp.gr
SUMMARY:Σεμινάριο Εσωτερικής Φιλοσοφίας\, με την συγγραφέα Πέγκυ Χριστοφή [ο τίτλος θα ανακοινωθεί σύντομα
DESCRIPTION:(Σύντομα περισσότερες πληροφορίες) \nΟΙΚΟΝΟΜΙΚΗ ΕΝΗΜΕΡΩΣΗ: \nΗ συμμετοχή σε μία μεμονωμένη παράδοση οριζεται στο ποσό των 25 ευρώ. \nΕΝΗΜΕΡΩΣΗ ΑΠΟ ΤΗΝ ΓΡΑΜΜΑΤΕΙΑ: \nΓια να λαμβάνετε τις σχετικές ενημερώσεις\, για την εκάστοτε δράση παρακαλούμε να εγγραφείτε στο σημείο “ΕΠΙΚΟΙΝΩΝΙΑ” \nΚάτω δεξιά στο “Εγγραφείτε τώρα” (Ελέγχετε όλες τις κατηγορίες του ηλεκτρονικού σας ταχυδρομείο.). \nΤέλος\, μπορείτε να ενημερώνεστε ανα πάσα στιγμή για το μηνιαίο πρόγραμμα στην ιστοσελίδα. \nΓια περισσότερες πληροφορίες μπορείτε να στέλνετε μήνυμα στο faros.mko@gmail.com ή τηλεφωνικώς στο 6989648727 (Μελίνα)
URL:https://www.faroshelp.gr/event/%cf%83%ce%b5%ce%bc%ce%b9%ce%bd%ce%ac%cf%81%ce%b9%ce%bf-%ce%b5%cf%83%cf%89%cf%84%ce%b5%cf%81%ce%b9%ce%ba%ce%ae%cf%82-%cf%86%ce%b9%ce%bb%ce%bf%cf%83%ce%bf%cf%86%ce%af%ce%b1%cf%82-%ce%bc%ce%b5-%cf%84/
END:VEVENT
END:VCALENDAR